Workbook

Sheet PANEL DE CONTROL DISTRITAL
A1: INSTITUTO NACIONAL ELECTORAL SISTEMA DE GESTIÓN DE LA CALIDAD MICHOACÁN
AC2: Fecha de corte 31/12/2023 | AE2: Version 1
AE3: fecha de emisión: septiembre del 2023
A4: TABLERO DE CONTROL DISTRITAL DE PROCESOS SUSTANTIVOS DEL SISTEMA DE GESTIÓN DE LA CALIDAD 2023 -2024
A5: CAMPAÑA ANUAL INTENSA 2023_2024
A6: Número | B6: PROCESOS SUSTANTIVOS E INDICADORES | I6: % AVANCE REGISTRADO | K6: % AVANCE REGISTRADO | M6: % AVANCE REGISTRADO | O6: % AVANCE REGISTRADO | Q6: % AVANCE REGISTRADO | S6: % AVANCE REGISTRADO | U6: % AVANCE REGISTRADO | W6: % AVANCE REGISTRADO | Y6: % AVANCE REGISTRADO | AA6: % AVANCE REGISTRADO | AC6: % AVANCE REGISTRADO | AE6: % AVANCE REGISTRADO
B7: DESCRIPCIÓN | E7: MEDICIÓN
B8: Proceso | C8: Dueño de Proceso | D8: Indicador | E8: Cálculo | F8: Periodo | G8: Estimado | H8: Nominativo | I8: Distrito 01 | K8: Distrito 02 | M8: Distrito 03 | O8: Distrito 04 | Q8: Distrito 05 | S8: Distrito 06 | U8: Distrito 07 | W8: Distrito 08 | Y8: Distrito 09 | AA8: Distrito 10 | AC8: Distrito 11 | AE8: Estatal
A9: 1 | B9: ENTREVISTA | C9: Auxiliar de Atención Ciudadana | D9: Efectividad de la entrevista = | E9: (Número de trámites aplicados / (Número de fichas requisitadas - Notificaciones de improcedencia de trámite)) x 100 | F9: Semanal (remesa) | G9: 0.9 | H9: Número de trámites aplicados | I9: =AVERAGE('160151'!AA10:AA11,'160152'!AA10:AA11,'160153'!AA10:AA11) -> 0.99954581 | K9: =AVERAGE('160255'!AA10:AA11,'160256'!AA10:AA11,'160257'!AA10:AA11,'160258'!AA10:AA11) -> 1 | M9: =AVERAGE('160351'!AA10:AA11,'160352'!AA10:AA11,'160354'!AA10:AA11,'160355'!AA10:AA11) -> 1 | O9: =AVERAGE('160451'!AA10:AA11,'160455'!AA10:AA11,'160453'!AA10:AA11,'160454'!AA10:AA11) -> 1.0000356 | Q9: =AVERAGE('160551'!AA10:AA11,'160552'!AA10:AA11,'160553'!AA10:AA11,'160554'!AA10:AA11) -> 0.9988084 | S9: =AVERAGE('160651'!AA10:AA11,'160655'!AA10:AA11,'160656'!AA10:AA11,'160654'!AA10:AA11) -> 0.99993521 | U9: =AVERAGE('160751'!AA10:AA11,'160755'!AA10:AA11,'160753'!AA10:AA11,'160754'!AA10:AA11,'160756'!AA10:AA11) -> 0.99711902 | W9: =AVERAGE('160851'!AA10:AA11,'160852'!AA10:AA11) -> 0.98508725 | Y9: =AVERAGE('160951'!AA10:AA11,'160952'!AA10:AA11) -> 1 | AA9: =AVERAGE('161051'!AA10:AA11,'161052'!AA10:AA11) -> 0.9998101 | AC9: =AVERAGE('161151'!AA10:AA11,'161152'!AA10:AA11,'161153'!AA10:AA11,'161156'!AA10:AA11,'161155'!AA10:AA11) -> 1 | AE9: =AVERAGE(I9,K9,M9,O9,Q9,S9,U9,W9,Y9,AA9,AC9) -> 0.99821285
H10: Número de fichas requisitadas - Notificaciones de improcedencia de trámite
A12: 2 | B12: TRÁMITE | C12: Operador de Equipo Tecnológico | D12: Trámites exitosos efectivos= | E12: (Número de trámites exitosos / Número de trámites aplicados) x 100 | F12: Semanal (remesa) | G12: 0.9 | H12: Número de trámites exitosos | I12: =AVERAGE('160151'!AA13:AA14,'160152'!AA13:AA14,'160153'!AA13:AA14) -> 0.99244478 | K12: =AVERAGE('160255'!AA13:AA14,'160256'!AA13:AA14,'160257'!AA13:AA14,'160258'!AA13:AA14) -> 0.99255413 | M12: =AVERAGE('160351'!AA13:AA14,'160352'!AA13:AA14,'160354'!AA13:AA14,'160355'!AA13:AA14) -> 0.99045097 | O12: =AVERAGE('160451'!AA13:AA14,'160455'!AA13:AA14,'160453'!AA13:AA14,'160454'!AA13:AA14) -> 0.99322514 | Q12: =AVERAGE('160551'!AA13:AA14,'160552'!AA13:AA14,'160553'!AA13:AA14,'160554'!AA13:AA14) -> 0.98033038 | S12: =AVERAGE('160651'!AA13:AA14,'160655'!AA13:AA14,'160656'!AA13:AA14,'160654'!AA13:AA14) -> 0.96951238 | U12: =AVERAGE('160751'!AA13:AA14,'160755'!AA13:AA14,'160753'!AA13:AA14,'160754'!AA13:AA14,'160756'!AA13:AA14) -> 0.99322273 | W12: =AVERAGE('160851'!AA13:AA14,'160852'!AA13:AA14) -> 0.9919473 | Y12: =AVERAGE('160951'!AA13:AA14,'160952'!AA13:AA14) -> 0.97689097 | AA12: =AVERAGE('161051'!AA13:AA14,'161052'!AA13:AA14) -> 0.98094261 | AC12: =AVERAGE('161151'!AA13:AA14,'161152'!AA13:AA14,'161153'!AA13:AA14,'161156'!AA13:AA14,'161155'!AA13:AA14) -> 0.97423117 | AE12: =AVERAGE(I12,K12,M12,O12,Q12,S12,U12,W12,Y12,AA12,AC12) -> 0.98506841
H13: Número de trámites aplicados
A15: 3 | B15: TRANSFERENCIA | C15: Responsable de Módulo | D15: Transacciones exitosas = | E15: (Número de Archivos de Transacción aceptados /Total de Archivos de Transacción procesados) x100 | F15: Semanal (remesa) | G15: 0.9 | H15: Número de Archivos de Transacción aceptados | I15: =AVERAGE('160151'!AA16:AA17,'160152'!AA16:AA17,'160153'!AA16:AA17) -> 1 | K15: =AVERAGE('160255'!AA16:AA17,'160256'!AA16:AA17,'160257'!AA16:AA17,'160258'!AA16:AA17) -> 0.99990792 | M15: =AVERAGE('160351'!AA16:AA17,'160352'!AA16:AA17,'160354'!AA16:AA17,'160355'!AA16:AA17) -> 1 | O15: =AVERAGE('160451'!AA16:AA17,'160455'!AA16:AA17,'160453'!AA16:AA17,'160454'!AA16:AA17) -> 0.99992468 | Q15: =AVERAGE('160551'!AA16:AA17,'160552'!AA16:AA17,'160553'!AA16:AA17,'160554'!AA16:AA17) -> 0.99941389 | S15: =AVERAGE('160651'!AA16:AA17,'160655'!AA16:AA17,'160656'!AA16:AA17,'160654'!AA16:AA17) -> 0.99899884 | U15: =AVERAGE('160751'!AA16:AA17,'160755'!AA16:AA17,'160753'!AA16:AA17,'160754'!AA16:AA17,'160756'!AA16:AA17) -> 1 | W15: =AVERAGE('160851'!AA16:AA17,'160852'!AA16:AA17) -> 0.99994104 | Y15: =AVERAGE('160951'!AA16:AA17,'160952'!AA16:AA17) -> 1 | AA15: =AVERAGE('161051'!AA16:AA17,'161052'!AA16:AA17) -> 1 | AC15: =AVERAGE('161151'!AA16:AA17,'161152'!AA16:AA17,'161153'!AA16:AA17,'161156'!AA16:AA17,'161155'!AA16:AA17) -> 0.96469075 | AE15: =AVERAGE(I15,K15,M15,O15,Q15,S15,U15,W15,Y15,AA15,AC15) -> 0.99662519
H16: Total de Archivos de Transacción procesados
A18: 4 | B18: CONCILIACIÓN | C18: Responsable de Módulo | D18: Credenciales disponibles para entrega = | E18: ((Credenciales recibidas - Credenciales inconsistentes) / Credenciales recibidas) x 100 | F18: Semanal (remesa) | G18: 0.9 | H18: Credenciales Recibidas - Credenciales inconsistentes | I18: =AVERAGE('160151'!AA19:AA20,'160152'!AA19:AA20,'160153'!AA19:AA20) -> 1 | K18: =AVERAGE('160255'!AA19:AA20,'160256'!AA19:AA20,'160257'!AA19:AA20,'160258'!AA19:AA20) -> 0.9997173 | M18: =AVERAGE('160351'!AA19:AA20,'160352'!AA19:AA20,'160354'!AA19:AA20,'160355'!AA19:AA20) -> 1 | O18: =AVERAGE('160451'!AA19:AA20,'160455'!AA19:AA20,'160453'!AA19:AA20,'160454'!AA19:AA20) -> 1 | Q18: =AVERAGE('160551'!AA19:AA20,'160552'!AA19:AA20,'160553'!AA19:AA20,'160554'!AA19:AA20) -> 1 | S18: =AVERAGE('160651'!AA19:AA20,'160655'!AA19:AA20,'160656'!AA19:AA20,'160654'!AA19:AA20) -> 1 | U18: =AVERAGE('160751'!AA19:AA20,'160755'!AA19:AA20,'160753'!AA19:AA20,'160754'!AA19:AA20,'160756'!AA19:AA20) -> 1 | W18: =AVERAGE('160851'!AA19:AA20,'160852'!AA19:AA20) -> 0.99996833 | Y18: =AVERAGE('160951'!AA19:AA20,'160952'!AA19:AA20) -> 1 | AA18: =AVERAGE('161051'!AA19:AA20,'161052'!AA19:AA20) -> 1 | AC18: =AVERAGE('161151'!AA19:AA20,'161152'!AA19:AA20,'161153'!AA19:AA20,'161156'!AA19:AA20,'161155'!AA19:AA20) -> 1 | AE18: =AVERAGE(I18,K18,M18,O18,Q18,S18,U18,W18,Y18,AA18,AC18) -> 0.99997142
H19: Credenciales recibidas
A21: 5 | B21: CONCILIACIÓN | C21: Responsable de Módulo | D21: Credenciales disponibles para entrega = | E21: (Credenciales en resguardo / Credenciales totales en SIIRFE disponibles para entrega) x 100 | F21: Semanal (remesa) | G21: 1 | H21: Credenciales en resguardo | I21: =AVERAGE('160151'!AA22:AA23,'160152'!AA22:AA23,'160153'!AA22:AA23) -> 1 | K21: =AVERAGE('160255'!AA22:AA23,'160256'!AA22:AA23,'160257'!AA22:AA23,'160258'!AA22:AA23) -> 1 | M21: =AVERAGE('160351'!AA22:AA23,'160352'!AA22:AA23,'160354'!AA22:AA23,'160355'!AA22:AA23) -> 1 | O21: =AVERAGE('160451'!AA22:AA23,'160455'!AA22:AA23,'160453'!AA22:AA23,'160454'!AA22:AA23) -> 1 | Q21: =AVERAGE('160551'!AA22:AA23,'160552'!AA22:AA23,'160553'!AA22:AA23,'160554'!AA22:AA23) -> 1 | S21: =AVERAGE('160651'!AA22:AA23,'160655'!AA22:AA23,'160656'!AA22:AA23,'160654'!AA22:AA23) -> 1 | U21: =AVERAGE('160751'!AA22:AA23,'160755'!AA22:AA23,'160753'!AA22:AA23,'160754'!AA22:AA23,'160756'!AA22:AA23) -> 1 | W21: =AVERAGE('160851'!AA22:AA23,'160852'!AA22:AA23) -> 1.0000551 | Y21: =AVERAGE('160951'!AA22:AA23,'160952'!AA22:AA23) -> 1 | AA21: =AVERAGE('161051'!AA22:AA23,'161052'!AA22:AA23) -> 1 | AC21: =AVERAGE('161151'!AA22:AA23,'161152'!AA22:AA23,'161153'!AA22:AA23,'161156'!AA22:AA23,'161155'!AA22:AA23) -> 1 | AE21: =AVERAGE(I21,K21,M21,O21,Q21,S21,U21,W21,Y21,AA21,AC21) -> 1.000005
H22: Credenciales totales en SIIRFE disponibles para entrega
A24: 6 | B24: ENTREGA | C24: Operador de Equipo Tecnológico | D24: Efectividad de entrega de CPV en MAC = | E24: (Total de credenciales entregadas / Total de credenciales solicitadas) x 100 | F24: Semanal (remesa) | G24: 0.9 | H24: Total de credenciales entregadas | I24: =AVERAGE('160151'!AA25:AA26,'160152'!AA25:AA26,'160153'!AA25:AA26) -> 0.99958245 | K24: =AVERAGE('160255'!AA25:AA26,'160256'!AA25:AA26,'160257'!AA25:AA26,'160258'!AA25:AA26) -> 1 | M24: =AVERAGE('160351'!AA25:AA26,'160352'!AA25:AA26,'160354'!AA25:AA26,'160355'!AA25:AA26) -> 1 | O24: =AVERAGE('160451'!AA25:AA26,'160455'!AA25:AA26,'160453'!AA25:AA26,'160454'!AA25:AA26) -> 0.99796417 | Q24: =AVERAGE('160551'!AA25:AA26,'160552'!AA25:AA26,'160553'!AA25:AA26,'160554'!AA25:AA26) -> 1 | S24: =AVERAGE('160651'!AA25:AA26,'160655'!AA25:AA26,'160656'!AA25:AA26,'160654'!AA25:AA26) -> 0.99940116 | U24: =AVERAGE('160751'!AA25:AA26,'160755'!AA25:AA26,'160753'!AA25:AA26,'160754'!AA25:AA26,'160756'!AA25:AA26) -> 1 | W24: =AVERAGE('160851'!AA25:AA26,'160852'!AA25:AA26) -> 0.99283325 | Y24: =AVERAGE('160951'!AA25:AA26,'160952'!AA25:AA26) -> 1 | AA24: =AVERAGE('161051'!AA25:AA26,'161052'!AA25:AA26) -> 1 | AC24: =AVERAGE('161151'!AA25:AA26,'161152'!AA25:AA26,'161153'!AA25:AA26,'161156'!AA25:AA26,'161155'!AA25:AA26) -> 0.99745465 | AE24: =AVERAGE(I24,K24,M24,O24,Q24,S24,U24,W24,Y24,AA24,AC24) -> 0.99883961
H25: Total de credenciales solicitadas

Sheet 160151
A1: ='PANEL DE CONTROL DISTRITAL'!A1:Q1 -> INSTITUTO NACIONAL ELECTORAL SISTEMA DE GESTIÓN DE LA CALIDAD MICHOACÁN
D2: Distrito | E2: 1 | F2: Módulo | H2: 160151 | W2: ='PANEL DE CONTROL DISTRITAL'!AC2 -> Fecha de corte 31/12/2023
A4: TABLERO DE CONTROL DISTRITAL DE PROCESOS SUSTANTIVOS DEL SISTEMA DE GESTIÓN DE LA CALIDAD 2023 -2024
A6: ='PANEL DE CONTROL DISTRITAL'!A6 -> Número | B6: ='PANEL DE CONTROL DISTRITAL'!B6 -> PROCESOS SUSTANTIVOS E INDICADORES | I6: SEMANA OPERATIVA | AA6: % AVANCE REGISTRADO
B7: ='PANEL DE CONTROL DISTRITAL'!B7 -> DESCRIPCIÓN | E7: ='PANEL DE CONTROL DISTRITAL'!E7 -> MEDICIÓN | I7: ='PANEL DE CONTROL DISTRITAL'!A5 -> CAMPAÑA ANUAL INTENSA 2023_2024
B9: ='PANEL DE CONTROL DISTRITAL'!B8 -> Proceso | C9: ='PANEL DE CONTROL DISTRITAL'!C8 -> Dueño de Proceso | D9: ='PANEL DE CONTROL DISTRITAL'!D8 -> Indicador | E9: ='PANEL DE CONTROL DISTRITAL'!E8 -> Cálculo | F9: ='PANEL DE CONTROL DISTRITAL'!F8 -> Periodo | G9: ='PANEL DE CONTROL DISTRITAL'!G8 -> Estimado | H9: ='PANEL DE CONTROL DISTRITAL'!H8 -> Nominativo | I9: 2023-37 | J9: 2023-38 | K9: 2023-39 | L9: 2023-40 | M9: 2023-41 | N9: 2023-42 | O9: 2023-43 | P9: 2023-44 | Q9: 2023-45 | R9: 2023-46 | S9: 2023-47 | T9: 2023-48 | U9: 2023-49 | V9: 2023-50 | W9: 2023-51 | X9: 2023-52 | Y9: 2023-53 | Z9: 2023-54
A10: ='PANEL DE CONTROL DISTRITAL'!A9 -> 1 | B10: ='PANEL DE CONTROL DISTRITAL'!B9 -> ENTREVISTA | C10: ='PANEL DE CONTROL DISTRITAL'!C9 -> Auxiliar de Atención Ciudadana | D10: ='PANEL DE CONTROL DISTRITAL'!D9 -> Efectividad de la entrevista = | E10: ='PANEL DE CONTROL DISTRITAL'!E9 -> (Número de trámites aplicados / (Número de fichas requisitadas - Notificaciones de improcedencia de trámite)) x 100 | F10: ='PANEL DE CONTROL DISTRITAL'!F9 -> Semanal (remesa) | G10: ='PANEL DE CONTROL DISTRITAL'!G9 -> 0.9 | H10: ='PANEL DE CONTROL DISTRITAL'!H9 -> Número de trámites aplicados | I10: 85 | J10: 427 | K10: 421 | L10: 482 | M10: 443 | N10: 413 | O10: 361 | P10: 476 | Q10: 469 | R10: 340 | S10: 505 | T10: 503 | U10: 421 | V10: 591 | W10: 591 | X10: 544 | Y10: 568 | Z10: 422 | AA10: =IFERROR(SUM(I10:Z10)/SUM(I11:Z11),0) -> 0.99863743
H11: ='PANEL DE CONTROL DISTRITAL'!H10 -> Número de fichas requisitadas - Notificaciones de improcedencia de trámite | I11: 85 | J11: 427 | K11: 421 | L11: 482 | M11: 443 | N11: 413 | O11: 362 | P11: 476 | Q11: 470 | R11: 340 | S11: 505 | T11: 503 | U11: 421 | V11: 595 | W11: 593 | X11: 544 | Y11: 571 | Z11: 422
A13: ='PANEL DE CONTROL DISTRITAL'!A12 -> 2 | B13: ='PANEL DE CONTROL DISTRITAL'!B12 -> TRÁMITE | C13: ='PANEL DE CONTROL DISTRITAL'!C12 -> Operador de Equipo Tecnológico | D13: ='PANEL DE CONTROL DISTRITAL'!D12 -> Trámites exitosos efectivos= | E13: ='PANEL DE CONTROL DISTRITAL'!E12 -> (Número de trámites exitosos / Número de trámites aplicados) x 100 | F13: ='PANEL DE CONTROL DISTRITAL'!F12 -> Semanal (remesa) | G13: ='PANEL DE CONTROL DISTRITAL'!G12 -> 0.9 | H13: ='PANEL DE CONTROL DISTRITAL'!H12 -> Número de trámites exitosos | I13: 85 | J13: 424 | K13: 420 | L13: 480 | M13: 438 | N13: 413 | O13: 356 | P13: 474 | Q13: 467 | R13: 339 | S13: 503 | T13: 501 | U13: 416 | V13: 589 | W13: 587 | X13: 539 | Y13: 565 | Z13: 414 | AA13: =IFERROR(SUM(I13:Z13)/SUM(I14:Z14),0) -> 0.99354999
H14: ='PANEL DE CONTROL DISTRITAL'!H13 -> Número de trámites aplicados | I14: 85 | J14: 427 | K14: 421 | L14: 482 | M14: 443 | N14: 413 | O14: 361 | P14: 476 | Q14: 469 | R14: 340 | S14: 505 | T14: 503 | U14: 421 | V14: 591 | W14: 591 | X14: 544 | Y14: 568 | Z14: 422
A16: ='PANEL DE CONTROL DISTRITAL'!A15 -> 3 | B16: ='PANEL DE CONTROL DISTRITAL'!B15 -> TRANSFERENCIA | C16: ='PANEL DE CONTROL DISTRITAL'!C15 -> Responsable de Módulo | D16: ='PANEL DE CONTROL DISTRITAL'!D15 -> Transacciones exitosas = | E16: ='PANEL DE CONTROL DISTRITAL'!E15 -> (Número de Archivos de Transacción aceptados /Total de Archivos de Transacción procesados) x100 | F16: ='PANEL DE CONTROL DISTRITAL'!F15 -> Semanal (remesa) | G16: ='PANEL DE CONTROL DISTRITAL'!G15 -> 0.9 | H16: ='PANEL DE CONTROL DISTRITAL'!H15 -> Número de Archivos de Transacción aceptados | I16: 85 | J16: 427 | K16: 421 | L16: 482 | M16: 443 | N16: 413 | O16: 361 | P16: 476 | Q16: 469 | R16: 340 | S16: 505 | T16: 503 | U16: 421 | V16: 591 | W16: 591 | X16: 544 | Y16: 568 | Z16: 422 | AA16: =IFERROR(SUM(I16:Z16)/SUM(I17:Z17),0) -> 1
H17: ='PANEL DE CONTROL DISTRITAL'!H16 -> Total de Archivos de Transacción procesados | I17: 85 | J17: 427 | K17: 421 | L17: 482 | M17: 443 | N17: 413 | O17: 361 | P17: 476 | Q17: 469 | R17: 340 | S17: 505 | T17: 503 | U17: 421 | V17: 591 | W17: 591 | X17: 544 | Y17: 568 | Z17: 422
A19: ='PANEL DE CONTROL DISTRITAL'!A18 -> 4 | B19: ='PANEL DE CONTROL DISTRITAL'!B18 -> CONCILIACIÓN | C19: ='PANEL DE CONTROL DISTRITAL'!C18 -> Responsable de Módulo | D19: ='PANEL DE CONTROL DISTRITAL'!D18 -> Credenciales disponibles para entrega = | E19: ='PANEL DE CONTROL DISTRITAL'!E18 -> ((Credenciales recibidas - Credenciales inconsistentes) / Credenciales recibidas) x 100 | F19: ='PANEL DE CONTROL DISTRITAL'!F18 -> Semanal (remesa) | G19: ='PANEL DE CONTROL DISTRITAL'!G18 -> 0.9 | H19: ='PANEL DE CONTROL DISTRITAL'!H18 -> Credenciales Recibidas - Credenciales inconsistentes | I19: 94 | J19: 471 | K19: 260 | L19: 614 | M19: 454 | N19: 440 | O19: 440 | P19: 443 | Q19: 475 | R19: 370 | S19: 461 | T19: 494 | U19: 383 | V19: 471 | W19: 737 | X19: 526 | Y19: 350 | Z19: 268 | AA19: =IFERROR(SUM(I19:Z19)/SUM(I20:Z20),0) -> 1
H20: ='PANEL DE CONTROL DISTRITAL'!H19 -> Credenciales recibidas | I20: 94 | J20: 471 | K20: 260 | L20: 614 | M20: 454 | N20: 440 | O20: 440 | P20: 443 | Q20: 475 | R20: 370 | S20: 461 | T20: 494 | U20: 383 | V20: 471 | W20: 737 | X20: 526 | Y20: 350 | Z20: 268
A22: ='PANEL DE CONTROL DISTRITAL'!A21 -> 5 | B22: ='PANEL DE CONTROL DISTRITAL'!B21 -> CONCILIACIÓN | C22: ='PANEL DE CONTROL DISTRITAL'!C21 -> Responsable de Módulo | D22: ='PANEL DE CONTROL DISTRITAL'!D21 -> Credenciales disponibles para entrega = | E22: ='PANEL DE CONTROL DISTRITAL'!E21 -> (Credenciales en resguardo / Credenciales totales en SIIRFE disponibles para entrega) x 100 | F22: ='PANEL DE CONTROL DISTRITAL'!F21 -> Semanal (remesa) | G22: ='PANEL DE CONTROL DISTRITAL'!G21 -> 1 | H22: ='PANEL DE CONTROL DISTRITAL'!H21 -> Credenciales en resguardo | I22: 818 | J22: 721 | K22: 560 | L22: 730 | M22: 729 | N22: 623 | O22: 685 | P22: 763 | Q22: 814 | R22: 838 | S22: 788 | T22: 843 | U22: 780 | V22: 833 | W22: 976 | X22: 904 | Y22: 700 | Z22: 466 | AA22: =IFERROR(SUM(I22:Z22)/SUM(I23:Z23),0) -> 1
H23: ='PANEL DE CONTROL DISTRITAL'!H22 -> Credenciales totales en SIIRFE disponibles para entrega | I23: 818 | J23: 721 | K23: 560 | L23: 730 | M23: 729 | N23: 623 | O23: 685 | P23: 763 | Q23: 814 | R23: 838 | S23: 788 | T23: 843 | U23: 780 | V23: 833 | W23: 976 | X23: 904 | Y23: 700 | Z23: 466
A25: ='PANEL DE CONTROL DISTRITAL'!A24 -> 6 | B25: ='PANEL DE CONTROL DISTRITAL'!B24 -> ENTREGA | C25: ='PANEL DE CONTROL DISTRITAL'!C24 -> Operador de Equipo Tecnológico | D25: ='PANEL DE CONTROL DISTRITAL'!D24 -> Efectividad de entrega de CPV en MAC = | E25: ='PANEL DE CONTROL DISTRITAL'!E24 -> (Total de credenciales entregadas / Total de credenciales solicitadas) x 100 | F25: ='PANEL DE CONTROL DISTRITAL'!F24 -> Semanal (remesa) | G25: ='PANEL DE CONTROL DISTRITAL'!G24 -> 0.9 | H25: ='PANEL DE CONTROL DISTRITAL'!H24 -> Total de credenciales entregadas | I25: 90 | J25: 468 | K25: 408 | L25: 444 | M25: 455 | N25: 540 | O25: 378 | P25: 365 | Q25: 424 | R25: 346 | S25: 507 | T25: 439 | U25: 446 | V25: 418 | W25: 591 | X25: 598 | Y25: 554 | Z25: 502 | AA25: =IFERROR(SUM(I25:Z25)/SUM(I26:Z26),0) -> 0.99874734
H26: ='PANEL DE CONTROL DISTRITAL'!H25 -> Total de credenciales solicitadas | I26: 90 | J26: 469 | K26: 408 | L26: 446 | M26: 455 | N26: 541 | O26: 379 | P26: 366 | Q26: 427 | R26: 346 | S26: 507 | T26: 439 | U26: 446 | V26: 419 | W26: 591 | X26: 598 | Y26: 554 | Z26: 502
B27: *Registre el valor nominal solicitado en la celda, el resultado proporcional esta automatizado.
I29: Semaforización
J30: Valor que requiere atención y justificación en el apartado de observaciones
J31: Valor suficiente
J32: Valor esperado
B34: CUADRO DE OBSERVACIONES
B35: Descripción | H35: No conformidad

Sheet 160152
A1: ='PANEL DE CONTROL DISTRITAL'!A1:Q1 -> INSTITUTO NACIONAL ELECTORAL SISTEMA DE GESTIÓN DE LA CALIDAD MICHOACÁN
D2: Distrito | E2: 1 | F2: Módulo | H2: 160152 | W2: ='PANEL DE CONTROL DISTRITAL'!AC2 -> Fecha de corte 31/12/2023
A4: TABLERO DE CONTROL DISTRITAL DE PROCESOS SUSTANTIVOS DEL SISTEMA DE GESTIÓN DE LA CALIDAD 2023 -2024
A6: ='PANEL DE CONTROL DISTRITAL'!A6 -> Número | B6: ='PANEL DE CONTROL DISTRITAL'!B6 -> PROCESOS SUSTANTIVOS E INDICADORES | I6: SEMANA OPERATIVA | AA6: % AVANCE REGISTRADO
B7: ='PANEL DE CONTROL DISTRITAL'!B7 -> DESCRIPCIÓN | E7: ='PANEL DE CONTROL DISTRITAL'!E7 -> MEDICIÓN | I7: ='PANEL DE CONTROL DISTRITAL'!A5 -> CAMPAÑA ANUAL INTENSA 2023_2024
B9: ='PANEL DE CONTROL DISTRITAL'!B8 -> Proceso | C9: ='PANEL DE CONTROL DISTRITAL'!C8 -> Dueño de Proceso | D9: ='PANEL DE CONTROL DISTRITAL'!D8 -> Indicador | E9: ='PANEL DE CONTROL DISTRITAL'!E8 -> Cálculo | F9: ='PANEL DE CONTROL DISTRITAL'!F8 -> Periodo | G9: ='PANEL DE CONTROL DISTRITAL'!G8 -> Estimado | H9: ='PANEL DE CONTROL DISTRITAL'!H8 -> Nominativo | I9: ='160151'!I9 -> 2023-37 | J9: ='160151'!J9 -> 2023-38 | K9: ='160151'!K9 -> 2023-39 | L9: ='160151'!L9 -> 2023-40 | M9: ='160151'!M9 -> 2023-41 | N9: ='160151'!N9 -> 2023-42 | O9: ='160151'!O9 -> 2023-43 | P9: ='160151'!P9 -> 2023-44 | ... Z9: ='160151'!Z9 -> 2023-54
A10: ='PANEL DE CONTROL DISTRITAL'!A9 -> 1 | B10: ='PANEL DE CONTROL DISTRITAL'!B9 -> ENTREVISTA | C10: ='PANEL DE CONTROL DISTRITAL'!C9 -> Auxiliar de Atención Ciudadana | D10: ='PANEL DE CONTROL DISTRITAL'!D9 -> Efectividad de la entrevista = | E10: ='PANEL DE CONTROL DISTRITAL'!E9 -> (Número de trámites aplicados / (Número de fichas requisitadas - Notificaciones de improcedencia de trámite)) x 100 | F10: ='PANEL DE CONTROL DISTRITAL'!F9 -> Semanal (remesa) | G10: ='PANEL DE CONTROL DISTRITAL'!G9 -> 0.9 | H10: ='PANEL DE CONTROL DISTRITAL'!H9 -> Número de trámites aplicados | I10: 30 | J10: 76 | K10: 66 | L10: 265 | M10: 307 | N10: 132 | O10: 108 | P10: 162 | Q10: 177 | R10: 66 | S10: 117 | T10: 260 | U10: 104 | V10: 154 | W10: 223 | X10: 166 | Y10: 148 | Z10: 102 | AA10: =IFERROR(SUM(I10:Z10)/SUM(I11:Z11),0) -> 1
H11: ='PANEL DE CONTROL DISTRITAL'!H10 -> Número de fichas requisitadas - Notificaciones de improcedencia de trámite | I11: 30 | J11: 76 | K11: 66 | L11: 265 | M11: 307 | N11: 132 | O11: 108 | P11: 162 | Q11: 177 | R11: 66 | S11: 117 | T11: 260 | U11: 104 | V11: 154 | W11: 223 | X11: 166 | Y11: 148 | Z11: 102
A13: ='PANEL DE CONTROL DISTRITAL'!A12 -> 2 | B13: ='PANEL DE CONTROL DISTRITAL'!B12 -> TRÁMITE | C13: ='PANEL DE CONTROL DISTRITAL'!C12 -> Operador de Equipo Tecnológico | D13: ='PANEL DE CONTROL DISTRITAL'!D12 -> Trámites exitosos efectivos= | E13: ='PANEL DE CONTROL DISTRITAL'!E12 -> (Número de trámites exitosos / Número de trámites aplicados) x 100 | F13: ='PANEL DE CONTROL DISTRITAL'!F12 -> Semanal (remesa) | G13: ='PANEL DE CONTROL DISTRITAL'!G12 -> 0.9 | H13: ='PANEL DE CONTROL DISTRITAL'!H12 -> Número de trámites exitosos | I13: 30 | J13: 75 | K13: 64 | L13: 264 | M13: 306 | N13: 130 | O13: 107 | P13: 161 | Q13: 173 | R13: 66 | S13: 115 | T13: 258 | U13: 104 | V13: 152 | W13: 223 | X13: 166 | Y13: 145 | Z13: 100 | AA13: =IFERROR(SUM(I13:Z13)/SUM(I14:Z14),0) -> 0.99098761
H14: ='PANEL DE CONTROL DISTRITAL'!H13 -> Número de trámites aplicados | I14: 30 | J14: 76 | K14: 66 | L14: 265 | M14: 307 | N14: 132 | O14: 108 | P14: 162 | Q14: 177 | R14: 66 | S14: 117 | T14: 260 | U14: 104 | V14: 154 | W14: 223 | X14: 166 | Y14: 148 | Z14: 102
A16: ='PANEL DE CONTROL DISTRITAL'!A15 -> 3 | B16: ='PANEL DE CONTROL DISTRITAL'!B15 -> TRANSFERENCIA | C16: ='PANEL DE CONTROL DISTRITAL'!C15 -> Responsable de Módulo | D16: ='PANEL DE CONTROL DISTRITAL'!D15 -> Transacciones exitosas = | E16: ='PANEL DE CONTROL DISTRITAL'!E15 -> (Número de Archivos de Transacción aceptados /Total de Archivos de Transacción procesados) x100 | F16: ='PANEL DE CONTROL DISTRITAL'!F15 -> Semanal (remesa) | G16: ='PANEL DE CONTROL DISTRITAL'!G15 -> 0.9 | H16: ='PANEL DE CONTROL DISTRITAL'!H15 -> Número de Archivos de Transacción aceptados | I16: 30 | J16: 76 | K16: 66 | L16: 265 | M16: 307 | N16: 132 | O16: 108 | P16: 162 | Q16: 177 | R16: 66 | S16: 117 | T16: 260 | U16: 104 | V16: 154 | W16: 223 | X16: 166 | Y16: 148 | Z16: 102 | AA16: =IFERROR(SUM(I16:Z16)/SUM(I17:Z17),0) -> 1
H17: ='PANEL DE CONTROL DISTRITAL'!H16 -> Total de Archivos de Transacción procesados | I17: 30 | J17: 76 | K17: 66 | L17: 265 | M17: 307 | N17: 132 | O17: 108 | P17: 162 | Q17: 177 | R17: 66 | S17: 117 | T17: 260 | U17: 104 | V17: 154 | W17: 223 | X17: 166 | Y17: 148 | Z17: 102
A19: ='PANEL DE CONTROL DISTRITAL'!A18 -> 4 | B19: ='PANEL DE CONTROL DISTRITAL'!B18 -> CONCILIACIÓN | C19: ='PANEL DE CONTROL DISTRITAL'!C18 -> Responsable de Módulo | D19: ='PANEL DE CONTROL DISTRITAL'!D18 -> Credenciales disponibles para entrega = | E19: ='PANEL DE CONTROL DISTRITAL'!E18 -> ((Credenciales recibidas - Credenciales inconsistentes) / Credenciales recibidas) x 100 | F19: ='PANEL DE CONTROL DISTRITAL'!F18 -> Semanal (remesa) | G19: ='PANEL DE CONTROL DISTRITAL'!G18 -> 0.9 | H19: ='PANEL DE CONTROL DISTRITAL'!H18 -> Credenciales Recibidas - Credenciales inconsistentes | I19: 174 | J19: 72 | K19: 103 | L19: 148 | M19: 277 | N19: 220 | O19: 149 | P19: 150 | Q19: 157 | R19: 107 | S19: 84 | T19: 219 | U19: 162 | V19: 114 | W19: 250 | X19: 143 | Y19: 101 | Z19: 72 | AA19: =IFERROR(SUM(I19:Z19)/SUM(I20:Z20),0) -> 1
H20: ='PANEL DE CONTROL DISTRITAL'!H19 -> Credenciales recibidas | I20: 174 | J20: 72 | K20: 103 | L20: 148 | M20: 277 | N20: 220 | O20: 149 | P20: 150 | Q20: 157 | R20: 107 | S20: 84 | T20: 219 | U20: 162 | V20: 114 | W20: 250 | X20: 143 | Y20: 101 | Z20: 72
A22: ='PANEL DE CONTROL DISTRITAL'!A21 -> 5 | B22: ='PANEL DE CONTROL DISTRITAL'!B21 -> CONCILIACIÓN | C22: ='PANEL DE CONTROL DISTRITAL'!C21 -> Responsable de Módulo | D22: ='PANEL DE CONTROL DISTRITAL'!D21 -> Credenciales disponibles para entrega = | E22: ='PANEL DE CONTROL DISTRITAL'!E21 -> (Credenciales en resguardo / Credenciales totales en SIIRFE disponibles para entrega) x 100 | F22: ='PANEL DE CONTROL DISTRITAL'!F21 -> Semanal (remesa) | G22: ='PANEL DE CONTROL DISTRITAL'!G21 -> 1 | H22: ='PANEL DE CONTROL DISTRITAL'!H21 -> Credenciales en resguardo | I22: 595 | J22: 643 | K22: 604 | L22: 655 | M22: 783 | N22: 817 | O22: 893 | P22: 737 | Q22: 554 | R22: 548 | S22: 450 | T22: 468 | U22: 550 | V22: 551 | W22: 578 | X22: 534 | Y22: 396 | Z22: 259 | AA22: =IFERROR(SUM(I22:Z22)/SUM(I23:Z23),0) -> 1
H23: ='PANEL DE CONTROL DISTRITAL'!H22 -> Credenciales totales en SIIRFE disponibles para entrega | I23: 595 | J23: 643 | K23: 604 | L23: 655 | M23: 783 | N23: 817 | O23: 893 | P23: 737 | Q23: 554 | R23: 548 | S23: 450 | T23: 468 | U23: 550 | V23: 551 | W23: 578 | X23: 534 | Y23: 396 | Z23: 259
A25: ='PANEL DE CONTROL DISTRITAL'!A24 -> 6 | B25: ='PANEL DE CONTROL DISTRITAL'!B24 -> ENTREGA | C25: ='PANEL DE CONTROL DISTRITAL'!C24 -> Operador de Equipo Tecnológico | D25: ='PANEL DE CONTROL DISTRITAL'!D24 -> Efectividad de entrega de CPV en MAC = | E25: ='PANEL DE CONTROL DISTRITAL'!E24 -> (Total de credenciales entregadas / Total de credenciales solicitadas) x 100 | F25: ='PANEL DE CONTROL DISTRITAL'!F24 -> Semanal (remesa) | G25: ='PANEL DE CONTROL DISTRITAL'!G24 -> 0.9 | H25: ='PANEL DE CONTROL DISTRITAL'!H24 -> Total de credenciales entregadas | I25: 0 | J25: 23 | K25: 133 | L25: 97 | M25: 149 | N25: 186 | O25: 73 | P25: 306 | Q25: 340 | R25: 113 | S25: 180 | T25: 201 | U25: 80 | V25: 113 | W25: 222 | X25: 187 | Y25: 239 | Z25: 209 | AA25: =IFERROR(SUM(I25:Z25)/SUM(I26:Z26),0) -> 1
H26: ='PANEL DE CONTROL DISTRITAL'!H25 -> Total de credenciales solicitadas | I26: 0 | J26: 23 | K26: 133 | L26: 97 | M26: 149 | N26: 186 | O26: 73 | P26: 306 | Q26: 340 | R26: 113 | S26: 180 | T26: 201 | U26: 80 | V26: 113 | W26: 222 | X26: 187 | Y26: 239 | Z26: 209
B27: *Registre el valor nominal solicitado en la celda, el resultado proporcional esta automatizado.
I29: Semaforización
J30: Valor que requiere atención y justificación en el apartado de observaciones
J31: Valor suficiente
J32: Valor esperado
B34: CUADRO DE OBSERVACIONES
B35: Descripción | H35: No conformidad

Sheet 160153
A1: ='PANEL DE CONTROL DISTRITAL'!A1:Q1 -> INSTITUTO NACIONAL ELECTORAL SISTEMA DE GESTIÓN DE LA CALIDAD MICHOACÁN
D2: Distrito | E2: 1 | F2: Módulo | H2: 160153 | W2: ='PANEL DE CONTROL DISTRITAL'!AC2 -> Fecha de corte 31/12/2023
A4: TABLERO DE CONTROL DISTRITAL DE PROCESOS SUSTANTIVOS DEL SISTEMA DE GESTIÓN DE LA CALIDAD 2023 -2024
A6: ='PANEL DE CONTROL DISTRITAL'!A6 -> Número | B6: ='PANEL DE CONTROL DISTRITAL'!B6 -> PROCESOS SUSTANTIVOS E INDICADORES | I6: SEMANA OPERATIVA | AA6: % AVANCE REGISTRADO
B7: ='PANEL DE CONTROL DISTRITAL'!B7 -> DESCRIPCIÓN | E7: ='PANEL DE CONTROL DISTRITAL'!E7 -> MEDICIÓN | I7: ='PANEL DE CONTROL DISTRITAL'!A5 -> CAMPAÑA ANUAL INTENSA 2023_2024
B9: ='PANEL DE CONTROL DISTRITAL'!B8 -> Proceso | C9: ='PANEL DE CONTROL DISTRITAL'!C8 -> Dueño de Proceso | D9: ='PANEL DE CONTROL DISTRITAL'!D8 -> Indicador | E9: ='PANEL DE CONTROL DISTRITAL'!E8 -> Cálculo | F9: ='PANEL DE CONTROL DISTRITAL'!F8 -> Periodo | G9: ='PANEL DE CONTROL DISTRITAL'!G8 -> Estimado | H9: ='PANEL DE CONTROL DISTRITAL'!H8 -> Nominativo | I9: ='160151'!I9 -> 2023-37 | J9: ='160151'!J9 -> 2023-38 | K9: ='160151'!K9 -> 2023-39 | L9: ='160151'!L9 -> 2023-40 | M9: ='160151'!M9 -> 2023-41 | N9: ='160151'!N9 -> 2023-42 | O9: ='160151'!O9 -> 2023-43 | P9: ='160151'!P9 -> 2023-44 | ... Z9: ='160151'!Z9 -> 2023-54
A10: ='PANEL DE CONTROL DISTRITAL'!A9 -> 1 | B10: ='PANEL DE CONTROL DISTRITAL'!B9 -> ENTREVISTA | C10: ='PANEL DE CONTROL DISTRITAL'!C9 -> Auxiliar de Atención Ciudadana | D10: ='PANEL DE CONTROL DISTRITAL'!D9 -> Efectividad de la entrevista = | E10: ='PANEL DE CONTROL DISTRITAL'!E9 -> (Número de trámites aplicados / (Número de fichas requisitadas - Notificaciones de improcedencia de trámite)) x 100 | F10: ='PANEL DE CONTROL DISTRITAL'!F9 -> Semanal (remesa) | G10: ='PANEL DE CONTROL DISTRITAL'!G9 -> 0.9 | H10: ='PANEL DE CONTROL DISTRITAL'!H9 -> Número de trámites aplicados | I10: 3 | J10: 153 | K10: 123 | L10: 139 | M10: 202 | N10: 226 | O10: 134 | P10: 252 | Q10: 147 | R10: 144 | S10: 199 | T10: 292 | U10: 217 | V10: 185 | W10: 267 | X10: 279 | Y10: 145 | Z10: 86 | AA10: =IFERROR(SUM(I10:Z10)/SUM(I11:Z11),0) -> 1
H11: ='PANEL DE CONTROL DISTRITAL'!H10 -> Número de fichas requisitadas - Notificaciones de improcedencia de trámite | I11: 3 | J11: 153 | K11: 123 | L11: 139 | M11: 202 | N11: 226 | O11: 134 | P11: 252 | Q11: 147 | R11: 144 | S11: 199 | T11: 292 | U11: 217 | V11: 185 | W11: 267 | X11: 279 | Y11: 145 | Z11: 86
A13: ='PANEL DE CONTROL DISTRITAL'!A12 -> 2 | B13: ='PANEL DE CONTROL DISTRITAL'!B12 -> TRÁMITE | C13: ='PANEL DE CONTROL DISTRITAL'!C12 -> Operador de Equipo Tecnológico | D13: ='PANEL DE CONTROL DISTRITAL'!D12 -> Trámites exitosos efectivos= | E13: ='PANEL DE CONTROL DISTRITAL'!E12 -> (Número de trámites exitosos / Número de trámites aplicados) x 100 | F13: ='PANEL DE CONTROL DISTRITAL'!F12 -> Semanal (remesa) | G13: ='PANEL DE CONTROL DISTRITAL'!G12 -> 0.9 | H13: ='PANEL DE CONTROL DISTRITAL'!H12 -> Número de trámites exitosos | I13: 3 | J13: 153 | K13: 123 | L13: 139 | M13: 199 | N13: 226 | O13: 133 | P13: 248 | Q13: 147 | R13: 143 | S13: 195 | T13: 288 | U13: 216 | V13: 181 | W13: 267 | X13: 279 | Y13: 144 | Z13: 86 | AA13: =IFERROR(SUM(I13:Z13)/SUM(I14:Z14),0) -> 0.99279674
H14: ='PANEL DE CONTROL DISTRITAL'!H13 -> Número de trámites aplicados | I14: 3 | J14: 153 | K14: 123 | L14: 139 | M14: 202 | N14: 226 | O14: 134 | P14: 252 | Q14: 147 | R14: 144 | S14: 199 | T14: 292 | U14: 217 | V14: 185 | W14: 267 | X14: 279 | Y14: 145 | Z14: 86
A16: ='PANEL DE CONTROL DISTRITAL'!A15 -> 3 | B16: ='PANEL DE CONTROL DISTRITAL'!B15 -> TRANSFERENCIA | C16: ='PANEL DE CONTROL DISTRITAL'!C15 -> Responsable de Módulo | D16: ='PANEL DE CONTROL DISTRITAL'!D15 -> Transacciones exitosas = | E16: ='PANEL DE CONTROL DISTRITAL'!E15 -> (Número de Archivos de Transacción aceptados /Total de Archivos de Transacción procesados) x100 | F16: ='PANEL DE CONTROL DISTRITAL'!F15 -> Semanal (remesa) | G16: ='PANEL DE CONTROL DISTRITAL'!G15 -> 0.9 | H16: ='PANEL DE CONTROL DISTRITAL'!H15 -> Número de Archivos de Transacción aceptados | I16: 3 | J16: 153 | K16: 123 | L16: 139 | M16: 202 | N16: 226 | O16: 134 | P16: 252 | Q16: 147 | R16: 144 | S16: 199 | T16: 292 | U16: 217 | V16: 185 | W16: 267 | X16: 279 | Y16: 145 | Z16: 86 | AA16: =IFERROR(SUM(I16:Z16)/SUM(I17:Z17),0) -> 1
H17: ='PANEL DE CONTROL DISTRITAL'!H16 -> Total de Archivos de Transacción procesados | I17: 3 | J17: 153 | K17: 123 | L17: 139 | M17: 202 | N17: 226 | O17: 134 | P17: 252 | Q17: 147 | R17: 144 | S17: 199 | T17: 292 | U17: 217 | V17: 185 | W17: 267 | X17: 279 | Y17: 145 | Z17: 86
A19: ='PANEL DE CONTROL DISTRITAL'!A18 -> 4 | B19: ='PANEL DE CONTROL DISTRITAL'!B18 -> CONCILIACIÓN | C19: ='PANEL DE CONTROL DISTRITAL'!C18 -> Responsable de Módulo | D19: ='PANEL DE CONTROL DISTRITAL'!D18 -> Credenciales disponibles para entrega = | E19: ='PANEL DE CONTROL DISTRITAL'!E18 -> ((Credenciales recibidas - Credenciales inconsistentes) / Credenciales recibidas) x 100 | F19: ='PANEL DE CONTROL DISTRITAL'!F18 -> Semanal (remesa) | G19: ='PANEL DE CONTROL DISTRITAL'!G18 -> 0.9 | H19: ='PANEL DE CONTROL DISTRITAL'!H18 -> Credenciales Recibidas - Credenciales inconsistentes | I19: 134 | J19: 50 | K19: 118 | L19: 153 | M19: 181 | N19: 220 | O19: 318 | P19: 194 | Q19: 211 | R19: 96 | S19: 53 | T19: 0 | U19: 465 | V19: 172 | W19: 253 | X19: 132 | Y19: 294 | Z19: 79 | AA19: =IFERROR(SUM(I19:Z19)/SUM(I20:Z20),0) -> 1
H20: ='PANEL DE CONTROL DISTRITAL'!H19 -> Credenciales recibidas | I20: 134 | J20: 50 | K20: 118 | L20: 153 | M20: 181 | N20: 220 | O20: 318 | P20: 194 | Q20: 211 | R20: 96 | S20: 53 | T20: 0 | U20: 465 | V20: 172 | W20: 253 | X20: 132 | Y20: 294 | Z20: 79
A22: ='PANEL DE CONTROL DISTRITAL'!A21 -> 5 | B22: ='PANEL DE CONTROL DISTRITAL'!B21 -> CONCILIACIÓN | C22: ='PANEL DE CONTROL DISTRITAL'!C21 -> Responsable de Módulo | D22: ='PANEL DE CONTROL DISTRITAL'!D21 -> Credenciales disponibles para entrega = | E22: ='PANEL DE CONTROL DISTRITAL'!E21 -> (Credenciales en resguardo / Credenciales totales en SIIRFE disponibles para entrega) x 100 | F22: ='PANEL DE CONTROL DISTRITAL'!F21 -> Semanal (remesa) | G22: ='PANEL DE CONTROL DISTRITAL'!G21 -> 1 | H22: ='PANEL DE CONTROL DISTRITAL'!H21 -> Credenciales en resguardo | I22: 583 | J22: 430 | K22: 542 | L22: 526 | M22: 543 | N22: 817 | O22: 756 | P22: 862 | Q22: 913 | R22: 817 | S22: 909 | T22: 684 | U22: 1002 | V22: 1027 | W22: 1020 | X22: 572 | Y22: 823 | Z22: 871 | AA22: =IFERROR(SUM(I22:Z22)/SUM(I23:Z23),0) -> 1
H23: ='PANEL DE CONTROL DISTRITAL'!H22 -> Credenciales totales en SIIRFE disponibles para entrega | I23: 583 | J23: 430 | K23: 542 | L23: 526 | M23: 543 | N23: 817 | O23: 756 | P23: 862 | Q23: 913 | R23: 817 | S23: 909 | T23: 684 | U23: 1002 | V23: 1027 | W23: 1020 | X23: 572 | Y23: 823 | Z23: 871
A25: ='PANEL DE CONTROL DISTRITAL'!A24 -> 6 | B25: ='PANEL DE CONTROL DISTRITAL'!B24 -> ENTREGA | C25: ='PANEL DE CONTROL DISTRITAL'!C24 -> Operador de Equipo Tecnológico | D25: ='PANEL DE CONTROL DISTRITAL'!D24 -> Efectividad de entrega de CPV en MAC = | E25: ='PANEL DE CONTROL DISTRITAL'!E24 -> (Total de credenciales entregadas / Total de credenciales solicitadas) x 100 | F25: ='PANEL DE CONTROL DISTRITAL'!F24 -> Semanal (remesa) | G25: ='PANEL DE CONTROL DISTRITAL'!G24 -> 0.9 | H25: ='PANEL DE CONTROL DISTRITAL'!H24 -> Total de credenciales entregadas | I25: 0 | J25: 203 | K25: 0 | L25: 169 | M25: 164 | N25: 226 | O25: 143 | P25: 88 | Q25: 160 | R25: 192 | S25: 110 | T25: 225 | U25: 147 | V25: 147 | W25: 259 | X25: 580 | Y25: 43 | Z25: 31 | AA25: =IFERROR(SUM(I25:Z25)/SUM(I26:Z26),0) -> 1
H26: ='PANEL DE CONTROL DISTRITAL'!H25 -> Total de credenciales solicitadas | I26: 0 | J26: 203 | K26: 0 | L26: 169 | M26: 164 | N26: 226 | O26: 143 | P26: 88 | Q26: 160 | R26: 192 | S26: 110 | T26: 225 | U26: 147 | V26: 147 | W26: 259 | X26: 580 | Y26: 43 | Z26: 31
B27: *Registre el valor nominal solicitado en la celda, el resultado proporcional esta automatizado.
I29: Semaforización
J30: Valor que requiere atención y justificación en el apartado de observaciones
J31: Valor suficiente
J32: Valor esperado
B34: CUADRO DE OBSERVACIONES
B35: Descripción | H35: No conformidad

Sheet 160255
A1: ='PANEL DE CONTROL DISTRITAL'!A1:Q1 -> INSTITUTO NACIONAL ELECTORAL SISTEMA DE GESTIÓN DE LA CALIDAD MICHOACÁN
D2: Distrito | E2: 2 | F2: Módulo | H2: 160255 | W2: ='PANEL DE CONTROL DISTRITAL'!AC2 -> Fecha de corte 31/12/2023
A4: TABLERO DE CONTROL DISTRITAL DE PROCESOS SUSTANTIVOS DEL SISTEMA DE GESTIÓN DE LA CALIDAD 2023 -2024
A6: ='PANEL DE CONTROL DISTRITAL'!A6 -> Número | B6: ='PANEL DE CONTROL DISTRITAL'!B6 -> PROCESOS SUSTANTIVOS E INDICADORES | I6: SEMANA OPERATIVA | AA6: % AVANCE REGISTRADO
B7: ='PANEL DE CONTROL DISTRITAL'!B7 -> DESCRIPCIÓN | E7: ='PANEL DE CONTROL DISTRITAL'!E7 -> MEDICIÓN | I7: ='PANEL DE CONTROL DISTRITAL'!A5 -> CAMPAÑA ANUAL INTENSA 2023_2024
B9: ='PANEL DE CONTROL DISTRITAL'!B8 -> Proceso | C9: ='PANEL DE CONTROL DISTRITAL'!C8 -> Dueño de Proceso | D9: ='PANEL DE CONTROL DISTRITAL'!D8 -> Indicador | E9: ='PANEL DE CONTROL DISTRITAL'!E8 -> Cálculo | F9: ='PANEL DE CONTROL DISTRITAL'!F8 -> Periodo | G9: ='PANEL DE CONTROL DISTRITAL'!G8 -> Estimado | H9: ='PANEL DE CONTROL DISTRITAL'!H8 -> Nominativo | I9: ='160151'!I9 -> 2023-37 | J9: ='160151'!J9 -> 2023-38 | K9: ='160151'!K9 -> 2023-39 | L9: ='160151'!L9 -> 2023-40 | M9: ='160151'!M9 -> 2023-41 | N9: ='160151'!N9 -> 2023-42 | O9: ='160151'!O9 -> 2023-43 | P9: ='160151'!P9 -> 2023-44 | ... Z9: ='160151'!Z9 -> 2023-54
A10: ='PANEL DE CONTROL DISTRITAL'!A9 -> 1 | B10: ='PANEL DE CONTROL DISTRITAL'!B9 -> ENTREVISTA | C10: ='PANEL DE CONTROL DISTRITAL'!C9 -> Auxiliar de Atención Ciudadana | D10: ='PANEL DE CONTROL DISTRITAL'!D9 -> Efectividad de la entrevista = | E10: ='PANEL DE CONTROL DISTRITAL'!E9 -> (Número de trámites aplicados / (Número de fichas requisitadas - Notificaciones de improcedencia de trámite)) x 100 | F10: ='PANEL DE CONTROL DISTRITAL'!F9 -> Semanal (remesa) | G10: ='PANEL DE CONTROL DISTRITAL'!G9 -> 0.9 | H10: ='PANEL DE CONTROL DISTRITAL'!H9 -> Número de trámites aplicados | I10: 46 | J10: 283 | K10: 272 | L10: 275 | M10: 308 | N10: 344 | O10: 298 | P10: 300 | Q10: 278 | R10: 229 | S10: 382 | T10: 388 | U10: 302 | V10: 382 | W10: 396 | X10: 418 | Y10: 471 | Z10: 359 | AA10: =IFERROR(SUM(I10:Z10)/SUM(I11:Z11),0) -> 1
H11: ='PANEL DE CONTROL DISTRITAL'!H10 -> Número de fichas requisitadas - Notificaciones de improcedencia de trámite | I11: 46 | J11: 283 | K11: 272 | L11: 275 | M11: 308 | N11: 344 | O11: 298 | P11: 300 | Q11: 278 | R11: 229 | S11: 382 | T11: 388 | U11: 302 | V11: 382 | W11: 396 | X11: 418 | Y11: 471 | Z11: 359
A13: ='PANEL DE CONTROL DISTRITAL'!A12 -> 2 | B13: ='PANEL DE CONTROL DISTRITAL'!B12 -> TRÁMITE | C13: ='PANEL DE CONTROL DISTRITAL'!C12 -> Operador de Equipo Tecnológico | D13: ='PANEL DE CONTROL DISTRITAL'!D12 -> Trámites exitosos efectivos= | E13: ='PANEL DE CONTROL DISTRITAL'!E12 -> (Número de trámites exitosos / Número de trámites aplicados) x 100 | F13: ='PANEL DE CONTROL DISTRITAL'!F12 -> Semanal (remesa) | G13: ='PANEL DE CONTROL DISTRITAL'!G12 -> 0.9 | H13: ='PANEL DE CONTROL DISTRITAL'!H12 -> Número de trámites exitosos | I13: 46 | J13: 282 | K13: 270 | L13: 275 | M13: 306 | N13: 344 | O13: 296 | P13: 299 | Q13: 277 | R13: 228 | S13: 381 | T13: 387 | U13: 302 | V13: 381 | W13: 395 | X13: 412 | Y13: 468 | Z13: 356 | AA13: =IFERROR(SUM(I13:Z13)/SUM(I14:Z14),0) -> 0.99546327
H14: ='PANEL DE CONTROL DISTRITAL'!H13 -> Número de trámites aplicados | I14: 46 | J14: 283 | K14: 272 | L14: 275 | M14: 308 | N14: 344 | O14: 298 | P14: 300 | Q14: 278 | R14: 229 | S14: 382 | T14: 388 | U14: 302 | V14: 382 | W14: 396 | X14: 418 | Y14: 471 | Z14: 359
A16: ='PANEL DE CONTROL DISTRITAL'!A15 -> 3 | B16: ='PANEL DE CONTROL DISTRITAL'!B15 -> TRANSFERENCIA | C16: ='PANEL DE CONTROL DISTRITAL'!C15 -> Responsable de Módulo | D16: ='PANEL DE CONTROL DISTRITAL'!D15 -> Transacciones exitosas = | E16: ='PANEL DE CONTROL DISTRITAL'!E15 -> (Número de Archivos de Transacción aceptados /Total de Archivos de Transacción procesados) x100 | F16: ='PANEL DE CONTROL DISTRITAL'!F15 -> Semanal (remesa) | G16: ='PANEL DE CONTROL DISTRITAL'!G15 -> 0.9 | H16: ='PANEL DE CONTROL DISTRITAL'!H15 -> Número de Archivos de Transacción aceptados | I16: 46 | J16: 283 | K16: 272 | L16: 275 | M16: 339 | N16: 344 | O16: 298 | P16: 300 | Q16: 278 | R16: 229 | S16: 382 | T16: 388 | U16: 302 | V16: 382 | W16: 396 | X16: 418 | Y16: 471 | Z16: 359 | AA16: =IFERROR(SUM(I16:Z16)/SUM(I17:Z17),0) -> 1
H17: ='PANEL DE CONTROL DISTRITAL'!H16 -> Total de Archivos de Transacción procesados | I17: 46 | J17: 283 | K17: 272 | L17: 275 | M17: 339 | N17: 344 | O17: 298 | P17: 300 | Q17: 278 | R17: 229 | S17: 382 | T17: 388 | U17: 302 | V17: 382 | W17: 396 | X17: 418 | Y17: 471 | Z17: 359
A19: ='PANEL DE CONTROL DISTRITAL'!A18 -> 4 | B19: ='PANEL DE CONTROL DISTRITAL'!B18 -> CONCILIACIÓN | C19: ='PANEL DE CONTROL DISTRITAL'!C18 -> Responsable de Módulo | D19: ='PANEL DE CONTROL DISTRITAL'!D18 -> Credenciales disponibles para entrega = | E19: ='PANEL DE CONTROL DISTRITAL'!E18 -> ((Credenciales recibidas - Credenciales inconsistentes) / Credenciales recibidas) x 100 | F19: ='PANEL DE CONTROL DISTRITAL'!F18 -> Semanal (remesa) | G19: ='PANEL DE CONTROL DISTRITAL'!G18 -> 0.9 | H19: ='PANEL DE CONTROL DISTRITAL'!H18 -> Credenciales Recibidas - Credenciales inconsistentes | I19: 53 | J19: 236 | K19: 271 | L19: 286 | M19: 339 | N19: 255 | O19: 394 | P19: 240 | Q19: 294 | R19: 284 | S19: 247 | T19: 372 | U19: 237 | V19: 459 | W19: 373 | X19: 478 | Y19: 248 | Z19: 327 | AA19: =IFERROR(SUM(I19:Z19)/SUM(I20:Z20),0) -> 1
H20: ='PANEL DE CONTROL DISTRITAL'!H19 -> Credenciales recibidas | I20: 53 | J20: 236 | K20: 271 | L20: 286 | M20: 339 | N20: 255 | O20: 394 | P20: 240 | Q20: 294 | R20: 284 | S20: 247 | T20: 372 | U20: 237 | V20: 459 | W20: 373 | X20: 478 | Y20: 248 | Z20: 327
A22: ='PANEL DE CONTROL DISTRITAL'!A21 -> 5 | B22: ='PANEL DE CONTROL DISTRITAL'!B21 -> CONCILIACIÓN | C22: ='PANEL DE CONTROL DISTRITAL'!C21 -> Responsable de Módulo | D22: ='PANEL DE CONTROL DISTRITAL'!D21 -> Credenciales disponibles para entrega = | E22: ='PANEL DE CONTROL DISTRITAL'!E21 -> (Credenciales en resguardo / Credenciales totales en SIIRFE disponibles para entrega) x 100 | F22: ='PANEL DE CONTROL DISTRITAL'!F21 -> Semanal (remesa) | G22: ='PANEL DE CONTROL DISTRITAL'!G21 -> 1 | H22: ='PANEL DE CONTROL DISTRITAL'!H21 -> Credenciales en resguardo | I22: 527 | J22: 504 | K22: 495 | L22: 514 | M22: 542 | N22: 520 | O22: 602 | P22: 532 | Q22: 526 | R22: 571 | S22: 497 | T22: 579 | U22: 508 | V22: 605 | W22: 595 | X22: 736 | Y22: 554 | Z22: 502 | AA22: =IFERROR(SUM(I22:Z22)/SUM(I23:Z23),0) -> 1
H23: ='PANEL DE CONTROL DISTRITAL'!H22 -> Credenciales totales en SIIRFE disponibles para entrega | I23: 527 | J23: 504 | K23: 495 | L23: 514 | M23: 542 | N23: 520 | O23: 602 | P23: 532 | Q23: 526 | R23: 571 | S23: 497 | T23: 579 | U23: 508 | V23: 605 | W23: 595 | X23: 736 | Y23: 554 | Z23: 502
A25: ='PANEL DE CONTROL DISTRITAL'!A24 -> 6 | B25: ='PANEL DE CONTROL DISTRITAL'!B24 -> ENTREGA | C25: ='PANEL DE CONTROL DISTRITAL'!C24 -> Operador de Equipo Tecnológico | D25: ='PANEL DE CONTROL DISTRITAL'!D24 -> Efectividad de entrega de CPV en MAC = | E25: ='PANEL DE CONTROL DISTRITAL'!E24 -> (Total de credenciales entregadas / Total de credenciales solicitadas) x 100 | F25: ='PANEL DE CONTROL DISTRITAL'!F24 -> Semanal (remesa) | G25: ='PANEL DE CONTROL DISTRITAL'!G24 -> 0.9 | H25: ='PANEL DE CONTROL DISTRITAL'!H24 -> Total de credenciales entregadas | I25: 63 | J25: 259 | K25: 272 | L25: 267 | M25: 311 | N25: 277 | O25: 312 | P25: 310 | Q25: 299 | R25: 239 | S25: 319 | T25: 290 | U25: 308 | V25: 362 | W25: 381 | X25: 337 | Y25: 430 | Z25: 379 | AA25: =IFERROR(SUM(I25:Z25)/SUM(I26:Z26),0) -> 1
H26: ='PANEL DE CONTROL DISTRITAL'!H25 -> Total de credenciales solicitadas | I26: 63 | J26: 259 | K26: 272 | L26: 267 | M26: 311 | N26: 277 | O26: 312 | P26: 310 | Q26: 299 | R26: 239 | S26: 319 | T26: 290 | U26: 308 | V26: 362 | W26: 381 | X26: 337 | Y26: 430 | Z26: 379
B27: *Registre el valor nominal solicitado en la celda, el resultado proporcional esta automatizado.
I29: Semaforización
J30: Valor que requiere atención y justificación en el apartado de observaciones
J31: Valor suficiente
J32: Valor esperado
B34: CUADRO DE OBSERVACIONES
B35: Descripción | H35: No conformidad

Sheet 160256
A1: ='PANEL DE CONTROL DISTRITAL'!A1:Q1 -> INSTITUTO NACIONAL ELECTORAL SISTEMA DE GESTIÓN DE LA CALIDAD MICHOACÁN
D2: Distrito | E2: 2 | F2: Módulo | H2: 160256 | W2: ='PANEL DE CONTROL DISTRITAL'!AC2 -> Fecha de corte 31/12/2023
A4: TABLERO DE CONTROL DISTRITAL DE PROCESOS SUSTANTIVOS DEL SISTEMA DE GESTIÓN DE LA CALIDAD 2023 -2024
A6: ='PANEL DE CONTROL DISTRITAL'!A6 -> Número | B6: ='PANEL DE CONTROL DISTRITAL'!B6 -> PROCESOS SUSTANTIVOS E INDICADORES | I6: SEMANA OPERATIVA | AA6: % AVANCE REGISTRADO
B7: ='PANEL DE CONTROL DISTRITAL'!B7 -> DESCRIPCIÓN | E7: ='PANEL DE CONTROL DISTRITAL'!E7 -> MEDICIÓN | I7: ='PANEL DE CONTROL DISTRITAL'!A5 -> CAMPAÑA ANUAL INTENSA 2023_2024
B9: ='PANEL DE CONTROL DISTRITAL'!B8 -> Proceso | C9: ='PANEL DE CONTROL DISTRITAL'!C8 -> Dueño de Proceso | D9: ='PANEL DE CONTROL DISTRITAL'!D8 -> Indicador | E9: ='PANEL DE CONTROL DISTRITAL'!E8 -> Cálculo | F9: ='PANEL DE CONTROL DISTRITAL'!F8 -> Periodo | G9: ='PANEL DE CONTROL DISTRITAL'!G8 -> Estimado | H9: ='PANEL DE CONTROL DISTRITAL'!H8 -> Nominativo | I9: ='160151'!I9 -> 2023-37 | J9: ='160151'!J9 -> 2023-38 | K9: ='160151'!K9 -> 2023-39 | L9: ='160151'!L9 -> 2023-40 | M9: ='160151'!M9 -> 2023-41 | N9: ='160151'!N9 -> 2023-42 | O9: ='160151'!O9 -> 2023-43 | P9: ='160151'!P9 -> 2023-44 | ... Z9: ='160151'!Z9 -> 2023-54
A10: ='PANEL DE CONTROL DISTRITAL'!A9 -> 1 | B10: ='PANEL DE CONTROL DISTRITAL'!B9 -> ENTREVISTA | C10: ='PANEL DE CONTROL DISTRITAL'!C9 -> Auxiliar de Atención Ciudadana | D10: ='PANEL DE CONTROL DISTRITAL'!D9 -> Efectividad de la entrevista = | E10: ='PANEL DE CONTROL DISTRITAL'!E9 -> (Número de trámites aplicados / (Número de fichas requisitadas - Notificaciones de improcedencia de trámite)) x 100 | F10: ='PANEL DE CONTROL DISTRITAL'!F9 -> Semanal (remesa) | G10: ='PANEL DE CONTROL DISTRITAL'!G9 -> 0.9 | H10: ='PANEL DE CONTROL DISTRITAL'!H9 -> Número de trámites aplicados | I10: 52 | J10: 352 | K10: 397 | L10: 404 | M10: 409 | N10: 434 | O10: 470 | P10: 431 | Q10: 396 | R10: 316 | S10: 536 | T10: 543 | U10: 453 | V10: 636 | W10: 583 | X10: 552 | Y10: 624 | Z10: 492 | AA10: =IFERROR(SUM(I10:Z10)/SUM(I11:Z11),0) -> 1
H11: ='PANEL DE CONTROL DISTRITAL'!H10 -> Número de fichas requisitadas - Notificaciones de improcedencia de trámite | I11: 52 | J11: 352 | K11: 397 | L11: 404 | M11: 409 | N11: 434 | O11: 470 | P11: 431 | Q11: 396 | R11: 316 | S11: 536 | T11: 543 | U11: 453 | V11: 636 | W11: 583 | X11: 552 | Y11: 624 | Z11: 492
A13: ='PANEL DE CONTROL DISTRITAL'!A12 -> 2 | B13: ='PANEL DE CONTROL DISTRITAL'!B12 -> TRÁMITE | C13: ='PANEL DE CONTROL DISTRITAL'!C12 -> Operador de Equipo Tecnológico | D13: ='PANEL DE CONTROL DISTRITAL'!D12 -> Trámites exitosos efectivos= | E13: ='PANEL DE CONTROL DISTRITAL'!E12 -> (Número de trámites exitosos / Número de trámites aplicados) x 100 | F13: ='PANEL DE CONTROL DISTRITAL'!F12 -> Semanal (remesa) | G13: ='PANEL DE CONTROL DISTRITAL'!G12 -> 0.9 | H13: ='PANEL DE CONTROL DISTRITAL'!H12 -> Número de trámites exitosos | I13: 51 | J13: 351 | K13: 395 | L13: 403 | M13: 407 | N13: 432 | O13: 470 | P13: 430 | Q13: 396 | R13: 315 | S13: 532 | T13: 540 | U13: 451 | V13: 634 | W13: 583 | X13: 550 | Y13: 614 | Z13: 481 | AA13: =IFERROR(SUM(I13:Z13)/SUM(I14:Z14),0) -> 0.99443069
H14: ='PANEL DE CONTROL DISTRITAL'!H13 -> Número de trámites aplicados | I14: 52 | J14: 352 | K14: 397 | L14: 404 | M14: 409 | N14: 434 | O14: 470 | P14: 431 | Q14: 396 | R14: 316 | S14: 536 | T14: 543 | U14: 453 | V14: 636 | W14: 583 | X14: 552 | Y14: 624 | Z14: 492
A16: ='PANEL DE CONTROL DISTRITAL'!A15 -> 3 | B16: ='PANEL DE CONTROL DISTRITAL'!B15 -> TRANSFERENCIA | C16: ='PANEL DE CONTROL DISTRITAL'!C15 -> Responsable de Módulo | D16: ='PANEL DE CONTROL DISTRITAL'!D15 -> Transacciones exitosas = | E16: ='PANEL DE CONTROL DISTRITAL'!E15 -> (Número de Archivos de Transacción aceptados /Total de Archivos de Transacción procesados) x100 | F16: ='PANEL DE CONTROL DISTRITAL'!F15 -> Semanal (remesa) | G16: ='PANEL DE CONTROL DISTRITAL'!G15 -> 0.9 | H16: ='PANEL DE CONTROL DISTRITAL'!H15 -> Número de Archivos de Transacción aceptados | I16: 52 | J16: 352 | K16: 397 | L16: 404 | M16: 409 | N16: 434 | O16: 470 | P16: 431 | Q16: 396 | R16: 316 | S16: 536 | T16: 543 | U16: 453 | V16: 636 | W16: 583 | X16: 552 | Y16: 624 | Z16: 492 | AA16: =IFERROR(SUM(I16:Z16)/SUM(I17:Z17),0) -> 1
H17: ='PANEL DE CONTROL DISTRITAL'!H16 -> Total de Archivos de Transacción procesados | I17: 52 | J17: 352 | K17: 397 | L17: 404 | M17: 409 | N17: 434 | O17: 470 | P17: 431 | Q17: 396 | R17: 316 | S17: 536 | T17: 543 | U17: 453 | V17: 636 | W17: 583 | X17: 552 | Y17: 624 | Z17: 492
A19: ='PANEL DE CONTROL DISTRITAL'!A18 -> 4 | B19: ='PANEL DE CONTROL DISTRITAL'!B18 -> CONCILIACIÓN | C19: ='PANEL DE CONTROL DISTRITAL'!C18 -> Responsable de Módulo | D19: ='PANEL DE CONTROL DISTRITAL'!D18 -> Credenciales disponibles para entrega = | E19: ='PANEL DE CONTROL DISTRITAL'!E18 -> ((Credenciales recibidas - Credenciales inconsistentes) / Credenciales recibidas) x 100 | F19: ='PANEL DE CONTROL DISTRITAL'!F18 -> Semanal (remesa) | G19: ='PANEL DE CONTROL DISTRITAL'!G18 -> 0.9 | H19: ='PANEL DE CONTROL DISTRITAL'!H18 -> Credenciales Recibidas - Credenciales inconsistentes | I19: 0 | J19: 489 | K19: 271 | L19: 493 | M19: 400 | N19: 436 | O19: 479 | P19: 430 | Q19: 389 | R19: 242 | S19: 535 | T19: 433 | U19: 330 | V19: 689 | W19: 620 | X19: 449 | Y19: 560 | Z19: 388 | AA19: =IFERROR(SUM(I19:Z19)/SUM(I20:Z20),0) -> 1
H20: ='PANEL DE CONTROL DISTRITAL'!H19 -> Credenciales recibidas | I20: 0 | J20: 489 | K20: 271 | L20: 493 | M20: 400 | N20: 436 | O20: 479 | P20: 430 | Q20: 389 | R20: 242 | S20: 535 | T20: 433 | U20: 330 | V20: 689 | W20: 620 | X20: 449 | Y20: 560 | Z20: 388
A22: ='PANEL DE CONTROL DISTRITAL'!A21 -> 5 | B22: ='PANEL DE CONTROL DISTRITAL'!B21 -> CONCILIACIÓN | C22: ='PANEL DE CONTROL DISTRITAL'!C21 -> Responsable de Módulo | D22: ='PANEL DE CONTROL DISTRITAL'!D21 -> Credenciales disponibles para entrega = | E22: ='PANEL DE CONTROL DISTRITAL'!E21 -> (Credenciales en resguardo / Credenciales totales en SIIRFE disponibles para entrega) x 100 | F22: ='PANEL DE CONTROL DISTRITAL'!F21 -> Semanal (remesa) | G22: ='PANEL DE CONTROL DISTRITAL'!G21 -> 1 | H22: ='PANEL DE CONTROL DISTRITAL'!H21 -> Credenciales en resguardo | I22: 813 | J22: 878 | K22: 792 | L22: 853 | M22: 840 | N22: 879 | O22: 935 | P22: 884 | Q22: 812 | R22: 798 | S22: 855 | T22: 881 | U22: 696 | V22: 923 | W22: 964 | X22: 806 | Y22: 835 | Z22: 658 | AA22: =IFERROR(SUM(I22:Z22)/SUM(I23:Z23),0) -> 1
H23: ='PANEL DE CONTROL DISTRITAL'!H22 -> Credenciales totales en SIIRFE disponibles para entrega | I23: 813 | J23: 878 | K23: 792 | L23: 853 | M23: 840 | N23: 879 | O23: 935 | P23: 884 | Q23: 812 | R23: 798 | S23: 855 | T23: 881 | U23: 696 | V23: 923 | W23: 964 | X23: 806 | Y23: 835 | Z23: 658
A25: ='PANEL DE CONTROL DISTRITAL'!A24 -> 6 | B25: ='PANEL DE CONTROL DISTRITAL'!B24 -> ENTREGA | C25: ='PANEL DE CONTROL DISTRITAL'!C24 -> Operador de Equipo Tecnológico | D25: ='PANEL DE CONTROL DISTRITAL'!D24 -> Efectividad de entrega de CPV en MAC = | E25: ='PANEL DE CONTROL DISTRITAL'!E24 -> (Total de credenciales entregadas / Total de credenciales solicitadas) x 100 | F25: ='PANEL DE CONTROL DISTRITAL'!F24 -> Semanal (remesa) | G25: ='PANEL DE CONTROL DISTRITAL'!G24 -> 0.9 | H25: ='PANEL DE CONTROL DISTRITAL'!H24 -> Total de credenciales entregadas | I25: 111 | J25: 424 | K25: 340 | L25: 432 | M25: 397 | N25: 387 | O25: 422 | P25: 481 | Q25: 461 | R25: 256 | S25: 471 | T25: 407 | U25: 515 | V25: 461 | W25: 575 | X25: 607 | Y25: 531 | Z25: 565 | AA25: =IFERROR(SUM(I25:Z25)/SUM(I26:Z26),0) -> 1
H26: ='PANEL DE CONTROL DISTRITAL'!H25 -> Total de credenciales solicitadas | I26: 111 | J26: 424 | K26: 340 | L26: 432 | M26: 397 | N26: 387 | O26: 422 | P26: 481 | Q26: 461 | R26: 256 | S26: 471 | T26: 407 | U26: 515 | V26: 461 | W26: 575 | X26: 607 | Y26: 531 | Z26: 565
B27: *Registre el valor nominal solicitado en la celda, el resultado proporcional esta automatizado.
I29: Semaforización
J30: Valor que requiere atención y justificación en el apartado de observaciones
J31: Valor suficiente
J32: Valor esperado
B34: CUADRO DE OBSERVACIONES
B35: Descripción | H35: No conformidad

Sheet 160257
A1: ='PANEL DE CONTROL DISTRITAL'!A1:Q1 -> INSTITUTO NACIONAL ELECTORAL SISTEMA DE GESTIÓN DE LA CALIDAD MICHOACÁN
D2: Distrito | E2: 2 | F2: Módulo | H2: 160257 | W2: ='PANEL DE CONTROL DISTRITAL'!AC2 -> Fecha de corte 31/12/2023
A4: TABLERO DE CONTROL DISTRITAL DE PROCESOS SUSTANTIVOS DEL SISTEMA DE GESTIÓN DE LA CALIDAD 2023 -2024
A6: ='PANEL DE CONTROL DISTRITAL'!A6 -> Número | B6: ='PANEL DE CONTROL DISTRITAL'!B6 -> PROCESOS SUSTANTIVOS E INDICADORES | I6: SEMANA OPERATIVA | AA6: % AVANCE REGISTRADO
B7: ='PANEL DE CONTROL DISTRITAL'!B7 -> DESCRIPCIÓN | E7: ='PANEL DE CONTROL DISTRITAL'!E7 -> MEDICIÓN | I7: ='PANEL DE CONTROL DISTRITAL'!A5 -> CAMPAÑA ANUAL INTENSA 2023_2024
B9: ='PANEL DE CONTROL DISTRITAL'!B8 -> Proceso | C9: ='PANEL DE CONTROL DISTRITAL'!C8 -> Dueño de Proceso | D9: ='PANEL DE CONTROL DISTRITAL'!D8 -> Indicador | E9: ='PANEL DE CONTROL DISTRITAL'!E8 -> Cálculo | F9: ='PANEL DE CONTROL DISTRITAL'!F8 -> Periodo | G9: ='PANEL DE CONTROL DISTRITAL'!G8 -> Estimado | H9: ='PANEL DE CONTROL DISTRITAL'!H8 -> Nominativo | I9: ='160151'!I9 -> 2023-37 | J9: ='160151'!J9 -> 2023-38 | K9: ='160151'!K9 -> 2023-39 | L9: ='160151'!L9 -> 2023-40 | M9: ='160151'!M9 -> 2023-41 | N9: ='160151'!N9 -> 2023-42 | O9: ='160151'!O9 -> 2023-43 | P9: ='160151'!P9 -> 2023-44 | ... Z9: ='160151'!Z9 -> 2023-54
A10: ='PANEL DE CONTROL DISTRITAL'!A9 -> 1 | B10: ='PANEL DE CONTROL DISTRITAL'!B9 -> ENTREVISTA | C10: ='PANEL DE CONTROL DISTRITAL'!C9 -> Auxiliar de Atención Ciudadana | D10: ='PANEL DE CONTROL DISTRITAL'!D9 -> Efectividad de la entrevista = | E10: ='PANEL DE CONTROL DISTRITAL'!E9 -> (Número de trámites aplicados / (Número de fichas requisitadas - Notificaciones de improcedencia de trámite)) x 100 | F10: ='PANEL DE CONTROL DISTRITAL'!F9 -> Semanal (remesa) | G10: ='PANEL DE CONTROL DISTRITAL'!G9 -> 0.9 | H10: ='PANEL DE CONTROL DISTRITAL'!H9 -> Número de trámites aplicados | I10: 12 | J10: 144 | K10: 96 | L10: 105 | M10: 164 | N10: 141 | O10: 58 | P10: 129 | Q10: 181 | R10: 118 | S10: 126 | T10: 176 | U10: 144 | V10: 137 | W10: 222 | X10: 165 | Y10: 118 | Z10: 140 | AA10: =IFERROR(SUM(I10:Z10)/SUM(I11:Z11),0) -> 1
H11: ='PANEL DE CONTROL DISTRITAL'!H10 -> Número de fichas requisitadas - Notificaciones de improcedencia de trámite | I11: 12 | J11: 144 | K11: 96 | L11: 105 | M11: 164 | N11: 141 | O11: 58 | P11: 129 | Q11: 181 | R11: 118 | S11: 126 | T11: 176 | U11: 144 | V11: 137 | W11: 222 | X11: 165 | Y11: 118 | Z11: 140
A13: ='PANEL DE CONTROL DISTRITAL'!A12 -> 2 | B13: ='PANEL DE CONTROL DISTRITAL'!B12 -> TRÁMITE | C13: ='PANEL DE CONTROL DISTRITAL'!C12 -> Operador de Equipo Tecnológico | D13: ='PANEL DE CONTROL DISTRITAL'!D12 -> Trámites exitosos efectivos= | E13: ='PANEL DE CONTROL DISTRITAL'!E12 -> (Número de trámites exitosos / Número de trámites aplicados) x 100 | F13: ='PANEL DE CONTROL DISTRITAL'!F12 -> Semanal (remesa) | G13: ='PANEL DE CONTROL DISTRITAL'!G12 -> 0.9 | H13: ='PANEL DE CONTROL DISTRITAL'!H12 -> Número de trámites exitosos | I13: 12 | J13: 144 | K13: 96 | L13: 104 | M13: 164 | N13: 141 | O13: 57 | P13: 128 | Q13: 178 | R13: 118 | S13: 126 | T13: 173 | U13: 143 | V13: 135 | W13: 220 | X13: 164 | Y13: 117 | Z13: 132 | AA13: =IFERROR(SUM(I13:Z13)/SUM(I14:Z14),0) -> 0.98989899
H14: ='PANEL DE CONTROL DISTRITAL'!H13 -> Número de trámites aplicados | I14: 12 | J14: 144 | K14: 96 | L14: 105 | M14: 164 | N14: 141 | O14: 58 | P14: 129 | Q14: 181 | R14: 118 | S14: 126 | T14: 176 | U14: 144 | V14: 137 | W14: 222 | X14: 165 | Y14: 118 | Z14: 140
A16: ='PANEL DE CONTROL DISTRITAL'!A15 -> 3 | B16: ='PANEL DE CONTROL DISTRITAL'!B15 -> TRANSFERENCIA | C16: ='PANEL DE CONTROL DISTRITAL'!C15 -> Responsable de Módulo | D16: ='PANEL DE CONTROL DISTRITAL'!D15 -> Transacciones exitosas = | E16: ='PANEL DE CONTROL DISTRITAL'!E15 -> (Número de Archivos de Transacción aceptados /Total de Archivos de Transacción procesados) x100 | F16: ='PANEL DE CONTROL DISTRITAL'!F15 -> Semanal (remesa) | G16: ='PANEL DE CONTROL DISTRITAL'!G15 -> 0.9 | H16: ='PANEL DE CONTROL DISTRITAL'!H15 -> Número de Archivos de Transacción aceptados | I16: 12 | J16: 144 | K16: 96 | L16: 105 | M16: 164 | N16: 141 | O16: 58 | P16: 129 | Q16: 181 | R16: 118 | S16: 126 | T16: 176 | U16: 144 | V16: 137 | W16: 222 | X16: 165 | Y16: 118 | Z16: 140 | AA16: =IFERROR(SUM(I16:Z16)/SUM(I17:Z17),0) -> 1
H17: ='PANEL DE CONTROL DISTRITAL'!H16 -> Total de Archivos de Transacción procesados | I17: 12 | J17: 144 | K17: 96 | L17: 105 | M17: 164 | N17: 141 | O17: 58 | P17: 129 | Q17: 181 | R17: 118 | S17: 126 | T17: 176 | U17: 144 | V17: 137 | W17: 222 | X17: 165 | Y17: 118 | Z17: 140
A19: ='PANEL DE CONTROL DISTRITAL'!A18 -> 4 | B19: ='PANEL DE CONTROL DISTRITAL'!B18 -> CONCILIACIÓN | C19: ='PANEL DE CONTROL DISTRITAL'!C18 -> Responsable de Módulo | D19: ='PANEL DE CONTROL DISTRITAL'!D18 -> Credenciales disponibles para entrega = | E19: ='PANEL DE CONTROL DISTRITAL'!E18 -> ((Credenciales recibidas - Credenciales inconsistentes) / Credenciales recibidas) x 100 | F19: ='PANEL DE CONTROL DISTRITAL'!F18 -> Semanal (remesa) | G19: ='PANEL DE CONTROL DISTRITAL'!G18 -> 0.9 | H19: ='PANEL DE CONTROL DISTRITAL'!H18 -> Credenciales Recibidas - Credenciales inconsistentes | I19: 11 | J19: 132 | K19: 104 | L19: 94 | M19: 105 | N19: 209 | O19: 95 | P19: 61 | Q19: 175 | R19: 84 | S19: 159 | T19: 149 | U19: 61 | V19: 236 | W19: 133 | X19: 164 | Y19: 218 | Z19: 83 | AA19: =IFERROR(SUM(I19:Z19)/SUM(I20:Z20),0) -> 1
H20: ='PANEL DE CONTROL DISTRITAL'!H19 -> Credenciales recibidas | I20: 11 | J20: 132 | K20: 104 | L20: 94 | M20: 105 | N20: 209 | O20: 95 | P20: 61 | Q20: 175 | R20: 84 | S20: 159 | T20: 149 | U20: 61 | V20: 236 | W20: 133 | X20: 164 | Y20: 218 | Z20: 83
A22: ='PANEL DE CONTROL DISTRITAL'!A21 -> 5 | B22: ='PANEL DE CONTROL DISTRITAL'!B21 -> CONCILIACIÓN | C22: ='PANEL DE CONTROL DISTRITAL'!C21 -> Responsable de Módulo | D22: ='PANEL DE CONTROL DISTRITAL'!D21 -> Credenciales disponibles para entrega = | E22: ='PANEL DE CONTROL DISTRITAL'!E21 -> (Credenciales en resguardo / Credenciales totales en SIIRFE disponibles para entrega) x 100 | F22: ='PANEL DE CONTROL DISTRITAL'!F21 -> Semanal (remesa) | G22: ='PANEL DE CONTROL DISTRITAL'!G21 -> 1 | H22: ='PANEL DE CONTROL DISTRITAL'!H21 -> Credenciales en resguardo | I22: 427 | J22: 398 | K22: 417 | L22: 435 | M22: 424 | N22: 488 | O22: 544 | P22: 466 | Q22: 451 | R22: 456 | S22: 457 | T22: 484 | U22: 382 | V22: 564 | W22: 543 | X22: 420 | Y22: 522 | Z22: 386 | AA22: =IFERROR(SUM(I22:Z22)/SUM(I23:Z23),0) -> 1
H23: ='PANEL DE CONTROL DISTRITAL'!H22 -> Credenciales totales en SIIRFE disponibles para entrega | I23: 427 | J23: 398 | K23: 417 | L23: 435 | M23: 424 | N23: 488 | O23: 544 | P23: 466 | Q23: 451 | R23: 456 | S23: 457 | T23: 484 | U23: 382 | V23: 564 | W23: 543 | X23: 420 | Y23: 522 | Z23: 386
A25: ='PANEL DE CONTROL DISTRITAL'!A24 -> 6 | B25: ='PANEL DE CONTROL DISTRITAL'!B24 -> ENTREGA | C25: ='PANEL DE CONTROL DISTRITAL'!C24 -> Operador de Equipo Tecnológico | D25: ='PANEL DE CONTROL DISTRITAL'!D24 -> Efectividad de entrega de CPV en MAC = | E25: ='PANEL DE CONTROL DISTRITAL'!E24 -> (Total de credenciales entregadas / Total de credenciales solicitadas) x 100 | F25: ='PANEL DE CONTROL DISTRITAL'!F24 -> Semanal (remesa) | G25: ='PANEL DE CONTROL DISTRITAL'!G24 -> 0.9 | H25: ='PANEL DE CONTROL DISTRITAL'!H24 -> Total de credenciales entregadas | I25: 1 | J25: 161 | K25: 82 | L25: 76 | M25: 116 | N25: 144 | O25: 39 | P25: 139 | Q25: 190 | R25: 79 | S25: 158 | T25: 122 | U25: 163 | V25: 54 | W25: 154 | X25: 136 | Y25: 116 | Z25: 219 | AA25: =IFERROR(SUM(I25:Z25)/SUM(I26:Z26),0) -> 1
H26: ='PANEL DE CONTROL DISTRITAL'!H25 -> Total de credenciales solicitadas | I26: 1 | J26: 161 | K26: 82 | L26: 76 | M26: 116 | N26: 144 | O26: 39 | P26: 139 | Q26: 190 | R26: 79 | S26: 158 | T26: 122 | U26: 163 | V26: 54 | W26: 154 | X26: 136 | Y26: 116 | Z26: 219
B27: *Registre el valor nominal solicitado en la celda, el resultado proporcional esta automatizado.
I29: Semaforización
J30: Valor que requiere atención y justificación en el apartado de observaciones
J31: Valor suficiente
J32: Valor esperado
B34: CUADRO DE OBSERVACIONES
B35: Descripción | H35: No conformidad

Sheet 160258
A1: ='PANEL DE CONTROL DISTRITAL'!A1:Q1 -> INSTITUTO NACIONAL ELECTORAL SISTEMA DE GESTIÓN DE LA CALIDAD MICHOACÁN
D2: Distrito | E2: 2 | F2: Módulo | H2: 160258 | W2: ='PANEL DE CONTROL DISTRITAL'!AC2 -> Fecha de corte 31/12/2023
A4: TABLERO DE CONTROL DISTRITAL DE PROCESOS SUSTANTIVOS DEL SISTEMA DE GESTIÓN DE LA CALIDAD 2023 -2024
A6: ='PANEL DE CONTROL DISTRITAL'!A6 -> Número | B6: ='PANEL DE CONTROL DISTRITAL'!B6 -> PROCESOS SUSTANTIVOS E INDICADORES | I6: SEMANA OPERATIVA | AA6: % AVANCE REGISTRADO
B7: ='PANEL DE CONTROL DISTRITAL'!B7 -> DESCRIPCIÓN | E7: ='PANEL DE CONTROL DISTRITAL'!E7 -> MEDICIÓN | I7: ='PANEL DE CONTROL DISTRITAL'!A5 -> CAMPAÑA ANUAL INTENSA 2023_2024
B9: ='PANEL DE CONTROL DISTRITAL'!B8 -> Proceso | C9: ='PANEL DE CONTROL DISTRITAL'!C8 -> Dueño de Proceso | D9: ='PANEL DE CONTROL DISTRITAL'!D8 -> Indicador | E9: ='PANEL DE CONTROL DISTRITAL'!E8 -> Cálculo | F9: ='PANEL DE CONTROL DISTRITAL'!F8 -> Periodo | G9: ='PANEL DE CONTROL DISTRITAL'!G8 -> Estimado | H9: ='PANEL DE CONTROL DISTRITAL'!H8 -> Nominativo | I9: ='160151'!I9 -> 2023-37 | J9: ='160151'!J9 -> 2023-38 | K9: ='160151'!K9 -> 2023-39 | L9: ='160151'!L9 -> 2023-40 | M9: ='160151'!M9 -> 2023-41 | N9: ='160151'!N9 -> 2023-42 | O9: ='160151'!O9 -> 2023-43 | P9: ='160151'!P9 -> 2023-44 | ... Z9: ='160151'!Z9 -> 2023-54
A10: ='PANEL DE CONTROL DISTRITAL'!A9 -> 1 | B10: ='PANEL DE CONTROL DISTRITAL'!B9 -> ENTREVISTA | C10: ='PANEL DE CONTROL DISTRITAL'!C9 -> Auxiliar de Atención Ciudadana | D10: ='PANEL DE CONTROL DISTRITAL'!D9 -> Efectividad de la entrevista = | E10: ='PANEL DE CONTROL DISTRITAL'!E9 -> (Número de trámites aplicados / (Número de fichas requisitadas - Notificaciones de improcedencia de trámite)) x 100 | F10: ='PANEL DE CONTROL DISTRITAL'!F9 -> Semanal (remesa) | G10: ='PANEL DE CONTROL DISTRITAL'!G9 -> 0.9 | H10: ='PANEL DE CONTROL DISTRITAL'!H9 -> Número de trámites aplicados | I10: 3 | J10: 118 | K10: 153 | L10: 151 | M10: 126 | N10: 109 | O10: 81 | P10: 95 | Q10: 167 | R10: 135 | S10: 284 | T10: 201 | U10: 162 | V10: 263 | W10: 169 | X10: 168 | Y10: 205 | Z10: 125 | AA10: =IFERROR(SUM(I10:Z10)/SUM(I11:Z11),0) -> 1
H11: ='PANEL DE CONTROL DISTRITAL'!H10 -> Número de fichas requisitadas - Notificaciones de improcedencia de trámite | I11: 3 | J11: 118 | K11: 153 | L11: 151 | M11: 126 | N11: 109 | O11: 81 | P11: 95 | Q11: 167 | R11: 135 | S11: 284 | T11: 201 | U11: 162 | V11: 263 | W11: 169 | X11: 168 | Y11: 205 | Z11: 125
A13: ='PANEL DE CONTROL DISTRITAL'!A12 -> 2 | B13: ='PANEL DE CONTROL DISTRITAL'!B12 -> TRÁMITE | C13: ='PANEL DE CONTROL DISTRITAL'!C12 -> Operador de Equipo Tecnológico | D13: ='PANEL DE CONTROL DISTRITAL'!D12 -> Trámites exitosos efectivos= | E13: ='PANEL DE CONTROL DISTRITAL'!E12 -> (Número de trámites exitosos / Número de trámites aplicados) x 100 | F13: ='PANEL DE CONTROL DISTRITAL'!F12 -> Semanal (remesa) | G13: ='PANEL DE CONTROL DISTRITAL'!G12 -> 0.9 | H13: ='PANEL DE CONTROL DISTRITAL'!H12 -> Número de trámites exitosos | I13: 3 | J13: 118 | K13: 151 | L13: 149 | M13: 126 | N13: 109 | O13: 80 | P13: 94 | Q13: 167 | R13: 134 | S13: 283 | T13: 199 | U13: 159 | V13: 261 | W13: 166 | X13: 164 | Y13: 201 | Z13: 125 | AA13: =IFERROR(SUM(I13:Z13)/SUM(I14:Z14),0) -> 0.99042357
H14: ='PANEL DE CONTROL DISTRITAL'!H13 -> Número de trámites aplicados | I14: 3 | J14: 118 | K14: 153 | L14: 151 | M14: 126 | N14: 109 | O14: 81 | P14: 95 | Q14: 167 | R14: 135 | S14: 284 | T14: 201 | U14: 162 | V14: 263 | W14: 169 | X14: 168 | Y14: 205 | Z14: 125
A16: ='PANEL DE CONTROL DISTRITAL'!A15 -> 3 | B16: ='PANEL DE CONTROL DISTRITAL'!B15 -> TRANSFERENCIA | C16: ='PANEL DE CONTROL DISTRITAL'!C15 -> Responsable de Módulo | D16: ='PANEL DE CONTROL DISTRITAL'!D15 -> Transacciones exitosas = | E16: ='PANEL DE CONTROL DISTRITAL'!E15 -> (Número de Archivos de Transacción aceptados /Total de Archivos de Transacción procesados) x100 | F16: ='PANEL DE CONTROL DISTRITAL'!F15 -> Semanal (remesa) | G16: ='PANEL DE CONTROL DISTRITAL'!G15 -> 0.9 | H16: ='PANEL DE CONTROL DISTRITAL'!H15 -> Número de Archivos de Transacción aceptados | I16: 3 | J16: 118 | K16: 153 | L16: 151 | M16: 126 | N16: 109 | O16: 81 | P16: 95 | Q16: 167 | R16: 135 | S16: 284 | T16: 201 | U16: 162 | V16: 262 | W16: 169 | X16: 168 | Y16: 205 | Z16: 125 | AA16: =IFERROR(SUM(I16:Z16)/SUM(I17:Z17),0) -> 0.99963168
H17: ='PANEL DE CONTROL DISTRITAL'!H16 -> Total de Archivos de Transacción procesados | I17: 3 | J17: 118 | K17: 153 | L17: 151 | M17: 126 | N17: 109 | O17: 81 | P17: 95 | Q17: 167 | R17: 135 | S17: 284 | T17: 201 | U17: 162 | V17: 263 | W17: 169 | X17: 168 | Y17: 205 | Z17: 125
A19: ='PANEL DE CONTROL DISTRITAL'!A18 -> 4 | B19: ='PANEL DE CONTROL DISTRITAL'!B18 -> CONCILIACIÓN | C19: ='PANEL DE CONTROL DISTRITAL'!C18 -> Responsable de Módulo | D19: ='PANEL DE CONTROL DISTRITAL'!D18 -> Credenciales disponibles para entrega = | E19: ='PANEL DE CONTROL DISTRITAL'!E18 -> ((Credenciales recibidas - Credenciales inconsistentes) / Credenciales recibidas) x 100 | F19: ='PANEL DE CONTROL DISTRITAL'!F18 -> Semanal (remesa) | G19: ='PANEL DE CONTROL DISTRITAL'!G18 -> 0.9 | H19: ='PANEL DE CONTROL DISTRITAL'!H18 -> Credenciales Recibidas - Credenciales inconsistentes | I19: 12 | J19: 80 | K19: 118 | L19: 149 | M19: 148 | N19: 126 | O19: 196 | P19: 82 | Q19: 146 | R19: 112 | S19: 240 | T19: 211 | U19: 128 | V19: 222 | W19: 276 | X19: 127 | Y19: 152 | Z19: 125 | AA19: =IFERROR(SUM(I19:Z19)/SUM(I20:Z20),0) -> 0.9988692
H20: ='PANEL DE CONTROL DISTRITAL'!H19 -> Credenciales recibidas | I20: 12 | J20: 80 | K20: 118 | L20: 149 | M20: 148 | N20: 126 | O20: 196 | P20: 82 | Q20: 146 | R20: 112 | S20: 240 | T20: 211 | U20: 128 | V20: 222 | W20: 276 | X20: 127 | Y20: 152 | Z20: 128
A22: ='PANEL DE CONTROL DISTRITAL'!A21 -> 5 | B22: ='PANEL DE CONTROL DISTRITAL'!B21 -> CONCILIACIÓN | C22: ='PANEL DE CONTROL DISTRITAL'!C21 -> Responsable de Módulo | D22: ='PANEL DE CONTROL DISTRITAL'!D21 -> Credenciales disponibles para entrega = | E22: ='PANEL DE CONTROL DISTRITAL'!E21 -> (Credenciales en resguardo / Credenciales totales en SIIRFE disponibles para entrega) x 100 | F22: ='PANEL DE CONTROL DISTRITAL'!F21 -> Semanal (remesa) | G22: ='PANEL DE CONTROL DISTRITAL'!G21 -> 1 | H22: ='PANEL DE CONTROL DISTRITAL'!H21 -> Credenciales en resguardo | I22: 278 | J22: 267 | K22: 324 | L22: 441 | M22: 428 | N22: 693 | O22: 447 | P22: 448 | Q22: 511 | R22: 534 | S22: 629 | T22: 660 | U22: 593 | V22: 520 | W22: 592 | X22: 555 | Y22: 454 | Z22: 412 | AA22: =IFERROR(SUM(I22:Z22)/SUM(I23:Z23),0) -> 1
H23: ='PANEL DE CONTROL DISTRITAL'!H22 -> Credenciales totales en SIIRFE disponibles para entrega | I23: 278 | J23: 267 | K23: 324 | L23: 441 | M23: 428 | N23: 693 | O23: 447 | P23: 448 | Q23: 511 | R23: 534 | S23: 629 | T23: 660 | U23: 593 | V23: 520 | W23: 592 | X23: 555 | Y23: 454 | Z23: 412
A25: ='PANEL DE CONTROL DISTRITAL'!A24 -> 6 | B25: ='PANEL DE CONTROL DISTRITAL'!B24 -> ENTREGA | C25: ='PANEL DE CONTROL DISTRITAL'!C24 -> Operador de Equipo Tecnológico | D25: ='PANEL DE CONTROL DISTRITAL'!D24 -> Efectividad de entrega de CPV en MAC = | E25: ='PANEL DE CONTROL DISTRITAL'!E24 -> (Total de credenciales entregadas / Total de credenciales solicitadas) x 100 | F25: ='PANEL DE CONTROL DISTRITAL'!F24 -> Semanal (remesa) | G25: ='PANEL DE CONTROL DISTRITAL'!G24 -> 0.9 | H25: ='PANEL DE CONTROL DISTRITAL'!H24 -> Total de credenciales entregadas | I25: 26 | J25: 105 | K25: 86 | L25: 0 | M25: 153 | N25: 128 | O25: 351 | P25: 81 | Q25: 83 | R25: 89 | S25: 140 | T25: 180 | U25: 195 | V25: 295 | W25: 201 | X25: 164 | Y25: 252 | Z25: 170 | AA25: =IFERROR(SUM(I25:Z25)/SUM(I26:Z26),0) -> 1
H26: ='PANEL DE CONTROL DISTRITAL'!H25 -> Total de credenciales solicitadas | I26: 26 | J26: 105 | K26: 86 | L26: 0 | M26: 153 | N26: 128 | O26: 351 | P26: 81 | Q26: 83 | R26: 89 | S26: 140 | T26: 180 | U26: 195 | V26: 295 | W26: 201 | X26: 164 | Y26: 252 | Z26: 170
B27: *Registre el valor nominal solicitado en la celda, el resultado proporcional esta automatizado.
I29: Semaforización
J30: Valor que requiere atención y justificación en el apartado de observaciones
J31: Valor suficiente
J32: Valor esperado
B34: CUADRO DE OBSERVACIONES
B35: Descripción | H35: No conformidad

Sheet 160351
A1: ='PANEL DE CONTROL DISTRITAL'!A1:Q1 -> INSTITUTO NACIONAL ELECTORAL SISTEMA DE GESTIÓN DE LA CALIDAD MICHOACÁN
D2: Distrito | E2: 3 | F2: Módulo | H2: 160351 | W2: ='PANEL DE CONTROL DISTRITAL'!AC2 -> Fecha de corte 31/12/2023
A4: TABLERO DE CONTROL DISTRITAL DE PROCESOS SUSTANTIVOS DEL SISTEMA DE GESTIÓN DE LA CALIDAD 2023 -2024
A6: ='PANEL DE CONTROL DISTRITAL'!A6 -> Número | B6: ='PANEL DE CONTROL DISTRITAL'!B6 -> PROCESOS SUSTANTIVOS E INDICADORES | I6: SEMANA OPERATIVA | AA6: % AVANCE REGISTRADO
B7: ='PANEL DE CONTROL DISTRITAL'!B7 -> DESCRIPCIÓN | E7: ='PANEL DE CONTROL DISTRITAL'!E7 -> MEDICIÓN | I7: ='PANEL DE CONTROL DISTRITAL'!A5 -> CAMPAÑA ANUAL INTENSA 2023_2024
B9: ='PANEL DE CONTROL DISTRITAL'!B8 -> Proceso | C9: ='PANEL DE CONTROL DISTRITAL'!C8 -> Dueño de Proceso | D9: ='PANEL DE CONTROL DISTRITAL'!D8 -> Indicador | E9: ='PANEL DE CONTROL DISTRITAL'!E8 -> Cálculo | F9: ='PANEL DE CONTROL DISTRITAL'!F8 -> Periodo | G9: ='PANEL DE CONTROL DISTRITAL'!G8 -> Estimado | H9: ='PANEL DE CONTROL DISTRITAL'!H8 -> Nominativo | I9: ='160151'!I9 -> 2023-37 | J9: ='160151'!J9 -> 2023-38 | K9: ='160151'!K9 -> 2023-39 | L9: ='160151'!L9 -> 2023-40 | M9: ='160151'!M9 -> 2023-41 | N9: ='160151'!N9 -> 2023-42 | O9: ='160151'!O9 -> 2023-43 | P9: ='160151'!P9 -> 2023-44 | ... Z9: ='160151'!Z9 -> 2023-54
A10: ='PANEL DE CONTROL DISTRITAL'!A9 -> 1 | B10: ='PANEL DE CONTROL DISTRITAL'!B9 -> ENTREVISTA | C10: ='PANEL DE CONTROL DISTRITAL'!C9 -> Auxiliar de Atención Ciudadana | D10: ='PANEL DE CONTROL DISTRITAL'!D9 -> Efectividad de la entrevista = | E10: ='PANEL DE CONTROL DISTRITAL'!E9 -> (Número de trámites aplicados / (Número de fichas requisitadas - Notificaciones de improcedencia de trámite)) x 100 | F10: ='PANEL DE CONTROL DISTRITAL'!F9 -> Semanal (remesa) | G10: ='PANEL DE CONTROL DISTRITAL'!G9 -> 0.9 | H10: ='PANEL DE CONTROL DISTRITAL'!H9 -> Número de trámites aplicados | I10: 84 | J10: 438 | K10: 445 | L10: 445 | M10: 500 | N10: 459 | O10: 496 | P10: 485 | Q10: 444 | R10: 353 | S10: 558 | T10: 603 | U10: 543 | V10: 755 | W10: 731 | X10: 590 | Y10: 835 | Z10: 689 | AA10: =IFERROR(SUM(I10:Z10)/SUM(I11:Z11),0) -> 1
H11: ='PANEL DE CONTROL DISTRITAL'!H10 -> Número de fichas requisitadas - Notificaciones de improcedencia de trámite | I11: 84 | J11: 438 | K11: 445 | L11: 445 | M11: 500 | N11: 459 | O11: 496 | P11: 485 | Q11: 444 | R11: 353 | S11: 558 | T11: 603 | U11: 543 | V11: 755 | W11: 731 | X11: 590 | Y11: 835 | Z11: 689
A13: ='PANEL DE CONTROL DISTRITAL'!A12 -> 2 | B13: ='PANEL DE CONTROL DISTRITAL'!B12 -> TRÁMITE | C13: ='PANEL DE CONTROL DISTRITAL'!C12 -> Operador de Equipo Tecnológico | D13: ='PANEL DE CONTROL DISTRITAL'!D12 -> Trámites exitosos efectivos= | E13: ='PANEL DE CONTROL DISTRITAL'!E12 -> (Número de trámites exitosos / Número de trámites aplicados) x 100 | F13: ='PANEL DE CONTROL DISTRITAL'!F12 -> Semanal (remesa) | G13: ='PANEL DE CONTROL DISTRITAL'!G12 -> 0.9 | H13: ='PANEL DE CONTROL DISTRITAL'!H12 -> Número de trámites exitosos | I13: 84 | J13: 437 | K13: 444 | L13: 443 | M13: 499 | N13: 458 | O13: 495 | P13: 484 | Q13: 441 | R13: 352 | S13: 355 | T13: 602 | U13: 542 | V13: 752 | W13: 729 | X13: 589 | Y13: 828 | Z13: 686 | AA13: =IFERROR(SUM(I13:Z13)/SUM(I14:Z14),0) -> 0.97535174
H14: ='PANEL DE CONTROL DISTRITAL'!H13 -> Número de trámites aplicados | I14: 84 | J14: 438 | K14: 445 | L14: 445 | M14: 500 | N14: 459 | O14: 496 | P14: 485 | Q14: 444 | R14: 353 | S14: 558 | T14: 603 | U14: 543 | V14: 755 | W14: 731 | X14: 590 | Y14: 835 | Z14: 689
A16: ='PANEL DE CONTROL DISTRITAL'!A15 -> 3 | B16: ='PANEL DE CONTROL DISTRITAL'!B15 -> TRANSFERENCIA | C16: ='PANEL DE CONTROL DISTRITAL'!C15 -> Responsable de Módulo | D16: ='PANEL DE CONTROL DISTRITAL'!D15 -> Transacciones exitosas = | E16: ='PANEL DE CONTROL DISTRITAL'!E15 -> (Número de Archivos de Transacción aceptados /Total de Archivos de Transacción procesados) x100 | F16: ='PANEL DE CONTROL DISTRITAL'!F15 -> Semanal (remesa) | G16: ='PANEL DE CONTROL DISTRITAL'!G15 -> 0.9 | H16: ='PANEL DE CONTROL DISTRITAL'!H15 -> Número de Archivos de Transacción aceptados | I16: 84 | J16: 438 | K16: 445 | L16: 445 | M16: 500 | N16: 459 | O16: 496 | P16: 485 | Q16: 444 | R16: 353 | S16: 558 | T16: 603 | U16: 543 | V16: 755 | W16: 731 | X16: 590 | Y16: 835 | Z16: 689 | AA16: =IFERROR(SUM(I16:Z16)/SUM(I17:Z17),0) -> 1
H17: ='PANEL DE CONTROL DISTRITAL'!H16 -> Total de Archivos de Transacción procesados | I17: 84 | J17: 438 | K17: 445 | L17: 445 | M17: 500 | N17: 459 | O17: 496 | P17: 485 | Q17: 444 | R17: 353 | S17: 558 | T17: 603 | U17: 543 | V17: 755 | W17: 731 | X17: 590 | Y17: 835 | Z17: 689
A19: ='PANEL DE CONTROL DISTRITAL'!A18 -> 4 | B19: ='PANEL DE CONTROL DISTRITAL'!B18 -> CONCILIACIÓN | C19: ='PANEL DE CONTROL DISTRITAL'!C18 -> Responsable de Módulo | D19: ='PANEL DE CONTROL DISTRITAL'!D18 -> Credenciales disponibles para entrega = | E19: ='PANEL DE CONTROL DISTRITAL'!E18 -> ((Credenciales recibidas - Credenciales inconsistentes) / Credenciales recibidas) x 100 | F19: ='PANEL DE CONTROL DISTRITAL'!F18 -> Semanal (remesa) | G19: ='PANEL DE CONTROL DISTRITAL'!G18 -> 0.9 | H19: ='PANEL DE CONTROL DISTRITAL'!H18 -> Credenciales Recibidas - Credenciales inconsistentes | I19: 64 | J19: 317 | K19: 453 | L19: 518 | M19: 475 | N19: 556 | O19: 276 | P19: 624 | Q19: 447 | R19: 429 | S19: 481 | T19: 467 | U19: 546 | V19: 794 | W19: 876 | X19: 304 | Y19: 639 | Z19: 361 | AA19: =IFERROR(SUM(I19:Z19)/SUM(I20:Z20),0) -> 1
H20: ='PANEL DE CONTROL DISTRITAL'!H19 -> Credenciales recibidas | I20: 64 | J20: 317 | K20: 453 | L20: 518 | M20: 475 | N20: 556 | O20: 276 | P20: 624 | Q20: 447 | R20: 429 | S20: 481 | T20: 467 | U20: 546 | V20: 794 | W20: 876 | X20: 304 | Y20: 639 | Z20: 361
A22: ='PANEL DE CONTROL DISTRITAL'!A21 -> 5 | B22: ='PANEL DE CONTROL DISTRITAL'!B21 -> CONCILIACIÓN | C22: ='PANEL DE CONTROL DISTRITAL'!C21 -> Responsable de Módulo | D22: ='PANEL DE CONTROL DISTRITAL'!D21 -> Credenciales disponibles para entrega = | E22: ='PANEL DE CONTROL DISTRITAL'!E21 -> (Credenciales en resguardo / Credenciales totales en SIIRFE disponibles para entrega) x 100 | F22: ='PANEL DE CONTROL DISTRITAL'!F21 -> Semanal (remesa) | G22: ='PANEL DE CONTROL DISTRITAL'!G21 -> 1 | H22: ='PANEL DE CONTROL DISTRITAL'!H21 -> Credenciales en resguardo | I22: 705 | J22: 572 | K22: 595 | L22: 652 | M22: 683 | N22: 699 | O22: 586 | P22: 659 | Q22: 612 | R22: 691 | S22: 712 | T22: 668 | U22: 794 | V22: 996 | W22: 1260 | X22: 889 | Y22: 918 | Z22: 604 | AA22: =IFERROR(SUM(I22:Z22)/SUM(I23:Z23),0) -> 1
H23: ='PANEL DE CONTROL DISTRITAL'!H22 -> Credenciales totales en SIIRFE disponibles para entrega | I23: 705 | J23: 572 | K23: 595 | L23: 652 | M23: 683 | N23: 699 | O23: 586 | P23: 659 | Q23: 612 | R23: 691 | S23: 712 | T23: 668 | U23: 794 | V23: 996 | W23: 1260 | X23: 889 | Y23: 918 | Z23: 604
A25: ='PANEL DE CONTROL DISTRITAL'!A24 -> 6 | B25: ='PANEL DE CONTROL DISTRITAL'!B24 -> ENTREGA | C25: ='PANEL DE CONTROL DISTRITAL'!C24 -> Operador de Equipo Tecnológico | D25: ='PANEL DE CONTROL DISTRITAL'!D24 -> Efectividad de entrega de CPV en MAC = | E25: ='PANEL DE CONTROL DISTRITAL'!E24 -> (Total de credenciales entregadas / Total de credenciales solicitadas) x 100 | F25: ='PANEL DE CONTROL DISTRITAL'!F24 -> Semanal (remesa) | G25: ='PANEL DE CONTROL DISTRITAL'!G24 -> 0.9 | H25: ='PANEL DE CONTROL DISTRITAL'!H24 -> Total de credenciales entregadas | I25: 102 | J25: 450 | K25: 423 | L25: 461 | M25: 444 | N25: 539 | O25: 389 | P25: 551 | Q25: 494 | R25: 350 | S25: 459 | T25: 511 | U25: 418 | V25: 592 | W25: 609 | X25: 675 | Y25: 610 | Z25: 675 | AA25: =IFERROR(SUM(I25:Z25)/SUM(I26:Z26),0) -> 1
H26: ='PANEL DE CONTROL DISTRITAL'!H25 -> Total de credenciales solicitadas | I26: 102 | J26: 450 | K26: 423 | L26: 461 | M26: 444 | N26: 539 | O26: 389 | P26: 551 | Q26: 494 | R26: 350 | S26: 459 | T26: 511 | U26: 418 | V26: 592 | W26: 609 | X26: 675 | Y26: 610 | Z26: 675
B27: *Registre el valor nominal solicitado en la celda, el resultado proporcional esta automatizado.
I29: Semaforización
J30: Valor que requiere atención y justificación en el apartado de observaciones
J31: Valor suficiente
J32: Valor esperado
B34: CUADRO DE OBSERVACIONES
B35: Descripción | H35: No conformidad

Sheet 160352
A1: ='PANEL DE CONTROL DISTRITAL'!A1:Q1 -> INSTITUTO NACIONAL ELECTORAL SISTEMA DE GESTIÓN DE LA CALIDAD MICHOACÁN
D2: Distrito | E2: 3 | F2: Módulo | H2: 160352 | W2: ='PANEL DE CONTROL DISTRITAL'!AC2 -> Fecha de corte 31/12/2023
A4: TABLERO DE CONTROL DISTRITAL DE PROCESOS SUSTANTIVOS DEL SISTEMA DE GESTIÓN DE LA CALIDAD 2023 -2024
A6: ='PANEL DE CONTROL DISTRITAL'!A6 -> Número | B6: ='PANEL DE CONTROL DISTRITAL'!B6 -> PROCESOS SUSTANTIVOS E INDICADORES | I6: SEMANA OPERATIVA | AA6: % AVANCE REGISTRADO
B7: ='PANEL DE CONTROL DISTRITAL'!B7 -> DESCRIPCIÓN | E7: ='PANEL DE CONTROL DISTRITAL'!E7 -> MEDICIÓN | I7: ='PANEL DE CONTROL DISTRITAL'!A5 -> CAMPAÑA ANUAL INTENSA 2023_2024
B9: ='PANEL DE CONTROL DISTRITAL'!B8 -> Proceso | C9: ='PANEL DE CONTROL DISTRITAL'!C8 -> Dueño de Proceso | D9: ='PANEL DE CONTROL DISTRITAL'!D8 -> Indicador | E9: ='PANEL DE CONTROL DISTRITAL'!E8 -> Cálculo | F9: ='PANEL DE CONTROL DISTRITAL'!F8 -> Periodo | G9: ='PANEL DE CONTROL DISTRITAL'!G8 -> Estimado | H9: ='PANEL DE CONTROL DISTRITAL'!H8 -> Nominativo | I9: ='160151'!I9 -> 2023-37 | J9: ='160151'!J9 -> 2023-38 | K9: ='160151'!K9 -> 2023-39 | L9: ='160151'!L9 -> 2023-40 | M9: ='160151'!M9 -> 2023-41 | N9: ='160151'!N9 -> 2023-42 | O9: ='160151'!O9 -> 2023-43 | P9: ='160151'!P9 -> 2023-44 | ... Z9: ='160151'!Z9 -> 2023-54
A10: ='PANEL DE CONTROL DISTRITAL'!A9 -> 1 | B10: ='PANEL DE CONTROL DISTRITAL'!B9 -> ENTREVISTA | C10: ='PANEL DE CONTROL DISTRITAL'!C9 -> Auxiliar de Atención Ciudadana | D10: ='PANEL DE CONTROL DISTRITAL'!D9 -> Efectividad de la entrevista = | E10: ='PANEL DE CONTROL DISTRITAL'!E9 -> (Número de trámites aplicados / (Número de fichas requisitadas - Notificaciones de improcedencia de trámite)) x 100 | F10: ='PANEL DE CONTROL DISTRITAL'!F9 -> Semanal (remesa) | G10: ='PANEL DE CONTROL DISTRITAL'!G9 -> 0.9 | H10: ='PANEL DE CONTROL DISTRITAL'!H9 -> Número de trámites aplicados | I10: 7 | J10: 97 | K10: 62 | L10: 110 | M10: 119 | N10: 199 | O10: 130 | P10: 98 | Q10: 109 | R10: 97 | S10: 216 | T10: 132 | U10: 88 | V10: 86 | W10: 253 | X10: 193 | Y10: 125 | Z10: 84 | AA10: =IFERROR(SUM(I10:Z10)/SUM(I11:Z11),0) -> 1
H11: ='PANEL DE CONTROL DISTRITAL'!H10 -> Número de fichas requisitadas - Notificaciones de improcedencia de trámite | I11: 7 | J11: 97 | K11: 62 | L11: 110 | M11: 119 | N11: 199 | O11: 130 | P11: 98 | Q11: 109 | R11: 97 | S11: 216 | T11: 132 | U11: 88 | V11: 86 | W11: 253 | X11: 193 | Y11: 125 | Z11: 84
A13: ='PANEL DE CONTROL DISTRITAL'!A12 -> 2 | B13: ='PANEL DE CONTROL DISTRITAL'!B12 -> TRÁMITE | C13: ='PANEL DE CONTROL DISTRITAL'!C12 -> Operador de Equipo Tecnológico | D13: ='PANEL DE CONTROL DISTRITAL'!D12 -> Trámites exitosos efectivos= | E13: ='PANEL DE CONTROL DISTRITAL'!E12 -> (Número de trámites exitosos / Número de trámites aplicados) x 100 | F13: ='PANEL DE CONTROL DISTRITAL'!F12 -> Semanal (remesa) | G13: ='PANEL DE CONTROL DISTRITAL'!G12 -> 0.9 | H13: ='PANEL DE CONTROL DISTRITAL'!H12 -> Número de trámites exitosos | I13: 7 | J13: 97 | K13: 62 | L13: 108 | M13: 116 | N13: 197 | O13: 130 | P13: 98 | Q13: 109 | R13: 97 | S13: 215 | T13: 132 | U13: 88 | V13: 86 | W13: 253 | X13: 193 | Y13: 125 | Z13: 84 | AA13: =IFERROR(SUM(I13:Z13)/SUM(I14:Z14),0) -> 0.99637188
H14: ='PANEL DE CONTROL DISTRITAL'!H13 -> Número de trámites aplicados | I14: 7 | J14: 97 | K14: 62 | L14: 110 | M14: 119 | N14: 199 | O14: 130 | P14: 98 | Q14: 109 | R14: 97 | S14: 216 | T14: 132 | U14: 88 | V14: 86 | W14: 253 | X14: 193 | Y14: 125 | Z14: 84
A16: ='PANEL DE CONTROL DISTRITAL'!A15 -> 3 | B16: ='PANEL DE CONTROL DISTRITAL'!B15 -> TRANSFERENCIA | C16: ='PANEL DE CONTROL DISTRITAL'!C15 -> Responsable de Módulo | D16: ='PANEL DE CONTROL DISTRITAL'!D15 -> Transacciones exitosas = | E16: ='PANEL DE CONTROL DISTRITAL'!E15 -> (Número de Archivos de Transacción aceptados /Total de Archivos de Transacción procesados) x100 | F16: ='PANEL DE CONTROL DISTRITAL'!F15 -> Semanal (remesa) | G16: ='PANEL DE CONTROL DISTRITAL'!G15 -> 0.9 | H16: ='PANEL DE CONTROL DISTRITAL'!H15 -> Número de Archivos de Transacción aceptados | I16: 7 | J16: 97 | K16: 62 | L16: 110 | M16: 119 | N16: 199 | O16: 130 | P16: 98 | Q16: 109 | R16: 97 | S16: 216 | T16: 132 | U16: 88 | V16: 86 | W16: 253 | X16: 193 | Y16: 125 | Z16: 84 | AA16: =IFERROR(SUM(I16:Z16)/SUM(I17:Z17),0) -> 1
H17: ='PANEL DE CONTROL DISTRITAL'!H16 -> Total de Archivos de Transacción procesados | I17: 7 | J17: 97 | K17: 62 | L17: 110 | M17: 119 | N17: 199 | O17: 130 | P17: 98 | Q17: 109 | R17: 97 | S17: 216 | T17: 132 | U17: 88 | V17: 86 | W17: 253 | X17: 193 | Y17: 125 | Z17: 84
A19: ='PANEL DE CONTROL DISTRITAL'!A18 -> 4 | B19: ='PANEL DE CONTROL DISTRITAL'!B18 -> CONCILIACIÓN | C19: ='PANEL DE CONTROL DISTRITAL'!C18 -> Responsable de Módulo | D19: ='PANEL DE CONTROL DISTRITAL'!D18 -> Credenciales disponibles para entrega = | E19: ='PANEL DE CONTROL DISTRITAL'!E18 -> ((Credenciales recibidas - Credenciales inconsistentes) / Credenciales recibidas) x 100 | F19: ='PANEL DE CONTROL DISTRITAL'!F18 -> Semanal (remesa) | G19: ='PANEL DE CONTROL DISTRITAL'!G18 -> 0.9 | H19: ='PANEL DE CONTROL DISTRITAL'!H18 -> Credenciales Recibidas - Credenciales inconsistentes | I19: 95 | J19: 133 | K19: 41 | L19: 90 | M19: 710 | N19: 164 | O19: 113 | P19: 105 | Q19: 133 | R19: 127 | S19: 190 | T19: 122 | U19: 0 | V19: 163 | W19: 79 | X19: 318 | Y19: 94 | Z19: 129 | AA19: =IFERROR(SUM(I19:Z19)/SUM(I20:Z20),0) -> 1
H20: ='PANEL DE CONTROL DISTRITAL'!H19 -> Credenciales recibidas | I20: 95 | J20: 133 | K20: 41 | L20: 90 | M20: 710 | N20: 164 | O20: 113 | P20: 105 | Q20: 133 | R20: 127 | S20: 190 | T20: 122 | U20: 0 | V20: 163 | W20: 79 | X20: 318 | Y20: 94 | Z20: 129
A22: ='PANEL DE CONTROL DISTRITAL'!A21 -> 5 | B22: ='PANEL DE CONTROL DISTRITAL'!B21 -> CONCILIACIÓN | C22: ='PANEL DE CONTROL DISTRITAL'!C21 -> Responsable de Módulo | D22: ='PANEL DE CONTROL DISTRITAL'!D21 -> Credenciales disponibles para entrega = | E22: ='PANEL DE CONTROL DISTRITAL'!E21 -> (Credenciales en resguardo / Credenciales totales en SIIRFE disponibles para entrega) x 100 | F22: ='PANEL DE CONTROL DISTRITAL'!F21 -> Semanal (remesa) | G22: ='PANEL DE CONTROL DISTRITAL'!G21 -> 1 | H22: ='PANEL DE CONTROL DISTRITAL'!H21 -> Credenciales en resguardo | I22: 477 | J22: 610 | K22: 648 | L22: 731 | M22: 852 | N22: 901 | O22: 741 | P22: 743 | Q22: 659 | R22: 663 | S22: 689 | T22: 647 | U22: 581 | V22: 682 | W22: 571 | X22: 719 | Y22: 631 | Z22: 700 | AA22: =IFERROR(SUM(I22:Z22)/SUM(I23:Z23),0) -> 1
H23: ='PANEL DE CONTROL DISTRITAL'!H22 -> Credenciales totales en SIIRFE disponibles para entrega | I23: 477 | J23: 610 | K23: 648 | L23: 731 | M23: 852 | N23: 901 | O23: 741 | P23: 743 | Q23: 659 | R23: 663 | S23: 689 | T23: 647 | U23: 581 | V23: 682 | W23: 571 | X23: 719 | Y23: 631 | Z23: 700
A25: ='PANEL DE CONTROL DISTRITAL'!A24 -> 6 | B25: ='PANEL DE CONTROL DISTRITAL'!B24 -> ENTREGA | C25: ='PANEL DE CONTROL DISTRITAL'!C24 -> Operador de Equipo Tecnológico | D25: ='PANEL DE CONTROL DISTRITAL'!D24 -> Efectividad de entrega de CPV en MAC = | E25: ='PANEL DE CONTROL DISTRITAL'!E24 -> (Total de credenciales entregadas / Total de credenciales solicitadas) x 100 | F25: ='PANEL DE CONTROL DISTRITAL'!F24 -> Semanal (remesa) | G25: ='PANEL DE CONTROL DISTRITAL'!G24 -> 0.9 | H25: ='PANEL DE CONTROL DISTRITAL'!H24 -> Total de credenciales entregadas | I25: 3 | J25: 0 | K25: 0 | L25: 7 | M25: 64 | N25: 115 | O25: 273 | P25: 103 | Q25: 217 | R25: 123 | S25: 159 | T25: 164 | U25: 66 | V25: 62 | W25: 188 | X25: 170 | Y25: 182 | Z25: 60 | AA25: =IFERROR(SUM(I25:Z25)/SUM(I26:Z26),0) -> 1
H26: ='PANEL DE CONTROL DISTRITAL'!H25 -> Total de credenciales solicitadas | I26: 3 | J26: 0 | K26: 0 | L26: 7 | M26: 64 | N26: 115 | O26: 273 | P26: 103 | Q26: 217 | R26: 123 | S26: 159 | T26: 164 | U26: 66 | V26: 62 | W26: 188 | X26: 170 | Y26: 182 | Z26: 60
B27: *Registre el valor nominal solicitado en la celda, el resultado proporcional esta automatizado.
I29: Semaforización
J30: Valor que requiere atención y justificación en el apartado de observaciones
J31: Valor suficiente
J32: Valor esperado
B34: CUADRO DE OBSERVACIONES
B35: Descripción | H35: No conformidad

Sheet 160354
A1: ='PANEL DE CONTROL DISTRITAL'!A1:Q1 -> INSTITUTO NACIONAL ELECTORAL SISTEMA DE GESTIÓN DE LA CALIDAD MICHOACÁN
D2: Distrito | E2: 3 | F2: Módulo | H2: 160354 | W2: ='PANEL DE CONTROL DISTRITAL'!AC2 -> Fecha de corte 31/12/2023
A4: TABLERO DE CONTROL DISTRITAL DE PROCESOS SUSTANTIVOS DEL SISTEMA DE GESTIÓN DE LA CALIDAD 2023 -2024
A6: ='PANEL DE CONTROL DISTRITAL'!A6 -> Número | B6: ='PANEL DE CONTROL DISTRITAL'!B6 -> PROCESOS SUSTANTIVOS E INDICADORES | I6: SEMANA OPERATIVA | AA6: % AVANCE REGISTRADO
B7: ='PANEL DE CONTROL DISTRITAL'!B7 -> DESCRIPCIÓN | E7: ='PANEL DE CONTROL DISTRITAL'!E7 -> MEDICIÓN | I7: ='PANEL DE CONTROL DISTRITAL'!A5 -> CAMPAÑA ANUAL INTENSA 2023_2024
B9: ='PANEL DE CONTROL DISTRITAL'!B8 -> Proceso | C9: ='PANEL DE CONTROL DISTRITAL'!C8 -> Dueño de Proceso | D9: ='PANEL DE CONTROL DISTRITAL'!D8 -> Indicador | E9: ='PANEL DE CONTROL DISTRITAL'!E8 -> Cálculo | F9: ='PANEL DE CONTROL DISTRITAL'!F8 -> Periodo | G9: ='PANEL DE CONTROL DISTRITAL'!G8 -> Estimado | H9: ='PANEL DE CONTROL DISTRITAL'!H8 -> Nominativo | I9: ='160151'!I9 -> 2023-37 | J9: ='160151'!J9 -> 2023-38 | K9: ='160151'!K9 -> 2023-39 | L9: ='160151'!L9 -> 2023-40 | M9: ='160151'!M9 -> 2023-41 | N9: ='160151'!N9 -> 2023-42 | O9: ='160151'!O9 -> 2023-43 | P9: ='160151'!P9 -> 2023-44 | ... Z9: ='160151'!Z9 -> 2023-54
A10: ='PANEL DE CONTROL DISTRITAL'!A9 -> 1 | B10: ='PANEL DE CONTROL DISTRITAL'!B9 -> ENTREVISTA | C10: ='PANEL DE CONTROL DISTRITAL'!C9 -> Auxiliar de Atención Ciudadana | D10: ='PANEL DE CONTROL DISTRITAL'!D9 -> Efectividad de la entrevista = | E10: ='PANEL DE CONTROL DISTRITAL'!E9 -> (Número de trámites aplicados / (Número de fichas requisitadas - Notificaciones de improcedencia de trámite)) x 100 | F10: ='PANEL DE CONTROL DISTRITAL'!F9 -> Semanal (remesa) | G10: ='PANEL DE CONTROL DISTRITAL'!G9 -> 0.9 | H10: ='PANEL DE CONTROL DISTRITAL'!H9 -> Número de trámites aplicados | I10: 7 | J10: 62 | K10: 77 | L10: 255 | M10: 126 | N10: 90 | O10: 112 | P10: 107 | Q10: 161 | R10: 83 | S10: 190 | T10: 133 | U10: 66 | V10: 252 | W10: 220 | X10: 154 | Y10: 179 | Z10: 89 | AA10: =IFERROR(SUM(I10:Z10)/SUM(I11:Z11),0) -> 1
H11: ='PANEL DE CONTROL DISTRITAL'!H10 -> Número de fichas requisitadas - Notificaciones de improcedencia de trámite | I11: 7 | J11: 62 | K11: 77 | L11: 255 | M11: 126 | N11: 90 | O11: 112 | P11: 107 | Q11: 161 | R11: 83 | S11: 190 | T11: 133 | U11: 66 | V11: 252 | W11: 220 | X11: 154 | Y11: 179 | Z11: 89
A13: ='PANEL DE CONTROL DISTRITAL'!A12 -> 2 | B13: ='PANEL DE CONTROL DISTRITAL'!B12 -> TRÁMITE | C13: ='PANEL DE CONTROL DISTRITAL'!C12 -> Operador de Equipo Tecnológico | D13: ='PANEL DE CONTROL DISTRITAL'!D12 -> Trámites exitosos efectivos= | E13: ='PANEL DE CONTROL DISTRITAL'!E12 -> (Número de trámites exitosos / Número de trámites aplicados) x 100 | F13: ='PANEL DE CONTROL DISTRITAL'!F12 -> Semanal (remesa) | G13: ='PANEL DE CONTROL DISTRITAL'!G12 -> 0.9 | H13: ='PANEL DE CONTROL DISTRITAL'!H12 -> Número de trámites exitosos | I13: 7 | J13: 61 | K13: 77 | L13: 254 | M13: 125 | N13: 90 | O13: 112 | P13: 106 | Q13: 161 | R13: 82 | S13: 187 | T13: 133 | U13: 66 | V13: 252 | W13: 220 | X13: 153 | Y13: 179 | Z13: 89 | AA13: =IFERROR(SUM(I13:Z13)/SUM(I14:Z14),0) -> 0.99619128
H14: ='PANEL DE CONTROL DISTRITAL'!H13 -> Número de trámites aplicados | I14: 7 | J14: 62 | K14: 77 | L14: 255 | M14: 126 | N14: 90 | O14: 112 | P14: 107 | Q14: 161 | R14: 83 | S14: 190 | T14: 133 | U14: 66 | V14: 252 | W14: 220 | X14: 154 | Y14: 179 | Z14: 89
A16: ='PANEL DE CONTROL DISTRITAL'!A15 -> 3 | B16: ='PANEL DE CONTROL DISTRITAL'!B15 -> TRANSFERENCIA | C16: ='PANEL DE CONTROL DISTRITAL'!C15 -> Responsable de Módulo | D16: ='PANEL DE CONTROL DISTRITAL'!D15 -> Transacciones exitosas = | E16: ='PANEL DE CONTROL DISTRITAL'!E15 -> (Número de Archivos de Transacción aceptados /Total de Archivos de Transacción procesados) x100 | F16: ='PANEL DE CONTROL DISTRITAL'!F15 -> Semanal (remesa) | G16: ='PANEL DE CONTROL DISTRITAL'!G15 -> 0.9 | H16: ='PANEL DE CONTROL DISTRITAL'!H15 -> Número de Archivos de Transacción aceptados | I16: 7 | J16: 62 | K16: 77 | L16: 255 | M16: 126 | N16: 90 | O16: 112 | P16: 107 | Q16: 161 | R16: 83 | S16: 190 | T16: 133 | U16: 66 | V16: 252 | W16: 220 | X16: 154 | Y16: 179 | Z16: 89 | AA16: =IFERROR(SUM(I16:Z16)/SUM(I17:Z17),0) -> 1
H17: ='PANEL DE CONTROL DISTRITAL'!H16 -> Total de Archivos de Transacción procesados | I17: 7 | J17: 62 | K17: 77 | L17: 255 | M17: 126 | N17: 90 | O17: 112 | P17: 107 | Q17: 161 | R17: 83 | S17: 190 | T17: 133 | U17: 66 | V17: 252 | W17: 220 | X17: 154 | Y17: 179 | Z17: 89
A19: ='PANEL DE CONTROL DISTRITAL'!A18 -> 4 | B19: ='PANEL DE CONTROL DISTRITAL'!B18 -> CONCILIACIÓN | C19: ='PANEL DE CONTROL DISTRITAL'!C18 -> Responsable de Módulo | D19: ='PANEL DE CONTROL DISTRITAL'!D18 -> Credenciales disponibles para entrega = | E19: ='PANEL DE CONTROL DISTRITAL'!E18 -> ((Credenciales recibidas - Credenciales inconsistentes) / Credenciales recibidas) x 100 | F19: ='PANEL DE CONTROL DISTRITAL'!F18 -> Semanal (remesa) | G19: ='PANEL DE CONTROL DISTRITAL'!G18 -> 0.9 | H19: ='PANEL DE CONTROL DISTRITAL'!H18 -> Credenciales Recibidas - Credenciales inconsistentes | I19: 12 | J19: 38 | K19: 55 | L19: 79 | M19: 807 | N19: 103 | O19: 99 | P19: 121 | Q19: 155 | R19: 103 | S19: 155 | T19: 152 | U19: 48 | V19: 191 | W19: 158 | X19: 221 | Y19: 155 | Z19: 118 | AA19: =IFERROR(SUM(I19:Z19)/SUM(I20:Z20),0) -> 1
H20: ='PANEL DE CONTROL DISTRITAL'!H19 -> Credenciales recibidas | I20: 12 | J20: 38 | K20: 55 | L20: 79 | M20: 807 | N20: 103 | O20: 99 | P20: 121 | Q20: 155 | R20: 103 | S20: 155 | T20: 152 | U20: 48 | V20: 191 | W20: 158 | X20: 221 | Y20: 155 | Z20: 118
A22: ='PANEL DE CONTROL DISTRITAL'!A21 -> 5 | B22: ='PANEL DE CONTROL DISTRITAL'!B21 -> CONCILIACIÓN | C22: ='PANEL DE CONTROL DISTRITAL'!C21 -> Responsable de Módulo | D22: ='PANEL DE CONTROL DISTRITAL'!D21 -> Credenciales disponibles para entrega = | E22: ='PANEL DE CONTROL DISTRITAL'!E21 -> (Credenciales en resguardo / Credenciales totales en SIIRFE disponibles para entrega) x 100 | F22: ='PANEL DE CONTROL DISTRITAL'!F21 -> Semanal (remesa) | G22: ='PANEL DE CONTROL DISTRITAL'!G21 -> 1 | H22: ='PANEL DE CONTROL DISTRITAL'!H21 -> Credenciales en resguardo | I22: 282 | J22: 200 | K22: 164 | L22: 241 | M22: 789 | N22: 770 | O22: 786 | P22: 759 | Q22: 622 | R22: 613 | S22: 669 | T22: 684 | U22: 679 | V22: 725 | W22: 721 | X22: 800 | Y22: 792 | Z22: 860 | AA22: =IFERROR(SUM(I22:Z22)/SUM(I23:Z23),0) -> 1
H23: ='PANEL DE CONTROL DISTRITAL'!H22 -> Credenciales totales en SIIRFE disponibles para entrega | I23: 282 | J23: 200 | K23: 164 | L23: 241 | M23: 789 | N23: 770 | O23: 786 | P23: 759 | Q23: 622 | R23: 613 | S23: 669 | T23: 684 | U23: 679 | V23: 725 | W23: 721 | X23: 800 | Y23: 792 | Z23: 860
A25: ='PANEL DE CONTROL DISTRITAL'!A24 -> 6 | B25: ='PANEL DE CONTROL DISTRITAL'!B24 -> ENTREGA | C25: ='PANEL DE CONTROL DISTRITAL'!C24 -> Operador de Equipo Tecnológico | D25: ='PANEL DE CONTROL DISTRITAL'!D24 -> Efectividad de entrega de CPV en MAC = | E25: ='PANEL DE CONTROL DISTRITAL'!E24 -> (Total de credenciales entregadas / Total de credenciales solicitadas) x 100 | F25: ='PANEL DE CONTROL DISTRITAL'!F24 -> Semanal (remesa) | G25: ='PANEL DE CONTROL DISTRITAL'!G24 -> 0.9 | H25: ='PANEL DE CONTROL DISTRITAL'!H24 -> Total de credenciales entregadas | I25: 30 | J25: 120 | K25: 88 | L25: 2 | M25: 210 | N25: 122 | O25: 83 | P25: 148 | Q25: 292 | R25: 112 | S25: 155 | T25: 137 | U25: 53 | V25: 145 | W25: 161 | X25: 142 | Y25: 163 | Z25: 50 | AA25: =IFERROR(SUM(I25:Z25)/SUM(I26:Z26),0) -> 1
H26: ='PANEL DE CONTROL DISTRITAL'!H25 -> Total de credenciales solicitadas | I26: 30 | J26: 120 | K26: 88 | L26: 2 | M26: 210 | N26: 122 | O26: 83 | P26: 148 | Q26: 292 | R26: 112 | S26: 155 | T26: 137 | U26: 53 | V26: 145 | W26: 161 | X26: 142 | Y26: 163 | Z26: 50
B27: *Registre el valor nominal solicitado en la celda, el resultado proporcional esta automatizado.
I29: Semaforización
J30: Valor que requiere atención y justificación en el apartado de observaciones
J31: Valor suficiente
J32: Valor esperado
B34: CUADRO DE OBSERVACIONES
B35: Descripción | H35: No conformidad

Sheet 160355
A1: ='PANEL DE CONTROL DISTRITAL'!A1:Q1 -> INSTITUTO NACIONAL ELECTORAL SISTEMA DE GESTIÓN DE LA CALIDAD MICHOACÁN
D2: Distrito | E2: 3 | F2: Módulo | H2: 160354 | W2: ='PANEL DE CONTROL DISTRITAL'!AC2 -> Fecha de corte 31/12/2023
A4: TABLERO DE CONTROL DISTRITAL DE PROCESOS SUSTANTIVOS DEL SISTEMA DE GESTIÓN DE LA CALIDAD 2023 -2024
A6: ='PANEL DE CONTROL DISTRITAL'!A6 -> Número | B6: ='PANEL DE CONTROL DISTRITAL'!B6 -> PROCESOS SUSTANTIVOS E INDICADORES | I6: SEMANA OPERATIVA | AA6: % AVANCE REGISTRADO
B7: ='PANEL DE CONTROL DISTRITAL'!B7 -> DESCRIPCIÓN | E7: ='PANEL DE CONTROL DISTRITAL'!E7 -> MEDICIÓN | I7: ='PANEL DE CONTROL DISTRITAL'!A5 -> CAMPAÑA ANUAL INTENSA 2023_2024
B9: ='PANEL DE CONTROL DISTRITAL'!B8 -> Proceso | C9: ='PANEL DE CONTROL DISTRITAL'!C8 -> Dueño de Proceso | D9: ='PANEL DE CONTROL DISTRITAL'!D8 -> Indicador | E9: ='PANEL DE CONTROL DISTRITAL'!E8 -> Cálculo | F9: ='PANEL DE CONTROL DISTRITAL'!F8 -> Periodo | G9: ='PANEL DE CONTROL DISTRITAL'!G8 -> Estimado | H9: ='PANEL DE CONTROL DISTRITAL'!H8 -> Nominativo | I9: ='160151'!I9 -> 2023-37 | J9: ='160151'!J9 -> 2023-38 | K9: ='160151'!K9 -> 2023-39 | L9: ='160151'!L9 -> 2023-40 | M9: ='160151'!M9 -> 2023-41 | N9: ='160151'!N9 -> 2023-42 | O9: ='160151'!O9 -> 2023-43 | P9: ='160151'!P9 -> 2023-44 | ... Z9: ='160151'!Z9 -> 2023-54
A10: ='PANEL DE CONTROL DISTRITAL'!A9 -> 1 | B10: ='PANEL DE CONTROL DISTRITAL'!B9 -> ENTREVISTA | C10: ='PANEL DE CONTROL DISTRITAL'!C9 -> Auxiliar de Atención Ciudadana | D10: ='PANEL DE CONTROL DISTRITAL'!D9 -> Efectividad de la entrevista = | E10: ='PANEL DE CONTROL DISTRITAL'!E9 -> (Número de trámites aplicados / (Número de fichas requisitadas - Notificaciones de improcedencia de trámite)) x 100 | F10: ='PANEL DE CONTROL DISTRITAL'!F9 -> Semanal (remesa) | G10: ='PANEL DE CONTROL DISTRITAL'!G9 -> 0.9 | H10: ='PANEL DE CONTROL DISTRITAL'!H9 -> Número de trámites aplicados | I10: 42 | J10: 246 | K10: 249 | L10: 286 | M10: 311 | N10: 277 | O10: 294 | P10: 306 | Q10: 289 | R10: 201 | S10: 361 | T10: 380 | U10: 316 | V10: 439 | W10: 455 | X10: 421 | Y10: 587 | Z10: 431 | AA10: =IFERROR(SUM(I10:Z10)/SUM(I11:Z11),0) -> 1
H11: ='PANEL DE CONTROL DISTRITAL'!H10 -> Número de fichas requisitadas - Notificaciones de improcedencia de trámite | I11: 42 | J11: 246 | K11: 249 | L11: 286 | M11: 311 | N11: 277 | O11: 294 | P11: 306 | Q11: 289 | R11: 201 | S11: 361 | T11: 380 | U11: 316 | V11: 439 | W11: 455 | X11: 421 | Y11: 587 | Z11: 431
A13: ='PANEL DE CONTROL DISTRITAL'!A12 -> 2 | B13: ='PANEL DE CONTROL DISTRITAL'!B12 -> TRÁMITE | C13: ='PANEL DE CONTROL DISTRITAL'!C12 -> Operador de Equipo Tecnológico | D13: ='PANEL DE CONTROL DISTRITAL'!D12 -> Trámites exitosos efectivos= | E13: ='PANEL DE CONTROL DISTRITAL'!E12 -> (Número de trámites exitosos / Número de trámites aplicados) x 100 | F13: ='PANEL DE CONTROL DISTRITAL'!F12 -> Semanal (remesa) | G13: ='PANEL DE CONTROL DISTRITAL'!G12 -> 0.9 | H13: ='PANEL DE CONTROL DISTRITAL'!H12 -> Número de trámites exitosos | I13: 42 | J13: 245 | K13: 249 | L13: 284 | M13: 308 | N13: 277 | O13: 293 | P13: 306 | Q13: 288 | R13: 201 | S13: 361 | T13: 377 | U13: 315 | V13: 435 | W13: 454 | X13: 420 | Y13: 578 | Z13: 422 | AA13: =IFERROR(SUM(I13:Z13)/SUM(I14:Z14),0) -> 0.99388898
H14: ='PANEL DE CONTROL DISTRITAL'!H13 -> Número de trámites aplicados | I14: 42 | J14: 246 | K14: 249 | L14: 286 | M14: 311 | N14: 277 | O14: 294 | P14: 306 | Q14: 289 | R14: 201 | S14: 361 | T14: 380 | U14: 316 | V14: 439 | W14: 455 | X14: 421 | Y14: 587 | Z14: 431
A16: ='PANEL DE CONTROL DISTRITAL'!A15 -> 3 | B16: ='PANEL DE CONTROL DISTRITAL'!B15 -> TRANSFERENCIA | C16: ='PANEL DE CONTROL DISTRITAL'!C15 -> Responsable de Módulo | D16: ='PANEL DE CONTROL DISTRITAL'!D15 -> Transacciones exitosas = | E16: ='PANEL DE CONTROL DISTRITAL'!E15 -> (Número de Archivos de Transacción aceptados /Total de Archivos de Transacción procesados) x100 | F16: ='PANEL DE CONTROL DISTRITAL'!F15 -> Semanal (remesa) | G16: ='PANEL DE CONTROL DISTRITAL'!G15 -> 0.9 | H16: ='PANEL DE CONTROL DISTRITAL'!H15 -> Número de Archivos de Transacción aceptados | I16: 42 | J16: 246 | K16: 249 | L16: 286 | M16: 311 | N16: 277 | O16: 294 | P16: 306 | Q16: 289 | R16: 201 | S16: 361 | T16: 380 | U16: 316 | V16: 439 | W16: 455 | X16: 421 | Y16: 587 | Z16: 431 | AA16: =IFERROR(SUM(I16:Z16)/SUM(I17:Z17),0) -> 1
H17: ='PANEL DE CONTROL DISTRITAL'!H16 -> Total de Archivos de Transacción procesados | I17: 42 | J17: 246 | K17: 249 | L17: 286 | M17: 311 | N17: 277 | O17: 294 | P17: 306 | Q17: 289 | R17: 201 | S17: 361 | T17: 380 | U17: 316 | V17: 439 | W17: 455 | X17: 421 | Y17: 587 | Z17: 431
A19: ='PANEL DE CONTROL DISTRITAL'!A18 -> 4 | B19: ='PANEL DE CONTROL DISTRITAL'!B18 -> CONCILIACIÓN | C19: ='PANEL DE CONTROL DISTRITAL'!C18 -> Responsable de Módulo | D19: ='PANEL DE CONTROL DISTRITAL'!D18 -> Credenciales disponibles para entrega = | E19: ='PANEL DE CONTROL DISTRITAL'!E18 -> ((Credenciales recibidas - Credenciales inconsistentes) / Credenciales recibidas) x 100 | F19: ='PANEL DE CONTROL DISTRITAL'!F18 -> Semanal (remesa) | G19: ='PANEL DE CONTROL DISTRITAL'!G18 -> 0.9 | H19: ='PANEL DE CONTROL DISTRITAL'!H18 -> Credenciales Recibidas - Credenciales inconsistentes | I19: 0 | J19: 268 | K19: 203 | L19: 323 | M19: 285 | N19: 296 | O19: 305 | P19: 270 | Q19: 346 | R19: 224 | S19: 251 | T19: 448 | U19: 217 | V19: 431 | W19: 524 | X19: 282 | Y19: 466 | Z19: 289 | AA19: =IFERROR(SUM(I19:Z19)/SUM(I20:Z20),0) -> 1
H20: ='PANEL DE CONTROL DISTRITAL'!H19 -> Credenciales recibidas | I20: 0 | J20: 268 | K20: 203 | L20: 323 | M20: 285 | N20: 296 | O20: 305 | P20: 270 | Q20: 346 | R20: 224 | S20: 251 | T20: 448 | U20: 217 | V20: 431 | W20: 524 | X20: 282 | Y20: 466 | Z20: 289
A22: ='PANEL DE CONTROL DISTRITAL'!A21 -> 5 | B22: ='PANEL DE CONTROL DISTRITAL'!B21 -> CONCILIACIÓN | C22: ='PANEL DE CONTROL DISTRITAL'!C21 -> Responsable de Módulo | D22: ='PANEL DE CONTROL DISTRITAL'!D21 -> Credenciales disponibles para entrega = | E22: ='PANEL DE CONTROL DISTRITAL'!E21 -> (Credenciales en resguardo / Credenciales totales en SIIRFE disponibles para entrega) x 100 | F22: ='PANEL DE CONTROL DISTRITAL'!F21 -> Semanal (remesa) | G22: ='PANEL DE CONTROL DISTRITAL'!G21 -> 1 | H22: ='PANEL DE CONTROL DISTRITAL'!H21 -> Credenciales en resguardo | I22: 656 | J22: 622 | K22: 523 | L22: 604 | M22: 620 | N22: 559 | O22: 590 | P22: 530 | Q22: 593 | R22: 564 | S22: 543 | T22: 639 | U22: 603 | V22: 630 | W22: 708 | X22: 615 | Y22: 640 | Z22: 452 | AA22: =IFERROR(SUM(I22:Z22)/SUM(I23:Z23),0) -> 1
H23: ='PANEL DE CONTROL DISTRITAL'!H22 -> Credenciales totales en SIIRFE disponibles para entrega | I23: 656 | J23: 622 | K23: 523 | L23: 604 | M23: 620 | N23: 559 | O23: 590 | P23: 530 | Q23: 593 | R23: 564 | S23: 543 | T23: 639 | U23: 603 | V23: 630 | W23: 708 | X23: 615 | Y23: 640 | Z23: 452
A25: ='PANEL DE CONTROL DISTRITAL'!A24 -> 6 | B25: ='PANEL DE CONTROL DISTRITAL'!B24 -> ENTREGA | C25: ='PANEL DE CONTROL DISTRITAL'!C24 -> Operador de Equipo Tecnológico | D25: ='PANEL DE CONTROL DISTRITAL'!D24 -> Efectividad de entrega de CPV en MAC = | E25: ='PANEL DE CONTROL DISTRITAL'!E24 -> (Total de credenciales entregadas / Total de credenciales solicitadas) x 100 | F25: ='PANEL DE CONTROL DISTRITAL'!F24 -> Semanal (remesa) | G25: ='PANEL DE CONTROL DISTRITAL'!G24 -> 0.9 | H25: ='PANEL DE CONTROL DISTRITAL'!H24 -> Total de credenciales entregadas | I25: 65 | J25: 301 | K25: 298 | L25: 242 | M25: 269 | N25: 353 | O25: 274 | P25: 330 | Q25: 283 | R25: 253 | S25: 270 | T25: 352 | U25: 253 | V25: 404 | W25: 443 | X25: 375 | Y25: 441 | Z25: 477 | AA25: =IFERROR(SUM(I25:Z25)/SUM(I26:Z26),0) -> 1
H26: ='PANEL DE CONTROL DISTRITAL'!H25 -> Total de credenciales solicitadas | I26: 65 | J26: 301 | K26: 298 | L26: 242 | M26: 269 | N26: 353 | O26: 274 | P26: 330 | Q26: 283 | R26: 253 | S26: 270 | T26: 352 | U26: 253 | V26: 404 | W26: 443 | X26: 375 | Y26: 441 | Z26: 477
B27: *Registre el valor nominal solicitado en la celda, el resultado proporcional esta automatizado.
I29: Semaforización
J30: Valor que requiere atención y justificación en el apartado de observaciones
J31: Valor suficiente
J32: Valor esperado
B34: CUADRO DE OBSERVACIONES
B35: Descripción | H35: No conformidad

Sheet 160451
A1: ='PANEL DE CONTROL DISTRITAL'!A1:Q1 -> INSTITUTO NACIONAL ELECTORAL SISTEMA DE GESTIÓN DE LA CALIDAD MICHOACÁN
D2: Distrito | E2: 4 | F2: Módulo | H2: 160451 | W2: ='PANEL DE CONTROL DISTRITAL'!AC2 -> Fecha de corte 31/12/2023
A4: TABLERO DE CONTROL DISTRITAL DE PROCESOS SUSTANTIVOS DEL SISTEMA DE GESTIÓN DE LA CALIDAD 2023 -2024
A6: ='PANEL DE CONTROL DISTRITAL'!A6 -> Número | B6: ='PANEL DE CONTROL DISTRITAL'!B6 -> PROCESOS SUSTANTIVOS E INDICADORES | I6: SEMANA OPERATIVA | AA6: % AVANCE REGISTRADO
B7: ='PANEL DE CONTROL DISTRITAL'!B7 -> DESCRIPCIÓN | E7: ='PANEL DE CONTROL DISTRITAL'!E7 -> MEDICIÓN | I7: ='PANEL DE CONTROL DISTRITAL'!A5 -> CAMPAÑA ANUAL INTENSA 2023_2024
B9: ='PANEL DE CONTROL DISTRITAL'!B8 -> Proceso | C9: ='PANEL DE CONTROL DISTRITAL'!C8 -> Dueño de Proceso | D9: ='PANEL DE CONTROL DISTRITAL'!D8 -> Indicador | E9: ='PANEL DE CONTROL DISTRITAL'!E8 -> Cálculo | F9: ='PANEL DE CONTROL DISTRITAL'!F8 -> Periodo | G9: ='PANEL DE CONTROL DISTRITAL'!G8 -> Estimado | H9: ='PANEL DE CONTROL DISTRITAL'!H8 -> Nominativo | I9: ='160151'!I9 -> 2023-37 | J9: ='160151'!J9 -> 2023-38 | K9: ='160151'!K9 -> 2023-39 | L9: ='160151'!L9 -> 2023-40 | M9: ='160151'!M9 -> 2023-41 | N9: ='160151'!N9 -> 2023-42 | O9: ='160151'!O9 -> 2023-43 | P9: ='160151'!P9 -> 2023-44 | ... Z9: ='160151'!Z9 -> 2023-54
A10: ='PANEL DE CONTROL DISTRITAL'!A9 -> 1 | B10: ='PANEL DE CONTROL DISTRITAL'!B9 -> ENTREVISTA | C10: ='PANEL DE CONTROL DISTRITAL'!C9 -> Auxiliar de Atención Ciudadana | D10: ='PANEL DE CONTROL DISTRITAL'!D9 -> Efectividad de la entrevista = | E10: ='PANEL DE CONTROL DISTRITAL'!E9 -> (Número de trámites aplicados / (Número de fichas requisitadas - Notificaciones de improcedencia de trámite)) x 100 | F10: ='PANEL DE CONTROL DISTRITAL'!F9 -> Semanal (remesa) | G10: ='PANEL DE CONTROL DISTRITAL'!G9 -> 0.9 | H10: ='PANEL DE CONTROL DISTRITAL'!H9 -> Número de trámites aplicados | I10: 62 | J10: 297 | K10: 287 | L10: 369 | M10: 389 | N10: 310 | O10: 337 | P10: 358 | Q10: 328 | R10: 299 | S10: 395 | T10: 478 | U10: 408 | V10: 465 | W10: 516 | X10: 537 | Y10: 661 | Z10: 537 | AA10: =IFERROR(SUM(I10:Z10)/SUM(I11:Z11),0) -> 1.0001422
H11: ='PANEL DE CONTROL DISTRITAL'!H10 -> Número de fichas requisitadas - Notificaciones de improcedencia de trámite | I11: 62 | J11: 297 | K11: 287 | L11: 369 | M11: 389 | N11: 310 | O11: 337 | P11: 358 | Q11: 328 | R11: 299 | S11: 394 | T11: 478 | U11: 408 | V11: 465 | W11: 516 | X11: 537 | Y11: 661 | Z11: 537
A13: ='PANEL DE CONTROL DISTRITAL'!A12 -> 2 | B13: ='PANEL DE CONTROL DISTRITAL'!B12 -> TRÁMITE | C13: ='PANEL DE CONTROL DISTRITAL'!C12 -> Operador de Equipo Tecnológico | D13: ='PANEL DE CONTROL DISTRITAL'!D12 -> Trámites exitosos efectivos= | E13: ='PANEL DE CONTROL DISTRITAL'!E12 -> (Número de trámites exitosos / Número de trámites aplicados) x 100 | F13: ='PANEL DE CONTROL DISTRITAL'!F12 -> Semanal (remesa) | G13: ='PANEL DE CONTROL DISTRITAL'!G12 -> 0.9 | H13: ='PANEL DE CONTROL DISTRITAL'!H12 -> Número de trámites exitosos | I13: 62 | J13: 295 | K13: 284 | L13: 366 | M13: 388 | N13: 310 | O13: 337 | P13: 355 | Q13: 328 | R13: 297 | S13: 392 | T13: 472 | U13: 407 | V13: 464 | W13: 514 | X13: 535 | Y13: 656 | Z13: 530 | AA13: =IFERROR(SUM(I13:Z13)/SUM(I14:Z14),0) -> 0.99417034
H14: ='PANEL DE CONTROL DISTRITAL'!H13 -> Número de trámites aplicados | I14: 62 | J14: 297 | K14: 287 | L14: 369 | M14: 389 | N14: 310 | O14: 337 | P14: 358 | Q14: 328 | R14: 299 | S14: 395 | T14: 478 | U14: 408 | V14: 465 | W14: 516 | X14: 537 | Y14: 661 | Z14: 537
A16: ='PANEL DE CONTROL DISTRITAL'!A15 -> 3 | B16: ='PANEL DE CONTROL DISTRITAL'!B15 -> TRANSFERENCIA | C16: ='PANEL DE CONTROL DISTRITAL'!C15 -> Responsable de Módulo | D16: ='PANEL DE CONTROL DISTRITAL'!D15 -> Transacciones exitosas = | E16: ='PANEL DE CONTROL DISTRITAL'!E15 -> (Número de Archivos de Transacción aceptados /Total de Archivos de Transacción procesados) x100 | F16: ='PANEL DE CONTROL DISTRITAL'!F15 -> Semanal (remesa) | G16: ='PANEL DE CONTROL DISTRITAL'!G15 -> 0.9 | H16: ='PANEL DE CONTROL DISTRITAL'!H15 -> Número de Archivos de Transacción aceptados | I16: 62 | J16: 297 | K16: 287 | L16: 369 | M16: 389 | N16: 310 | O16: 337 | P16: 358 | Q16: 328 | R16: 299 | S16: 395 | T16: 478 | U16: 408 | V16: 465 | W16: 516 | X16: 537 | Y16: 661 | Z16: 537 | AA16: =IFERROR(SUM(I16:Z16)/SUM(I17:Z17),0) -> 1
H17: ='PANEL DE CONTROL DISTRITAL'!H16 -> Total de Archivos de Transacción procesados | I17: 62 | J17: 297 | K17: 287 | L17: 369 | M17: 389 | N17: 310 | O17: 337 | P17: 358 | Q17: 328 | R17: 299 | S17: 395 | T17: 478 | U17: 408 | V17: 465 | W17: 516 | X17: 537 | Y17: 661 | Z17: 537
A19: ='PANEL DE CONTROL DISTRITAL'!A18 -> 4 | B19: ='PANEL DE CONTROL DISTRITAL'!B18 -> CONCILIACIÓN | C19: ='PANEL DE CONTROL DISTRITAL'!C18 -> Responsable de Módulo | D19: ='PANEL DE CONTROL DISTRITAL'!D18 -> Credenciales disponibles para entrega = | E19: ='PANEL DE CONTROL DISTRITAL'!E18 -> ((Credenciales recibidas - Credenciales inconsistentes) / Credenciales recibidas) x 100 | F19: ='PANEL DE CONTROL DISTRITAL'!F18 -> Semanal (remesa) | G19: ='PANEL DE CONTROL DISTRITAL'!G18 -> 0.9 | H19: ='PANEL DE CONTROL DISTRITAL'!H18 -> Credenciales Recibidas - Credenciales inconsistentes | I19: 198 | J19: 257 | K19: 238 | L19: 365 | M19: 435 | N19: 305 | O19: 382 | P19: 279 | Q19: 423 | R19: 263 | S19: 303 | T19: 495 | U19: 187 | V19: 591 | W19: 587 | X19: 422 | Y19: 543 | Z19: 291 | AA19: =IFERROR(SUM(I19:Z19)/SUM(I20:Z20),0) -> 1
H20: ='PANEL DE CONTROL DISTRITAL'!H19 -> Credenciales recibidas | I20: 198 | J20: 257 | K20: 238 | L20: 365 | M20: 435 | N20: 305 | O20: 382 | P20: 279 | Q20: 423 | R20: 263 | S20: 303 | T20: 495 | U20: 187 | V20: 591 | W20: 587 | X20: 422 | Y20: 543 | Z20: 291
A22: ='PANEL DE CONTROL DISTRITAL'!A21 -> 5 | B22: ='PANEL DE CONTROL DISTRITAL'!B21 -> CONCILIACIÓN | C22: ='PANEL DE CONTROL DISTRITAL'!C21 -> Responsable de Módulo | D22: ='PANEL DE CONTROL DISTRITAL'!D21 -> Credenciales disponibles para entrega = | E22: ='PANEL DE CONTROL DISTRITAL'!E21 -> (Credenciales en resguardo / Credenciales totales en SIIRFE disponibles para entrega) x 100 | F22: ='PANEL DE CONTROL DISTRITAL'!F21 -> Semanal (remesa) | G22: ='PANEL DE CONTROL DISTRITAL'!G21 -> 1 | H22: ='PANEL DE CONTROL DISTRITAL'!H21 -> Credenciales en resguardo | I22: 1539 | J22: 1455 | K22: 1395 | L22: 1357 | M22: 1461 | N22: 1445 | O22: 1456 | P22: 1349 | Q22: 1410 | R22: 1389 | S22: 1328 | T22: 1474 | U22: 1236 | V22: 1441 | W22: 1577 | X22: 1456 | Y22: 1363 | Z22: 1116 | AA22: =IFERROR(SUM(I22:Z22)/SUM(I23:Z23),0) -> 1
H23: ='PANEL DE CONTROL DISTRITAL'!H22 -> Credenciales totales en SIIRFE disponibles para entrega | I23: 1539 | J23: 1455 | K23: 1395 | L23: 1357 | M23: 1461 | N23: 1445 | O23: 1456 | P23: 1349 | Q23: 1410 | R23: 1389 | S23: 1328 | T23: 1474 | U23: 1236 | V23: 1441 | W23: 1577 | X23: 1456 | Y23: 1363 | Z23: 1116
A25: ='PANEL DE CONTROL DISTRITAL'!A24 -> 6 | B25: ='PANEL DE CONTROL DISTRITAL'!B24 -> ENTREGA | C25: ='PANEL DE CONTROL DISTRITAL'!C24 -> Operador de Equipo Tecnológico | D25: ='PANEL DE CONTROL DISTRITAL'!D24 -> Efectividad de entrega de CPV en MAC = | E25: ='PANEL DE CONTROL DISTRITAL'!E24 -> (Total de credenciales entregadas / Total de credenciales solicitadas) x 100 | F25: ='PANEL DE CONTROL DISTRITAL'!F24 -> Semanal (remesa) | G25: ='PANEL DE CONTROL DISTRITAL'!G24 -> 0.9 | H25: ='PANEL DE CONTROL DISTRITAL'!H24 -> Total de credenciales entregadas | I25: 77 | J25: 339 | K25: 291 | L25: 401 | M25: 331 | N25: 320 | O25: 371 | P25: 386 | Q25: 362 | R25: 284 | S25: 359 | T25: 349 | U25: 425 | V25: 386 | W25: 450 | X25: 543 | Y25: 636 | Z25: 538 | AA25: =IFERROR(SUM(I25:Z25)/SUM(I26:Z26),0) -> 0.99970803
H26: ='PANEL DE CONTROL DISTRITAL'!H25 -> Total de credenciales solicitadas | I26: 77 | J26: 339 | K26: 291 | L26: 403 | M26: 331 | N26: 320 | O26: 371 | P26: 386 | Q26: 362 | R26: 284 | S26: 359 | T26: 349 | U26: 425 | V26: 386 | W26: 450 | X26: 543 | Y26: 636 | Z26: 538
B27: *Registre el valor nominal solicitado en la celda, el resultado proporcional esta automatizado.
I29: Semaforización
J30: Valor que requiere atención y justificación en el apartado de observaciones
J31: Valor suficiente
J32: Valor esperado
B34: CUADRO DE OBSERVACIONES
B35: Descripción | H35: No conformidad

Sheet 160453
A1: ='PANEL DE CONTROL DISTRITAL'!A1:Q1 -> INSTITUTO NACIONAL ELECTORAL SISTEMA DE GESTIÓN DE LA CALIDAD MICHOACÁN
D2: Distrito | E2: 4 | F2: Módulo | H2: 160453 | W2: ='PANEL DE CONTROL DISTRITAL'!AC2 -> Fecha de corte 31/12/2023
A4: TABLERO DE CONTROL DISTRITAL DE PROCESOS SUSTANTIVOS DEL SISTEMA DE GESTIÓN DE LA CALIDAD 2023 -2024
A6: ='PANEL DE CONTROL DISTRITAL'!A6 -> Número | B6: ='PANEL DE CONTROL DISTRITAL'!B6 -> PROCESOS SUSTANTIVOS E INDICADORES | I6: SEMANA OPERATIVA | AA6: % AVANCE REGISTRADO
B7: ='PANEL DE CONTROL DISTRITAL'!B7 -> DESCRIPCIÓN | E7: ='PANEL DE CONTROL DISTRITAL'!E7 -> MEDICIÓN | I7: ='PANEL DE CONTROL DISTRITAL'!A5 -> CAMPAÑA ANUAL INTENSA 2023_2024
B9: ='PANEL DE CONTROL DISTRITAL'!B8 -> Proceso | C9: ='PANEL DE CONTROL DISTRITAL'!C8 -> Dueño de Proceso | D9: ='PANEL DE CONTROL DISTRITAL'!D8 -> Indicador | E9: ='PANEL DE CONTROL DISTRITAL'!E8 -> Cálculo | F9: ='PANEL DE CONTROL DISTRITAL'!F8 -> Periodo | G9: ='PANEL DE CONTROL DISTRITAL'!G8 -> Estimado | H9: ='PANEL DE CONTROL DISTRITAL'!H8 -> Nominativo | I9: ='160151'!I9 -> 2023-37 | J9: ='160151'!J9 -> 2023-38 | K9: ='160151'!K9 -> 2023-39 | L9: ='160151'!L9 -> 2023-40 | M9: ='160151'!M9 -> 2023-41 | N9: ='160151'!N9 -> 2023-42 | O9: ='160151'!O9 -> 2023-43 | P9: ='160151'!P9 -> 2023-44 | ... Z9: ='160151'!Z9 -> 2023-54
A10: ='PANEL DE CONTROL DISTRITAL'!A9 -> 1 | B10: ='PANEL DE CONTROL DISTRITAL'!B9 -> ENTREVISTA | C10: ='PANEL DE CONTROL DISTRITAL'!C9 -> Auxiliar de Atención Ciudadana | D10: ='PANEL DE CONTROL DISTRITAL'!D9 -> Efectividad de la entrevista = | E10: ='PANEL DE CONTROL DISTRITAL'!E9 -> (Número de trámites aplicados / (Número de fichas requisitadas - Notificaciones de improcedencia de trámite)) x 100 | F10: ='PANEL DE CONTROL DISTRITAL'!F9 -> Semanal (remesa) | G10: ='PANEL DE CONTROL DISTRITAL'!G9 -> 0.9 | H10: ='PANEL DE CONTROL DISTRITAL'!H9 -> Número de trámites aplicados | I10: 31 | J10: 195 | K10: 188 | L10: 216 | M10: 167 | N10: 262 | O10: 159 | P10: 166 | Q10: 210 | R10: 154 | S10: 239 | T10: 242 | U10: 142 | V10: 287 | W10: 224 | X10: 174 | Y10: 252 | Z10: 186 | AA10: =IFERROR(SUM(I10:Z10)/SUM(I11:Z11),0) -> 1
H11: ='PANEL DE CONTROL DISTRITAL'!H10 -> Número de fichas requisitadas - Notificaciones de improcedencia de trámite | I11: 31 | J11: 195 | K11: 188 | L11: 216 | M11: 167 | N11: 262 | O11: 159 | P11: 166 | Q11: 210 | R11: 154 | S11: 239 | T11: 242 | U11: 142 | V11: 287 | W11: 224 | X11: 174 | Y11: 252 | Z11: 186
A13: ='PANEL DE CONTROL DISTRITAL'!A12 -> 2 | B13: ='PANEL DE CONTROL DISTRITAL'!B12 -> TRÁMITE | C13: ='PANEL DE CONTROL DISTRITAL'!C12 -> Operador de Equipo Tecnológico | D13: ='PANEL DE CONTROL DISTRITAL'!D12 -> Trámites exitosos efectivos= | E13: ='PANEL DE CONTROL DISTRITAL'!E12 -> (Número de trámites exitosos / Número de trámites aplicados) x 100 | F13: ='PANEL DE CONTROL DISTRITAL'!F12 -> Semanal (remesa) | G13: ='PANEL DE CONTROL DISTRITAL'!G12 -> 0.9 | H13: ='PANEL DE CONTROL DISTRITAL'!H12 -> Número de trámites exitosos | I13: 31 | J13: 190 | K13: 186 | L13: 216 | M13: 167 | N13: 261 | O13: 159 | P13: 166 | Q13: 208 | R13: 154 | S13: 238 | T13: 242 | U13: 142 | V13: 283 | W13: 220 | X13: 174 | Y13: 250 | Z13: 181 | AA13: =IFERROR(SUM(I13:Z13)/SUM(I14:Z14),0) -> 0.99255867
H14: ='PANEL DE CONTROL DISTRITAL'!H13 -> Número de trámites aplicados | I14: 31 | J14: 195 | K14: 188 | L14: 216 | M14: 167 | N14: 262 | O14: 159 | P14: 166 | Q14: 210 | R14: 154 | S14: 239 | T14: 242 | U14: 142 | V14: 287 | W14: 224 | X14: 174 | Y14: 252 | Z14: 186
A16: ='PANEL DE CONTROL DISTRITAL'!A15 -> 3 | B16: ='PANEL DE CONTROL DISTRITAL'!B15 -> TRANSFERENCIA | C16: ='PANEL DE CONTROL DISTRITAL'!C15 -> Responsable de Módulo | D16: ='PANEL DE CONTROL DISTRITAL'!D15 -> Transacciones exitosas = | E16: ='PANEL DE CONTROL DISTRITAL'!E15 -> (Número de Archivos de Transacción aceptados /Total de Archivos de Transacción procesados) x100 | F16: ='PANEL DE CONTROL DISTRITAL'!F15 -> Semanal (remesa) | G16: ='PANEL DE CONTROL DISTRITAL'!G15 -> 0.9 | H16: ='PANEL DE CONTROL DISTRITAL'!H15 -> Número de Archivos de Transacción aceptados | I16: 31 | J16: 195 | K16: 188 | L16: 216 | M16: 167 | N16: 262 | O16: 159 | P16: 166 | Q16: 210 | R16: 154 | S16: 239 | T16: 242 | U16: 142 | V16: 287 | W16: 224 | X16: 174 | Y16: 252 | Z16: 186 | AA16: =IFERROR(SUM(I16:Z16)/SUM(I17:Z17),0) -> 1
H17: ='PANEL DE CONTROL DISTRITAL'!H16 -> Total de Archivos de Transacción procesados | I17: 31 | J17: 195 | K17: 188 | L17: 216 | M17: 167 | N17: 262 | O17: 159 | P17: 166 | Q17: 210 | R17: 154 | S17: 239 | T17: 242 | U17: 142 | V17: 287 | W17: 224 | X17: 174 | Y17: 252 | Z17: 186
A19: ='PANEL DE CONTROL DISTRITAL'!A18 -> 4 | B19: ='PANEL DE CONTROL DISTRITAL'!B18 -> CONCILIACIÓN | C19: ='PANEL DE CONTROL DISTRITAL'!C18 -> Responsable de Módulo | D19: ='PANEL DE CONTROL DISTRITAL'!D18 -> Credenciales disponibles para entrega = | E19: ='PANEL DE CONTROL DISTRITAL'!E18 -> ((Credenciales recibidas - Credenciales inconsistentes) / Credenciales recibidas) x 100 | F19: ='PANEL DE CONTROL DISTRITAL'!F18 -> Semanal (remesa) | G19: ='PANEL DE CONTROL DISTRITAL'!G18 -> 0.9 | H19: ='PANEL DE CONTROL DISTRITAL'!H18 -> Credenciales Recibidas - Credenciales inconsistentes | I19: 0 | J19: 198 | K19: 153 | L19: 223 | M19: 178 | N19: 191 | O19: 193 | P19: 207 | Q19: 220 | R19: 117 | S19: 192 | T19: 240 | U19: 192 | V19: 258 | W19: 217 | X19: 250 | Y19: 116 | Z19: 175 | AA19: =IFERROR(SUM(I19:Z19)/SUM(I20:Z20),0) -> 1
H20: ='PANEL DE CONTROL DISTRITAL'!H19 -> Credenciales recibidas | I20: 0 | J20: 198 | K20: 153 | L20: 223 | M20: 178 | N20: 191 | O20: 193 | P20: 207 | Q20: 220 | R20: 117 | S20: 192 | T20: 240 | U20: 192 | V20: 258 | W20: 217 | X20: 250 | Y20: 116 | Z20: 175
A22: ='PANEL DE CONTROL DISTRITAL'!A21 -> 5 | B22: ='PANEL DE CONTROL DISTRITAL'!B21 -> CONCILIACIÓN | C22: ='PANEL DE CONTROL DISTRITAL'!C21 -> Responsable de Módulo | D22: ='PANEL DE CONTROL DISTRITAL'!D21 -> Credenciales disponibles para entrega = | E22: ='PANEL DE CONTROL DISTRITAL'!E21 -> (Credenciales en resguardo / Credenciales totales en SIIRFE disponibles para entrega) x 100 | F22: ='PANEL DE CONTROL DISTRITAL'!F21 -> Semanal (remesa) | G22: ='PANEL DE CONTROL DISTRITAL'!G21 -> 1 | H22: ='PANEL DE CONTROL DISTRITAL'!H21 -> Credenciales en resguardo | I22: 721 | J22: 684 | K22: 615 | L22: 653 | M22: 607 | N22: 592 | O22: 573 | P22: 593 | Q22: 677 | R22: 623 | S22: 575 | T22: 617 | U22: 706 | V22: 663 | W22: 639 | X22: 711 | Y22: 575 | Z22: 538 | AA22: =IFERROR(SUM(I22:Z22)/SUM(I23:Z23),0) -> 1
H23: ='PANEL DE CONTROL DISTRITAL'!H22 -> Credenciales totales en SIIRFE disponibles para entrega | I23: 721 | J23: 684 | K23: 615 | L23: 653 | M23: 607 | N23: 592 | O23: 573 | P23: 593 | Q23: 677 | R23: 623 | S23: 575 | T23: 617 | U23: 706 | V23: 663 | W23: 639 | X23: 711 | Y23: 575 | Z23: 538
A25: ='PANEL DE CONTROL DISTRITAL'!A24 -> 6 | B25: ='PANEL DE CONTROL DISTRITAL'!B24 -> ENTREGA | C25: ='PANEL DE CONTROL DISTRITAL'!C24 -> Operador de Equipo Tecnológico | D25: ='PANEL DE CONTROL DISTRITAL'!D24 -> Efectividad de entrega de CPV en MAC = | E25: ='PANEL DE CONTROL DISTRITAL'!E24 -> (Total de credenciales entregadas / Total de credenciales solicitadas) x 100 | F25: ='PANEL DE CONTROL DISTRITAL'!F24 -> Semanal (remesa) | G25: ='PANEL DE CONTROL DISTRITAL'!G24 -> 0.9 | H25: ='PANEL DE CONTROL DISTRITAL'!H24 -> Total de credenciales entregadas | I25: 37 | J25: 235 | K25: 221 | L25: 185 | M25: 224 | N25: 206 | O25: 212 | P25: 187 | Q25: 136 | R25: 171 | S25: 239 | T25: 240 | U25: 103 | V25: 301 | W25: 241 | X25: 178 | Y25: 252 | Z25: 212 | AA25: =IFERROR(SUM(I25:Z25)/SUM(I26:Z26),0) -> 0.99944165
H26: ='PANEL DE CONTROL DISTRITAL'!H25 -> Total de credenciales solicitadas | I26: 37 | J26: 235 | K26: 221 | L26: 185 | M26: 224 | N26: 206 | O26: 212 | P26: 187 | Q26: 136 | R26: 171 | S26: 239 | T26: 240 | U26: 103 | V26: 301 | W26: 241 | X26: 180 | Y26: 252 | Z26: 212
B27: *Registre el valor nominal solicitado en la celda, el resultado proporcional esta automatizado.
I29: Semaforización
J30: Valor que requiere atención y justificación en el apartado de observaciones
J31: Valor suficiente
J32: Valor esperado
B34: CUADRO DE OBSERVACIONES
B35: Descripción | H35: No conformidad

Sheet 160454
A1: ='PANEL DE CONTROL DISTRITAL'!A1:Q1 -> INSTITUTO NACIONAL ELECTORAL SISTEMA DE GESTIÓN DE LA CALIDAD MICHOACÁN
D2: Distrito | E2: 4 | F2: Módulo | H2: 160454 | W2: ='PANEL DE CONTROL DISTRITAL'!AC2 -> Fecha de corte 31/12/2023
A4: TABLERO DE CONTROL DISTRITAL DE PROCESOS SUSTANTIVOS DEL SISTEMA DE GESTIÓN DE LA CALIDAD 2023 -2024
A6: ='PANEL DE CONTROL DISTRITAL'!A6 -> Número | B6: ='PANEL DE CONTROL DISTRITAL'!B6 -> PROCESOS SUSTANTIVOS E INDICADORES | I6: SEMANA OPERATIVA | AA6: % AVANCE REGISTRADO
B7: ='PANEL DE CONTROL DISTRITAL'!B7 -> DESCRIPCIÓN | E7: ='PANEL DE CONTROL DISTRITAL'!E7 -> MEDICIÓN | I7: ='PANEL DE CONTROL DISTRITAL'!A5 -> CAMPAÑA ANUAL INTENSA 2023_2024
B9: ='PANEL DE CONTROL DISTRITAL'!B8 -> Proceso | C9: ='PANEL DE CONTROL DISTRITAL'!C8 -> Dueño de Proceso | D9: ='PANEL DE CONTROL DISTRITAL'!D8 -> Indicador | E9: ='PANEL DE CONTROL DISTRITAL'!E8 -> Cálculo | F9: ='PANEL DE CONTROL DISTRITAL'!F8 -> Periodo | G9: ='PANEL DE CONTROL DISTRITAL'!G8 -> Estimado | H9: ='PANEL DE CONTROL DISTRITAL'!H8 -> Nominativo | I9: ='160151'!I9 -> 2023-37 | J9: ='160151'!J9 -> 2023-38 | K9: ='160151'!K9 -> 2023-39 | L9: ='160151'!L9 -> 2023-40 | M9: ='160151'!M9 -> 2023-41 | N9: ='160151'!N9 -> 2023-42 | O9: ='160151'!O9 -> 2023-43 | P9: ='160151'!P9 -> 2023-44 | ... Z9: ='160151'!Z9 -> 2023-54
A10: ='PANEL DE CONTROL DISTRITAL'!A9 -> 1 | B10: ='PANEL DE CONTROL DISTRITAL'!B9 -> ENTREVISTA | C10: ='PANEL DE CONTROL DISTRITAL'!C9 -> Auxiliar de Atención Ciudadana | D10: ='PANEL DE CONTROL DISTRITAL'!D9 -> Efectividad de la entrevista = | E10: ='PANEL DE CONTROL DISTRITAL'!E9 -> (Número de trámites aplicados / (Número de fichas requisitadas - Notificaciones de improcedencia de trámite)) x 100 | F10: ='PANEL DE CONTROL DISTRITAL'!F9 -> Semanal (remesa) | G10: ='PANEL DE CONTROL DISTRITAL'!G9 -> 0.9 | H10: ='PANEL DE CONTROL DISTRITAL'!H9 -> Número de trámites aplicados | I10: 14 | J10: 134 | K10: 85 | L10: 92 | M10: 115 | N10: 145 | O10: 103 | P10: 155 | Q10: 149 | R10: 65 | S10: 181 | T10: 155 | U10: 101 | V10: 158 | W10: 155 | X10: 179 | Y10: 194 | Z10: 108 | AA10: =IFERROR(SUM(I10:Z10)/SUM(I11:Z11),0) -> 1
H11: ='PANEL DE CONTROL DISTRITAL'!H10 -> Número de fichas requisitadas - Notificaciones de improcedencia de trámite | I11: 14 | J11: 134 | K11: 85 | L11: 92 | M11: 115 | N11: 145 | O11: 103 | P11: 155 | Q11: 149 | R11: 65 | S11: 181 | T11: 155 | U11: 101 | V11: 158 | W11: 155 | X11: 179 | Y11: 194 | Z11: 108
A13: ='PANEL DE CONTROL DISTRITAL'!A12 -> 2 | B13: ='PANEL DE CONTROL DISTRITAL'!B12 -> TRÁMITE | C13: ='PANEL DE CONTROL DISTRITAL'!C12 -> Operador de Equipo Tecnológico | D13: ='PANEL DE CONTROL DISTRITAL'!D12 -> Trámites exitosos efectivos= | E13: ='PANEL DE CONTROL DISTRITAL'!E12 -> (Número de trámites exitosos / Número de trámites aplicados) x 100 | F13: ='PANEL DE CONTROL DISTRITAL'!F12 -> Semanal (remesa) | G13: ='PANEL DE CONTROL DISTRITAL'!G12 -> 0.9 | H13: ='PANEL DE CONTROL DISTRITAL'!H12 -> Número de trámites exitosos | I13: 14 | J13: 133 | K13: 82 | L13: 92 | M13: 115 | N13: 145 | O13: 103 | P13: 155 | Q13: 148 | R13: 65 | S13: 179 | T13: 155 | U13: 100 | V13: 158 | W13: 155 | X13: 179 | Y13: 191 | Z13: 106 | AA13: =IFERROR(SUM(I13:Z13)/SUM(I14:Z14),0) -> 0.99431818
H14: ='PANEL DE CONTROL DISTRITAL'!H13 -> Número de trámites aplicados | I14: 14 | J14: 134 | K14: 85 | L14: 92 | M14: 115 | N14: 145 | O14: 103 | P14: 155 | Q14: 149 | R14: 65 | S14: 181 | T14: 155 | U14: 101 | V14: 158 | W14: 155 | X14: 179 | Y14: 194 | Z14: 108
A16: ='PANEL DE CONTROL DISTRITAL'!A15 -> 3 | B16: ='PANEL DE CONTROL DISTRITAL'!B15 -> TRANSFERENCIA | C16: ='PANEL DE CONTROL DISTRITAL'!C15 -> Responsable de Módulo | D16: ='PANEL DE CONTROL DISTRITAL'!D15 -> Transacciones exitosas = | E16: ='PANEL DE CONTROL DISTRITAL'!E15 -> (Número de Archivos de Transacción aceptados /Total de Archivos de Transacción procesados) x100 | F16: ='PANEL DE CONTROL DISTRITAL'!F15 -> Semanal (remesa) | G16: ='PANEL DE CONTROL DISTRITAL'!G15 -> 0.9 | H16: ='PANEL DE CONTROL DISTRITAL'!H15 -> Número de Archivos de Transacción aceptados | I16: 14 | J16: 133 | K16: 85 | L16: 92 | M16: 115 | N16: 145 | O16: 103 | P16: 155 | Q16: 149 | R16: 65 | S16: 181 | T16: 155 | U16: 101 | V16: 158 | W16: 155 | X16: 179 | Y16: 194 | Z16: 108 | AA16: =IFERROR(SUM(I16:Z16)/SUM(I17:Z17),0) -> 0.99956294
H17: ='PANEL DE CONTROL DISTRITAL'!H16 -> Total de Archivos de Transacción procesados | I17: 14 | J17: 134 | K17: 85 | L17: 92 | M17: 115 | N17: 145 | O17: 103 | P17: 155 | Q17: 149 | R17: 65 | S17: 181 | T17: 155 | U17: 101 | V17: 158 | W17: 155 | X17: 179 | Y17: 194 | Z17: 108
A19: ='PANEL DE CONTROL DISTRITAL'!A18 -> 4 | B19: ='PANEL DE CONTROL DISTRITAL'!B18 -> CONCILIACIÓN | C19: ='PANEL DE CONTROL DISTRITAL'!C18 -> Responsable de Módulo | D19: ='PANEL DE CONTROL DISTRITAL'!D18 -> Credenciales disponibles para entrega = | E19: ='PANEL DE CONTROL DISTRITAL'!E18 -> ((Credenciales recibidas - Credenciales inconsistentes) / Credenciales recibidas) x 100 | F19: ='PANEL DE CONTROL DISTRITAL'!F18 -> Semanal (remesa) | G19: ='PANEL DE CONTROL DISTRITAL'!G18 -> 0.9 | H19: ='PANEL DE CONTROL DISTRITAL'!H18 -> Credenciales Recibidas - Credenciales inconsistentes | I19: 0 | J19: 195 | K19: 107 | L19: 91 | M19: 80 | N19: 155 | O19: 90 | P19: 120 | Q19: 195 | R19: 75 | S19: 97 | T19: 179 | U19: 117 | V19: 163 | W19: 136 | X19: 192 | Y19: 103 | Z19: 159 | AA19: =IFERROR(SUM(I19:Z19)/SUM(I20:Z20),0) -> 1
H20: ='PANEL DE CONTROL DISTRITAL'!H19 -> Credenciales recibidas | I20: 0 | J20: 195 | K20: 107 | L20: 91 | M20: 80 | N20: 155 | O20: 90 | P20: 120 | Q20: 195 | R20: 75 | S20: 97 | T20: 179 | U20: 117 | V20: 163 | W20: 136 | X20: 192 | Y20: 103 | Z20: 159
A22: ='PANEL DE CONTROL DISTRITAL'!A21 -> 5 | B22: ='PANEL DE CONTROL DISTRITAL'!B21 -> CONCILIACIÓN | C22: ='PANEL DE CONTROL DISTRITAL'!C21 -> Responsable de Módulo | D22: ='PANEL DE CONTROL DISTRITAL'!D21 -> Credenciales disponibles para entrega = | E22: ='PANEL DE CONTROL DISTRITAL'!E21 -> (Credenciales en resguardo / Credenciales totales en SIIRFE disponibles para entrega) x 100 | F22: ='PANEL DE CONTROL DISTRITAL'!F21 -> Semanal (remesa) | G22: ='PANEL DE CONTROL DISTRITAL'!G21 -> 1 | H22: ='PANEL DE CONTROL DISTRITAL'!H21 -> Credenciales en resguardo | I22: 540 | J22: 617 | K22: 401 | L22: 371 | M22: 333 | N22: 420 | O22: 425 | P22: 373 | Q22: 480 | R22: 485 | S22: 360 | T22: 443 | U22: 464 | V22: 418 | W22: 434 | X22: 500 | Y22: 412 | Z22: 439 | AA22: =IFERROR(SUM(I22:Z22)/SUM(I23:Z23),0) -> 1
H23: ='PANEL DE CONTROL DISTRITAL'!H22 -> Credenciales totales en SIIRFE disponibles para entrega | I23: 540 | J23: 617 | K23: 401 | L23: 371 | M23: 333 | N23: 420 | O23: 425 | P23: 373 | Q23: 480 | R23: 485 | S23: 360 | T23: 443 | U23: 464 | V23: 418 | W23: 434 | X23: 500 | Y23: 412 | Z23: 439
A25: ='PANEL DE CONTROL DISTRITAL'!A24 -> 6 | B25: ='PANEL DE CONTROL DISTRITAL'!B24 -> ENTREGA | C25: ='PANEL DE CONTROL DISTRITAL'!C24 -> Operador de Equipo Tecnológico | D25: ='PANEL DE CONTROL DISTRITAL'!D24 -> Efectividad de entrega de CPV en MAC = | E25: ='PANEL DE CONTROL DISTRITAL'!E24 -> (Total de credenciales entregadas / Total de credenciales solicitadas) x 100 | F25: ='PANEL DE CONTROL DISTRITAL'!F24 -> Semanal (remesa) | G25: ='PANEL DE CONTROL DISTRITAL'!G24 -> 0.9 | H25: ='PANEL DE CONTROL DISTRITAL'!H24 -> Total de credenciales entregadas | I25: 36 | J25: 118 | K25: 316 | L25: 121 | M25: 118 | N25: 68 | O25: 85 | P25: 172 | Q25: 88 | R25: 70 | S25: 219 | T25: 96 | U25: 96 | V25: 209 | W25: 120 | X25: 126 | Y25: 191 | Z25: 132 | AA25: =IFERROR(SUM(I25:Z25)/SUM(I26:Z26),0) -> 1
H26: ='PANEL DE CONTROL DISTRITAL'!H25 -> Total de credenciales solicitadas | I26: 36 | J26: 118 | K26: 316 | L26: 121 | M26: 118 | N26: 68 | O26: 85 | P26: 172 | Q26: 88 | R26: 70 | S26: 219 | T26: 96 | U26: 96 | V26: 209 | W26: 120 | X26: 126 | Y26: 191 | Z26: 132
B27: *Registre el valor nominal solicitado en la celda, el resultado proporcional esta automatizado.
I29: Semaforización
J30: Valor que requiere atención y justificación en el apartado de observaciones
J31: Valor suficiente
J32: Valor esperado
B34: CUADRO DE OBSERVACIONES
B35: Descripción | H35: No conformidad

Sheet 160455
A1: ='PANEL DE CONTROL DISTRITAL'!A1:Q1 -> INSTITUTO NACIONAL ELECTORAL SISTEMA DE GESTIÓN DE LA CALIDAD MICHOACÁN
D2: Distrito | E2: 4 | F2: Módulo | H2: 160455 | W2: ='PANEL DE CONTROL DISTRITAL'!AC2 -> Fecha de corte 31/12/2023
A4: TABLERO DE CONTROL DISTRITAL DE PROCESOS SUSTANTIVOS DEL SISTEMA DE GESTIÓN DE LA CALIDAD 2023 -2024
A6: ='PANEL DE CONTROL DISTRITAL'!A6 -> Número | B6: ='PANEL DE CONTROL DISTRITAL'!B6 -> PROCESOS SUSTANTIVOS E INDICADORES | I6: SEMANA OPERATIVA | AA6: % AVANCE REGISTRADO
B7: ='PANEL DE CONTROL DISTRITAL'!B7 -> DESCRIPCIÓN | E7: ='PANEL DE CONTROL DISTRITAL'!E7 -> MEDICIÓN | I7: ='PANEL DE CONTROL DISTRITAL'!A5 -> CAMPAÑA ANUAL INTENSA 2023_2024
B9: ='PANEL DE CONTROL DISTRITAL'!B8 -> Proceso | C9: ='PANEL DE CONTROL DISTRITAL'!C8 -> Dueño de Proceso | D9: ='PANEL DE CONTROL DISTRITAL'!D8 -> Indicador | E9: ='PANEL DE CONTROL DISTRITAL'!E8 -> Cálculo | F9: ='PANEL DE CONTROL DISTRITAL'!F8 -> Periodo | G9: ='PANEL DE CONTROL DISTRITAL'!G8 -> Estimado | H9: ='PANEL DE CONTROL DISTRITAL'!H8 -> Nominativo | I9: ='160151'!I9 -> 2023-37 | J9: ='160151'!J9 -> 2023-38 | K9: ='160151'!K9 -> 2023-39 | L9: ='160151'!L9 -> 2023-40 | M9: ='160151'!M9 -> 2023-41 | N9: ='160151'!N9 -> 2023-42 | O9: ='160151'!O9 -> 2023-43 | P9: ='160151'!P9 -> 2023-44 | ... Z9: ='160151'!Z9 -> 2023-54
A10: ='PANEL DE CONTROL DISTRITAL'!A9 -> 1 | B10: ='PANEL DE CONTROL DISTRITAL'!B9 -> ENTREVISTA | C10: ='PANEL DE CONTROL DISTRITAL'!C9 -> Auxiliar de Atención Ciudadana | D10: ='PANEL DE CONTROL DISTRITAL'!D9 -> Efectividad de la entrevista = | E10: ='PANEL DE CONTROL DISTRITAL'!E9 -> (Número de trámites aplicados / (Número de fichas requisitadas - Notificaciones de improcedencia de trámite)) x 100 | F10: ='PANEL DE CONTROL DISTRITAL'!F9 -> Semanal (remesa) | G10: ='PANEL DE CONTROL DISTRITAL'!G9 -> 0.9 | H10: ='PANEL DE CONTROL DISTRITAL'!H9 -> Número de trámites aplicados | I10: 58 | J10: 324 | K10: 337 | L10: 370 | M10: 381 | N10: 375 | O10: 352 | P10: 411 | Q10: 372 | R10: 300 | S10: 418 | T10: 436 | U10: 433 | V10: 514 | W10: 546 | X10: 542 | Y10: 663 | Z10: 533 | AA10: =IFERROR(SUM(I10:Z10)/SUM(I11:Z11),0) -> 1
H11: ='PANEL DE CONTROL DISTRITAL'!H10 -> Número de fichas requisitadas - Notificaciones de improcedencia de trámite | I11: 58 | J11: 324 | K11: 337 | L11: 370 | M11: 381 | N11: 375 | O11: 352 | P11: 411 | Q11: 372 | R11: 300 | S11: 418 | T11: 436 | U11: 433 | V11: 514 | W11: 546 | X11: 542 | Y11: 663 | Z11: 533
A13: ='PANEL DE CONTROL DISTRITAL'!A12 -> 2 | B13: ='PANEL DE CONTROL DISTRITAL'!B12 -> TRÁMITE | C13: ='PANEL DE CONTROL DISTRITAL'!C12 -> Operador de Equipo Tecnológico | D13: ='PANEL DE CONTROL DISTRITAL'!D12 -> Trámites exitosos efectivos= | E13: ='PANEL DE CONTROL DISTRITAL'!E12 -> (Número de trámites exitosos / Número de trámites aplicados) x 100 | F13: ='PANEL DE CONTROL DISTRITAL'!F12 -> Semanal (remesa) | G13: ='PANEL DE CONTROL DISTRITAL'!G12 -> 0.9 | H13: ='PANEL DE CONTROL DISTRITAL'!H12 -> Número de trámites exitosos | I13: 58 | J13: 319 | K13: 336 | L13: 365 | M13: 375 | N13: 373 | O13: 350 | P13: 409 | Q13: 371 | R13: 298 | S13: 418 | T13: 431 | U13: 426 | V13: 507 | W13: 543 | X13: 535 | Y13: 660 | Z13: 531 | AA13: =IFERROR(SUM(I13:Z13)/SUM(I14:Z14),0) -> 0.99185336
H14: ='PANEL DE CONTROL DISTRITAL'!H13 -> Número de trámites aplicados | I14: 58 | J14: 324 | K14: 337 | L14: 370 | M14: 381 | N14: 375 | O14: 352 | P14: 411 | Q14: 372 | R14: 300 | S14: 418 | T14: 436 | U14: 433 | V14: 514 | W14: 546 | X14: 542 | Y14: 663 | Z14: 533
A16: ='PANEL DE CONTROL DISTRITAL'!A15 -> 3 | B16: ='PANEL DE CONTROL DISTRITAL'!B15 -> TRANSFERENCIA | C16: ='PANEL DE CONTROL DISTRITAL'!C15 -> Responsable de Módulo | D16: ='PANEL DE CONTROL DISTRITAL'!D15 -> Transacciones exitosas = | E16: ='PANEL DE CONTROL DISTRITAL'!E15 -> (Número de Archivos de Transacción aceptados /Total de Archivos de Transacción procesados) x100 | F16: ='PANEL DE CONTROL DISTRITAL'!F15 -> Semanal (remesa) | G16: ='PANEL DE CONTROL DISTRITAL'!G15 -> 0.9 | H16: ='PANEL DE CONTROL DISTRITAL'!H15 -> Número de Archivos de Transacción aceptados | I16: 58 | J16: 324 | K16: 337 | L16: 370 | M16: 381 | N16: 375 | O16: 352 | P16: 411 | Q16: 372 | R16: 300 | S16: 418 | T16: 436 | U16: 433 | V16: 514 | W16: 546 | X16: 542 | Y16: 663 | Z16: 533 | AA16: =IFERROR(SUM(I16:Z16)/SUM(I17:Z17),0) -> 1.0001358
H17: ='PANEL DE CONTROL DISTRITAL'!H16 -> Total de Archivos de Transacción procesados | I17: 58 | J17: 324 | K17: 337 | L17: 370 | M17: 381 | N17: 375 | O17: 352 | P17: 411 | Q17: 372 | R17: 299 | S17: 418 | T17: 436 | U17: 433 | V17: 514 | W17: 546 | X17: 542 | Y17: 663 | Z17: 533
A19: ='PANEL DE CONTROL DISTRITAL'!A18 -> 4 | B19: ='PANEL DE CONTROL DISTRITAL'!B18 -> CONCILIACIÓN | C19: ='PANEL DE CONTROL DISTRITAL'!C18 -> Responsable de Módulo | D19: ='PANEL DE CONTROL DISTRITAL'!D18 -> Credenciales disponibles para entrega = | E19: ='PANEL DE CONTROL DISTRITAL'!E18 -> ((Credenciales recibidas - Credenciales inconsistentes) / Credenciales recibidas) x 100 | F19: ='PANEL DE CONTROL DISTRITAL'!F18 -> Semanal (remesa) | G19: ='PANEL DE CONTROL DISTRITAL'!G18 -> 0.9 | H19: ='PANEL DE CONTROL DISTRITAL'!H18 -> Credenciales Recibidas - Credenciales inconsistentes | I19: 138 | J19: 346 | K19: 344 | L19: 327 | M19: 378 | N19: 384 | O19: 372 | P19: 304 | Q19: 460 | R19: 285 | S19: 312 | T19: 480 | U19: 154 | V19: 831 | W19: 546 | X19: 386 | Y19: 498 | Z19: 306 | AA19: =IFERROR(SUM(I19:Z19)/SUM(I20:Z20),0) -> 1
H20: ='PANEL DE CONTROL DISTRITAL'!H19 -> Credenciales recibidas | I20: 138 | J20: 346 | K20: 344 | L20: 327 | M20: 378 | N20: 384 | O20: 372 | P20: 304 | Q20: 460 | R20: 285 | S20: 312 | T20: 480 | U20: 154 | V20: 831 | W20: 546 | X20: 386 | Y20: 498 | Z20: 306
A22: ='PANEL DE CONTROL DISTRITAL'!A21 -> 5 | B22: ='PANEL DE CONTROL DISTRITAL'!B21 -> CONCILIACIÓN | C22: ='PANEL DE CONTROL DISTRITAL'!C21 -> Responsable de Módulo | D22: ='PANEL DE CONTROL DISTRITAL'!D21 -> Credenciales disponibles para entrega = | E22: ='PANEL DE CONTROL DISTRITAL'!E21 -> (Credenciales en resguardo / Credenciales totales en SIIRFE disponibles para entrega) x 100 | F22: ='PANEL DE CONTROL DISTRITAL'!F21 -> Semanal (remesa) | G22: ='PANEL DE CONTROL DISTRITAL'!G21 -> 1 | H22: ='PANEL DE CONTROL DISTRITAL'!H21 -> Credenciales en resguardo | I22: 973 | J22: 996 | K22: 991 | L22: 939 | M22: 972 | N22: 950 | O22: 970 | P22: 886 | Q22: 961 | R22: 925 | S22: 861 | T22: 943 | U22: 793 | V22: 1149 | W22: 1165 | X22: 1010 | Y22: 890 | Z22: 783 | AA22: =IFERROR(SUM(I22:Z22)/SUM(I23:Z23),0) -> 1
H23: ='PANEL DE CONTROL DISTRITAL'!H22 -> Credenciales totales en SIIRFE disponibles para entrega | I23: 973 | J23: 996 | K23: 991 | L23: 939 | M23: 972 | N23: 950 | O23: 970 | P23: 886 | Q23: 961 | R23: 925 | S23: 861 | T23: 943 | U23: 793 | V23: 1149 | W23: 1165 | X23: 1010 | Y23: 890 | Z23: 783
A25: ='PANEL DE CONTROL DISTRITAL'!A24 -> 6 | B25: ='PANEL DE CONTROL DISTRITAL'!B24 -> ENTREGA | C25: ='PANEL DE CONTROL DISTRITAL'!C24 -> Operador de Equipo Tecnológico | D25: ='PANEL DE CONTROL DISTRITAL'!D24 -> Efectividad de entrega de CPV en MAC = | E25: ='PANEL DE CONTROL DISTRITAL'!E24 -> (Total de credenciales entregadas / Total de credenciales solicitadas) x 100 | F25: ='PANEL DE CONTROL DISTRITAL'!F24 -> Semanal (remesa) | G25: ='PANEL DE CONTROL DISTRITAL'!G24 -> 0.9 | H25: ='PANEL DE CONTROL DISTRITAL'!H24 -> Total de credenciales entregadas | I25: 66 | J25: 323 | K25: 338 | L25: 379 | M25: 345 | N25: 400 | O25: 352 | P25: 388 | Q25: 385 | R25: 321 | S25: 368 | T25: 398 | U25: 304 | V25: 475 | W25: 528 | X25: 541 | Y25: 618 | Z25: 413 | AA25: =IFERROR(SUM(I25:Z25)/SUM(I26:Z26),0) -> 0.99270699
H26: ='PANEL DE CONTROL DISTRITAL'!H25 -> Total de credenciales solicitadas | I26: 66 | J26: 346 | K26: 338 | L26: 379 | M26: 345 | N26: 401 | O26: 354 | P26: 390 | Q26: 387 | R26: 322 | S26: 370 | T26: 398 | U26: 308 | V26: 482 | W26: 532 | X26: 544 | Y26: 618 | Z26: 413
B27: *Registre el valor nominal solicitado en la celda, el resultado proporcional esta automatizado.
I29: Semaforización
J30: Valor que requiere atención y justificación en el apartado de observaciones
J31: Valor suficiente
J32: Valor esperado
B34: CUADRO DE OBSERVACIONES
B35: Descripción | H35: No conformidad

Sheet 160551
A1: ='PANEL DE CONTROL DISTRITAL'!A1:Q1 -> INSTITUTO NACIONAL ELECTORAL SISTEMA DE GESTIÓN DE LA CALIDAD MICHOACÁN
D2: Distrito | E2: 5 | F2: Módulo | H2: 160551 | W2: ='PANEL DE CONTROL DISTRITAL'!AC2 -> Fecha de corte 31/12/2023
A4: TABLERO DE CONTROL DISTRITAL DE PROCESOS SUSTANTIVOS DEL SISTEMA DE GESTIÓN DE LA CALIDAD 2023 -2024
A6: ='PANEL DE CONTROL DISTRITAL'!A6 -> Número | B6: ='PANEL DE CONTROL DISTRITAL'!B6 -> PROCESOS SUSTANTIVOS E INDICADORES | I6: SEMANA OPERATIVA | AA6: % AVANCE REGISTRADO
B7: ='PANEL DE CONTROL DISTRITAL'!B7 -> DESCRIPCIÓN | E7: ='PANEL DE CONTROL DISTRITAL'!E7 -> MEDICIÓN | I7: ='PANEL DE CONTROL DISTRITAL'!A5 -> CAMPAÑA ANUAL INTENSA 2023_2024
B9: ='PANEL DE CONTROL DISTRITAL'!B8 -> Proceso | C9: ='PANEL DE CONTROL DISTRITAL'!C8 -> Dueño de Proceso | D9: ='PANEL DE CONTROL DISTRITAL'!D8 -> Indicador | E9: ='PANEL DE CONTROL DISTRITAL'!E8 -> Cálculo | F9: ='PANEL DE CONTROL DISTRITAL'!F8 -> Periodo | G9: ='PANEL DE CONTROL DISTRITAL'!G8 -> Estimado | H9: ='PANEL DE CONTROL DISTRITAL'!H8 -> Nominativo | I9: ='160151'!I9 -> 2023-37 | J9: ='160151'!J9 -> 2023-38 | K9: ='160151'!K9 -> 2023-39 | L9: ='160151'!L9 -> 2023-40 | M9: ='160151'!M9 -> 2023-41 | N9: ='160151'!N9 -> 2023-42 | O9: ='160151'!O9 -> 2023-43 | P9: ='160151'!P9 -> 2023-44 | ... Z9: ='160151'!Z9 -> 2023-54
A10: ='PANEL DE CONTROL DISTRITAL'!A9 -> 1 | B10: ='PANEL DE CONTROL DISTRITAL'!B9 -> ENTREVISTA | C10: ='PANEL DE CONTROL DISTRITAL'!C9 -> Auxiliar de Atención Ciudadana | D10: ='PANEL DE CONTROL DISTRITAL'!D9 -> Efectividad de la entrevista = | E10: ='PANEL DE CONTROL DISTRITAL'!E9 -> (Número de trámites aplicados / (Número de fichas requisitadas - Notificaciones de improcedencia de trámite)) x 100 | F10: ='PANEL DE CONTROL DISTRITAL'!F9 -> Semanal (remesa) | G10: ='PANEL DE CONTROL DISTRITAL'!G9 -> 0.9 | H10: ='PANEL DE CONTROL DISTRITAL'!H9 -> Número de trámites aplicados | I10: 64 | J10: 415 | K10: 428 | L10: 444 | M10: 525 | N10: 507 | O10: 495 | P10: 548 | Q10: 511 | R10: 413 | S10: 597 | T10: 674 | U10: 586 | V10: 744 | W10: 779 | X10: 707 | Y10: 874 | Z10: 659 | AA10: =IFERROR(SUM(I10:Z10)/SUM(I11:Z11),0) -> 0.99670099
H11: ='PANEL DE CONTROL DISTRITAL'!H10 -> Número de fichas requisitadas - Notificaciones de improcedencia de trámite | I11: 64 | J11: 419 | K11: 429 | L11: 447 | M11: 524 | N11: 509 | O11: 497 | P11: 551 | Q11: 513 | R11: 415 | S11: 601 | T11: 679 | U11: 589 | V11: 747 | W11: 779 | X11: 707 | Y11: 874 | Z11: 659
A13: ='PANEL DE CONTROL DISTRITAL'!A12 -> 2 | B13: ='PANEL DE CONTROL DISTRITAL'!B12 -> TRÁMITE | C13: ='PANEL DE CONTROL DISTRITAL'!C12 -> Operador de Equipo Tecnológico | D13: ='PANEL DE CONTROL DISTRITAL'!D12 -> Trámites exitosos efectivos= | E13: ='PANEL DE CONTROL DISTRITAL'!E12 -> (Número de trámites exitosos / Número de trámites aplicados) x 100 | F13: ='PANEL DE CONTROL DISTRITAL'!F12 -> Semanal (remesa) | G13: ='PANEL DE CONTROL DISTRITAL'!G12 -> 0.9 | H13: ='PANEL DE CONTROL DISTRITAL'!H12 -> Número de trámites exitosos | I13: 64 | J13: 414 | K13: 426 | L13: 442 | M13: 522 | N13: 504 | O13: 494 | P13: 547 | Q13: 509 | R13: 411 | S13: 594 | T13: 670 | U13: 585 | V13: 740 | W13: 772 | X13: 700 | Y13: 861 | Z13: 219 | AA13: =IFERROR(SUM(I13:Z13)/SUM(I14:Z14),0) -> 0.95025075
H14: ='PANEL DE CONTROL DISTRITAL'!H13 -> Número de trámites aplicados | I14: 64 | J14: 415 | K14: 428 | L14: 444 | M14: 525 | N14: 507 | O14: 495 | P14: 549 | Q14: 510 | R14: 413 | S14: 597 | T14: 674 | U14: 586 | V14: 744 | W14: 779 | X14: 707 | Y14: 874 | Z14: 659
A16: ='PANEL DE CONTROL DISTRITAL'!A15 -> 3 | B16: ='PANEL DE CONTROL DISTRITAL'!B15 -> TRANSFERENCIA | C16: ='PANEL DE CONTROL DISTRITAL'!C15 -> Responsable de Módulo | D16: ='PANEL DE CONTROL DISTRITAL'!D15 -> Transacciones exitosas = | E16: ='PANEL DE CONTROL DISTRITAL'!E15 -> (Número de Archivos de Transacción aceptados /Total de Archivos de Transacción procesados) x100 | F16: ='PANEL DE CONTROL DISTRITAL'!F15 -> Semanal (remesa) | G16: ='PANEL DE CONTROL DISTRITAL'!G15 -> 0.9 | H16: ='PANEL DE CONTROL DISTRITAL'!H15 -> Número de Archivos de Transacción aceptados | I16: 64 | J16: 415 | K16: 428 | L16: 444 | M16: 525 | N16: 507 | O16: 495 | P16: 549 | Q16: 510 | R16: 413 | S16: 597 | T16: 674 | U16: 586 | V16: 744 | W16: 779 | X16: 707 | Y16: 874 | Z16: 659 | AA16: =IFERROR(SUM(I16:Z16)/SUM(I17:Z17),0) -> 1.0091093
H17: ='PANEL DE CONTROL DISTRITAL'!H16 -> Total de Archivos de Transacción procesados | I17: 64 | J17: 415 | K17: 428 | L17: 444 | M17: 525 | N17: 507 | O17: 495 | P17: 549 | Q17: 510 | R17: 413 | S17: 597 | T17: 674 | U17: 586 | V17: 744 | W17: 779 | X17: 707 | Y17: 874 | Z17: 569
A19: ='PANEL DE CONTROL DISTRITAL'!A18 -> 4 | B19: ='PANEL DE CONTROL DISTRITAL'!B18 -> CONCILIACIÓN | C19: ='PANEL DE CONTROL DISTRITAL'!C18 -> Responsable de Módulo | D19: ='PANEL DE CONTROL DISTRITAL'!D18 -> Credenciales disponibles para entrega = | E19: ='PANEL DE CONTROL DISTRITAL'!E18 -> ((Credenciales recibidas - Credenciales inconsistentes) / Credenciales recibidas) x 100 | F19: ='PANEL DE CONTROL DISTRITAL'!F18 -> Semanal (remesa) | G19: ='PANEL DE CONTROL DISTRITAL'!G18 -> 0.9 | H19: ='PANEL DE CONTROL DISTRITAL'!H18 -> Credenciales Recibidas - Credenciales inconsistentes | I19: 82 | J19: 374 | K19: 448 | L19: 427 | M19: 461 | N19: 506 | O19: 523 | P19: 510 | Q19: 536 | R19: 495 | S19: 333 | T19: 706 | U19: 685 | V19: 743 | W19: 751 | X19: 584 | Y19: 572 | Z19: 423 | AA19: =IFERROR(SUM(I19:Z19)/SUM(I20:Z20),0) -> 1
H20: ='PANEL DE CONTROL DISTRITAL'!H19 -> Credenciales recibidas | I20: 82 | J20: 374 | K20: 448 | L20: 427 | M20: 461 | N20: 506 | O20: 523 | P20: 510 | Q20: 536 | R20: 495 | S20: 333 | T20: 706 | U20: 685 | V20: 743 | W20: 751 | X20: 584 | Y20: 572 | Z20: 423
A22: ='PANEL DE CONTROL DISTRITAL'!A21 -> 5 | B22: ='PANEL DE CONTROL DISTRITAL'!B21 -> CONCILIACIÓN | C22: ='PANEL DE CONTROL DISTRITAL'!C21 -> Responsable de Módulo | D22: ='PANEL DE CONTROL DISTRITAL'!D21 -> Credenciales disponibles para entrega = | E22: ='PANEL DE CONTROL DISTRITAL'!E21 -> (Credenciales en resguardo / Credenciales totales en SIIRFE disponibles para entrega) x 100 | F22: ='PANEL DE CONTROL DISTRITAL'!F21 -> Semanal (remesa) | G22: ='PANEL DE CONTROL DISTRITAL'!G21 -> 1 | H22: ='PANEL DE CONTROL DISTRITAL'!H21 -> Credenciales en resguardo | I22: 1230 | J22: 1111 | K22: 1171 | L22: 1124 | M22: 1153 | N22: 1168 | O22: 1195 | P22: 1210 | Q22: 1210 | R22: 1284 | S22: 1026 | T22: 1211 | U22: 1311 | V22: 1443 | W22: 1462 | X22: 1292 | Y22: 1091 | Z22: 893 | AA22: =IFERROR(SUM(I22:Z22)/SUM(I23:Z23),0) -> 1
H23: ='PANEL DE CONTROL DISTRITAL'!H22 -> Credenciales totales en SIIRFE disponibles para entrega | I23: 1230 | J23: 1111 | K23: 1171 | L23: 1124 | M23: 1153 | N23: 1168 | O23: 1195 | P23: 1210 | Q23: 1210 | R23: 1284 | S23: 1026 | T23: 1211 | U23: 1311 | V23: 1443 | W23: 1462 | X23: 1292 | Y23: 1091 | Z23: 893
A25: ='PANEL DE CONTROL DISTRITAL'!A24 -> 6 | B25: ='PANEL DE CONTROL DISTRITAL'!B24 -> ENTREGA | C25: ='PANEL DE CONTROL DISTRITAL'!C24 -> Operador de Equipo Tecnológico | D25: ='PANEL DE CONTROL DISTRITAL'!D24 -> Efectividad de entrega de CPV en MAC = | E25: ='PANEL DE CONTROL DISTRITAL'!E24 -> (Total de credenciales entregadas / Total de credenciales solicitadas) x 100 | F25: ='PANEL DE CONTROL DISTRITAL'!F24 -> Semanal (remesa) | G25: ='PANEL DE CONTROL DISTRITAL'!G24 -> 0.9 | H25: ='PANEL DE CONTROL DISTRITAL'!H24 -> Total de credenciales entregadas | I25: 117 | J25: 492 | K25: 382 | L25: 474 | M25: 432 | N25: 488 | O25: 496 | P25: 495 | Q25: 536 | R25: 421 | S25: 586 | T25: 521 | U25: 585 | V25: 611 | W25: 731 | X25: 754 | Y25: 773 | Z25: 621 | AA25: =IFERROR(SUM(I25:Z25)/SUM(I26:Z26),0) -> 1
H26: ='PANEL DE CONTROL DISTRITAL'!H25 -> Total de credenciales solicitadas | I26: 117 | J26: 492 | K26: 382 | L26: 474 | M26: 432 | N26: 488 | O26: 496 | P26: 495 | Q26: 536 | R26: 421 | S26: 586 | T26: 521 | U26: 585 | V26: 611 | W26: 731 | X26: 754 | Y26: 773 | Z26: 621
B27: *Registre el valor nominal solicitado en la celda, el resultado proporcional esta automatizado.
I29: Semaforización
J30: Valor que requiere atención y justificación en el apartado de observaciones
J31: Valor suficiente
J32: Valor esperado
B34: CUADRO DE OBSERVACIONES
B35: Descripción | H35: No conformidad

Sheet 160552
A1: ='PANEL DE CONTROL DISTRITAL'!A1:Q1 -> INSTITUTO NACIONAL ELECTORAL SISTEMA DE GESTIÓN DE LA CALIDAD MICHOACÁN
D2: Distrito | E2: 5 | F2: Módulo | H2: 160552 | W2: ='PANEL DE CONTROL DISTRITAL'!AC2 -> Fecha de corte 31/12/2023
A4: TABLERO DE CONTROL DISTRITAL DE PROCESOS SUSTANTIVOS DEL SISTEMA DE GESTIÓN DE LA CALIDAD 2023 -2024
A6: ='PANEL DE CONTROL DISTRITAL'!A6 -> Número | B6: ='PANEL DE CONTROL DISTRITAL'!B6 -> PROCESOS SUSTANTIVOS E INDICADORES | I6: SEMANA OPERATIVA | AA6: % AVANCE REGISTRADO
B7: ='PANEL DE CONTROL DISTRITAL'!B7 -> DESCRIPCIÓN | E7: ='PANEL DE CONTROL DISTRITAL'!E7 -> MEDICIÓN | I7: ='PANEL DE CONTROL DISTRITAL'!A5 -> CAMPAÑA ANUAL INTENSA 2023_2024
B9: ='PANEL DE CONTROL DISTRITAL'!B8 -> Proceso | C9: ='PANEL DE CONTROL DISTRITAL'!C8 -> Dueño de Proceso | D9: ='PANEL DE CONTROL DISTRITAL'!D8 -> Indicador | E9: ='PANEL DE CONTROL DISTRITAL'!E8 -> Cálculo | F9: ='PANEL DE CONTROL DISTRITAL'!F8 -> Periodo | G9: ='PANEL DE CONTROL DISTRITAL'!G8 -> Estimado | H9: ='PANEL DE CONTROL DISTRITAL'!H8 -> Nominativo | I9: ='160151'!I9 -> 2023-37 | J9: ='160151'!J9 -> 2023-38 | K9: ='160151'!K9 -> 2023-39 | L9: ='160151'!L9 -> 2023-40 | M9: ='160151'!M9 -> 2023-41 | N9: ='160151'!N9 -> 2023-42 | O9: ='160151'!O9 -> 2023-43 | P9: ='160151'!P9 -> 2023-44 | ... Z9: ='160151'!Z9 -> 2023-54
A10: ='PANEL DE CONTROL DISTRITAL'!A9 -> 1 | B10: ='PANEL DE CONTROL DISTRITAL'!B9 -> ENTREVISTA | C10: ='PANEL DE CONTROL DISTRITAL'!C9 -> Auxiliar de Atención Ciudadana | D10: ='PANEL DE CONTROL DISTRITAL'!D9 -> Efectividad de la entrevista = | E10: ='PANEL DE CONTROL DISTRITAL'!E9 -> (Número de trámites aplicados / (Número de fichas requisitadas - Notificaciones de improcedencia de trámite)) x 100 | F10: ='PANEL DE CONTROL DISTRITAL'!F9 -> Semanal (remesa) | G10: ='PANEL DE CONTROL DISTRITAL'!G9 -> 0.9 | H10: ='PANEL DE CONTROL DISTRITAL'!H9 -> Número de trámites aplicados | I10: 61 | J10: 288 | K10: 290 | L10: 288 | M10: 289 | N10: 285 | O10: 297 | P10: 271 | Q10: 265 | R10: 212 | S10: 339 | T10: 322 | U10: 257 | V10: 362 | W10: 354 | X10: 323 | Y10: 332 | Z10: 265 | AA10: =IFERROR(SUM(I10:Z10)/SUM(I11:Z11),0) -> 0.99941211
H11: ='PANEL DE CONTROL DISTRITAL'!H10 -> Número de fichas requisitadas - Notificaciones de improcedencia de trámite | I11: 61 | J11: 289 | K11: 292 | L11: 288 | M11: 289 | N11: 285 | O11: 297 | P11: 271 | Q11: 265 | R11: 212 | S11: 339 | T11: 322 | U11: 257 | V11: 362 | W11: 354 | X11: 323 | Y11: 332 | Z11: 265
A13: ='PANEL DE CONTROL DISTRITAL'!A12 -> 2 | B13: ='PANEL DE CONTROL DISTRITAL'!B12 -> TRÁMITE | C13: ='PANEL DE CONTROL DISTRITAL'!C12 -> Operador de Equipo Tecnológico | D13: ='PANEL DE CONTROL DISTRITAL'!D12 -> Trámites exitosos efectivos= | E13: ='PANEL DE CONTROL DISTRITAL'!E12 -> (Número de trámites exitosos / Número de trámites aplicados) x 100 | F13: ='PANEL DE CONTROL DISTRITAL'!F12 -> Semanal (remesa) | G13: ='PANEL DE CONTROL DISTRITAL'!G12 -> 0.9 | H13: ='PANEL DE CONTROL DISTRITAL'!H12 -> Número de trámites exitosos | I13: 59 | J13: 288 | K13: 290 | L13: 284 | M13: 288 | N13: 284 | O13: 296 | P13: 269 | Q13: 263 | R13: 211 | S13: 338 | T13: 320 | U13: 255 | V13: 359 | W13: 352 | X13: 321 | Y13: 329 | Z13: 263 | AA13: =IFERROR(SUM(I13:Z13)/SUM(I14:Z14),0) -> 0.99392157
H14: ='PANEL DE CONTROL DISTRITAL'!H13 -> Número de trámites aplicados | I14: 61 | J14: 288 | K14: 290 | L14: 288 | M14: 289 | N14: 285 | O14: 297 | P14: 271 | Q14: 265 | R14: 212 | S14: 339 | T14: 322 | U14: 257 | V14: 362 | W14: 354 | X14: 323 | Y14: 332 | Z14: 265
A16: ='PANEL DE CONTROL DISTRITAL'!A15 -> 3 | B16: ='PANEL DE CONTROL DISTRITAL'!B15 -> TRANSFERENCIA | C16: ='PANEL DE CONTROL DISTRITAL'!C15 -> Responsable de Módulo | D16: ='PANEL DE CONTROL DISTRITAL'!D15 -> Transacciones exitosas = | E16: ='PANEL DE CONTROL DISTRITAL'!E15 -> (Número de Archivos de Transacción aceptados /Total de Archivos de Transacción procesados) x100 | F16: ='PANEL DE CONTROL DISTRITAL'!F15 -> Semanal (remesa) | G16: ='PANEL DE CONTROL DISTRITAL'!G15 -> 0.9 | H16: ='PANEL DE CONTROL DISTRITAL'!H15 -> Número de Archivos de Transacción aceptados | I16: 61 | J16: 288 | K16: 290 | L16: 288 | M16: 289 | N16: 285 | O16: 297 | P16: 271 | Q16: 265 | R16: 212 | S16: 339 | T16: 322 | U16: 257 | V16: 362 | W16: 354 | X16: 323 | Y16: 332 | Z16: 265 | AA16: =IFERROR(SUM(I16:Z16)/SUM(I17:Z17),0) -> 1
H17: ='PANEL DE CONTROL DISTRITAL'!H16 -> Total de Archivos de Transacción procesados | I17: 61 | J17: 288 | K17: 290 | L17: 288 | M17: 289 | N17: 285 | O17: 297 | P17: 271 | Q17: 265 | R17: 212 | S17: 339 | T17: 322 | U17: 257 | V17: 362 | W17: 354 | X17: 323 | Y17: 332 | Z17: 265
A19: ='PANEL DE CONTROL DISTRITAL'!A18 -> 4 | B19: ='PANEL DE CONTROL DISTRITAL'!B18 -> CONCILIACIÓN | C19: ='PANEL DE CONTROL DISTRITAL'!C18 -> Responsable de Módulo | D19: ='PANEL DE CONTROL DISTRITAL'!D18 -> Credenciales disponibles para entrega = | E19: ='PANEL DE CONTROL DISTRITAL'!E18 -> ((Credenciales recibidas - Credenciales inconsistentes) / Credenciales recibidas) x 100 | F19: ='PANEL DE CONTROL DISTRITAL'!F18 -> Semanal (remesa) | G19: ='PANEL DE CONTROL DISTRITAL'!G18 -> 0.9 | H19: ='PANEL DE CONTROL DISTRITAL'!H18 -> Credenciales Recibidas - Credenciales inconsistentes | I19: 45 | J19: 214 | K19: 360 | L19: 280 | M19: 282 | N19: 292 | O19: 278 | P19: 289 | Q19: 266 | R19: 236 | S19: 285 | T19: 323 | U19: 264 | V19: 331 | W19: 377 | X19: 311 | Y19: 205 | Z19: 164 | AA19: =IFERROR(SUM(I19:Z19)/SUM(I20:Z20),0) -> 1
H20: ='PANEL DE CONTROL DISTRITAL'!H19 -> Credenciales recibidas | I20: 45 | J20: 214 | K20: 360 | L20: 280 | M20: 282 | N20: 292 | O20: 278 | P20: 289 | Q20: 266 | R20: 236 | S20: 285 | T20: 323 | U20: 264 | V20: 331 | W20: 377 | X20: 311 | Y20: 205 | Z20: 164
A22: ='PANEL DE CONTROL DISTRITAL'!A21 -> 5 | B22: ='PANEL DE CONTROL DISTRITAL'!B21 -> CONCILIACIÓN | C22: ='PANEL DE CONTROL DISTRITAL'!C21 -> Responsable de Módulo | D22: ='PANEL DE CONTROL DISTRITAL'!D21 -> Credenciales disponibles para entrega = | E22: ='PANEL DE CONTROL DISTRITAL'!E21 -> (Credenciales en resguardo / Credenciales totales en SIIRFE disponibles para entrega) x 100 | F22: ='PANEL DE CONTROL DISTRITAL'!F21 -> Semanal (remesa) | G22: ='PANEL DE CONTROL DISTRITAL'!G21 -> 1 | H22: ='PANEL DE CONTROL DISTRITAL'!H21 -> Credenciales en resguardo | I22: 737 | J22: 717 | K22: 799 | L22: 763 | M22: 804 | N22: 809 | O22: 771 | P22: 785 | Q22: 753 | R22: 764 | S22: 751 | T22: 793 | U22: 748 | V22: 795 | W22: 852 | X22: 796 | Y22: 617 | Z22: 461 | AA22: =IFERROR(SUM(I22:Z22)/SUM(I23:Z23),0) -> 1
H23: ='PANEL DE CONTROL DISTRITAL'!H22 -> Credenciales totales en SIIRFE disponibles para entrega | I23: 737 | J23: 717 | K23: 799 | L23: 763 | M23: 804 | N23: 809 | O23: 771 | P23: 785 | Q23: 753 | R23: 764 | S23: 751 | T23: 793 | U23: 748 | V23: 795 | W23: 852 | X23: 796 | Y23: 617 | Z23: 461
A25: ='PANEL DE CONTROL DISTRITAL'!A24 -> 6 | B25: ='PANEL DE CONTROL DISTRITAL'!B24 -> ENTREGA | C25: ='PANEL DE CONTROL DISTRITAL'!C24 -> Operador de Equipo Tecnológico | D25: ='PANEL DE CONTROL DISTRITAL'!D24 -> Efectividad de entrega de CPV en MAC = | E25: ='PANEL DE CONTROL DISTRITAL'!E24 -> (Total de credenciales entregadas / Total de credenciales solicitadas) x 100 | F25: ='PANEL DE CONTROL DISTRITAL'!F24 -> Semanal (remesa) | G25: ='PANEL DE CONTROL DISTRITAL'!G24 -> 0.9 | H25: ='PANEL DE CONTROL DISTRITAL'!H24 -> Total de credenciales entregadas | I25: 73 | J25: 234 | K25: 277 | L25: 316 | M25: 241 | N25: 285 | O25: 316 | P25: 275 | Q25: 298 | R25: 225 | S25: 292 | T25: 281 | U25: 309 | V25: 284 | W25: 319 | X25: 367 | Y25: 384 | Z25: 320 | AA25: =IFERROR(SUM(I25:Z25)/SUM(I26:Z26),0) -> 1
H26: ='PANEL DE CONTROL DISTRITAL'!H25 -> Total de credenciales solicitadas | I26: 73 | J26: 234 | K26: 277 | L26: 316 | M26: 241 | N26: 285 | O26: 316 | P26: 275 | Q26: 298 | R26: 225 | S26: 292 | T26: 281 | U26: 309 | V26: 284 | W26: 319 | X26: 367 | Y26: 384 | Z26: 320
B27: *Registre el valor nominal solicitado en la celda, el resultado proporcional esta automatizado.
I29: Semaforización
J30: Valor que requiere atención y justificación en el apartado de observaciones
J31: Valor suficiente
J32: Valor esperado
B34: CUADRO DE OBSERVACIONES
B35: Descripción | H35: No conformidad

Sheet 160553
A1: ='PANEL DE CONTROL DISTRITAL'!A1:Q1 -> INSTITUTO NACIONAL ELECTORAL SISTEMA DE GESTIÓN DE LA CALIDAD MICHOACÁN
D2: Distrito | E2: 5 | F2: Módulo | H2: 160552 | W2: ='PANEL DE CONTROL DISTRITAL'!AC2 -> Fecha de corte 31/12/2023
A4: TABLERO DE CONTROL DISTRITAL DE PROCESOS SUSTANTIVOS DEL SISTEMA DE GESTIÓN DE LA CALIDAD 2023 -2024
A6: ='PANEL DE CONTROL DISTRITAL'!A6 -> Número | B6: ='PANEL DE CONTROL DISTRITAL'!B6 -> PROCESOS SUSTANTIVOS E INDICADORES | I6: SEMANA OPERATIVA | AA6: % AVANCE REGISTRADO
B7: ='PANEL DE CONTROL DISTRITAL'!B7 -> DESCRIPCIÓN | E7: ='PANEL DE CONTROL DISTRITAL'!E7 -> MEDICIÓN | I7: ='PANEL DE CONTROL DISTRITAL'!A5 -> CAMPAÑA ANUAL INTENSA 2023_2024
B9: ='PANEL DE CONTROL DISTRITAL'!B8 -> Proceso | C9: ='PANEL DE CONTROL DISTRITAL'!C8 -> Dueño de Proceso | D9: ='PANEL DE CONTROL DISTRITAL'!D8 -> Indicador | E9: ='PANEL DE CONTROL DISTRITAL'!E8 -> Cálculo | F9: ='PANEL DE CONTROL DISTRITAL'!F8 -> Periodo | G9: ='PANEL DE CONTROL DISTRITAL'!G8 -> Estimado | H9: ='PANEL DE CONTROL DISTRITAL'!H8 -> Nominativo | I9: ='160151'!I9 -> 2023-37 | J9: ='160151'!J9 -> 2023-38 | K9: ='160151'!K9 -> 2023-39 | L9: ='160151'!L9 -> 2023-40 | M9: ='160151'!M9 -> 2023-41 | N9: ='160151'!N9 -> 2023-42 | O9: ='160151'!O9 -> 2023-43 | P9: ='160151'!P9 -> 2023-44 | ... Z9: ='160151'!Z9 -> 2023-54
A10: ='PANEL DE CONTROL DISTRITAL'!A9 -> 1 | B10: ='PANEL DE CONTROL DISTRITAL'!B9 -> ENTREVISTA | C10: ='PANEL DE CONTROL DISTRITAL'!C9 -> Auxiliar de Atención Ciudadana | D10: ='PANEL DE CONTROL DISTRITAL'!D9 -> Efectividad de la entrevista = | E10: ='PANEL DE CONTROL DISTRITAL'!E9 -> (Número de trámites aplicados / (Número de fichas requisitadas - Notificaciones de improcedencia de trámite)) x 100 | F10: ='PANEL DE CONTROL DISTRITAL'!F9 -> Semanal (remesa) | G10: ='PANEL DE CONTROL DISTRITAL'!G9 -> 0.9 | H10: ='PANEL DE CONTROL DISTRITAL'!H9 -> Número de trámites aplicados | I10: 29 | J10: 170 | K10: 131 | L10: 235 | M10: 145 | N10: 162 | O10: 103 | P10: 131 | Q10: 163 | R10: 108 | S10: 175 | T10: 159 | U10: 174 | V10: 250 | W10: 199 | X10: 186 | Y10: 184 | Z10: 160 | AA10: =IFERROR(SUM(I10:Z10)/SUM(I11:Z11),0) -> 1
H11: ='PANEL DE CONTROL DISTRITAL'!H10 -> Número de fichas requisitadas - Notificaciones de improcedencia de trámite | I11: 29 | J11: 170 | K11: 131 | L11: 235 | M11: 145 | N11: 162 | O11: 103 | P11: 131 | Q11: 163 | R11: 108 | S11: 175 | T11: 159 | U11: 174 | V11: 250 | W11: 199 | X11: 186 | Y11: 184 | Z11: 160
A13: ='PANEL DE CONTROL DISTRITAL'!A12 -> 2 | B13: ='PANEL DE CONTROL DISTRITAL'!B12 -> TRÁMITE | C13: ='PANEL DE CONTROL DISTRITAL'!C12 -> Operador de Equipo Tecnológico | D13: ='PANEL DE CONTROL DISTRITAL'!D12 -> Trámites exitosos efectivos= | E13: ='PANEL DE CONTROL DISTRITAL'!E12 -> (Número de trámites exitosos / Número de trámites aplicados) x 100 | F13: ='PANEL DE CONTROL DISTRITAL'!F12 -> Semanal (remesa) | G13: ='PANEL DE CONTROL DISTRITAL'!G12 -> 0.9 | H13: ='PANEL DE CONTROL DISTRITAL'!H12 -> Número de trámites exitosos | I13: 29 | J13: 169 | K13: 131 | L13: 231 | M13: 144 | N13: 160 | O13: 102 | P13: 130 | Q13: 163 | R13: 108 | S13: 175 | T13: 158 | U13: 173 | V13: 247 | W13: 199 | X13: 186 | Y13: 184 | Z13: 160 | AA13: =IFERROR(SUM(I13:Z13)/SUM(I14:Z14),0) -> 0.99476257
H14: ='PANEL DE CONTROL DISTRITAL'!H13 -> Número de trámites aplicados | I14: 29 | J14: 170 | K14: 131 | L14: 235 | M14: 145 | N14: 162 | O14: 103 | P14: 131 | Q14: 163 | R14: 108 | S14: 175 | T14: 159 | U14: 174 | V14: 250 | W14: 199 | X14: 186 | Y14: 184 | Z14: 160
A16: ='PANEL DE CONTROL DISTRITAL'!A15 -> 3 | B16: ='PANEL DE CONTROL DISTRITAL'!B15 -> TRANSFERENCIA | C16: ='PANEL DE CONTROL DISTRITAL'!C15 -> Responsable de Módulo | D16: ='PANEL DE CONTROL DISTRITAL'!D15 -> Transacciones exitosas = | E16: ='PANEL DE CONTROL DISTRITAL'!E15 -> (Número de Archivos de Transacción aceptados /Total de Archivos de Transacción procesados) x100 | F16: ='PANEL DE CONTROL DISTRITAL'!F15 -> Semanal (remesa) | G16: ='PANEL DE CONTROL DISTRITAL'!G15 -> 0.9 | H16: ='PANEL DE CONTROL DISTRITAL'!H15 -> Número de Archivos de Transacción aceptados | I16: 29 | J16: 170 | K16: 131 | L16: 235 | M16: 145 | N16: 162 | O16: 103 | P16: 131 | Q16: 163 | R16: 108 | S16: 175 | T16: 159 | U16: 174 | V16: 250 | W16: 199 | X16: 186 | Y16: 184 | Z16: 160 | AA16: =IFERROR(SUM(I16:Z16)/SUM(I17:Z17),0) -> 1
H17: ='PANEL DE CONTROL DISTRITAL'!H16 -> Total de Archivos de Transacción procesados | I17: 29 | J17: 170 | K17: 131 | L17: 235 | M17: 145 | N17: 162 | O17: 103 | P17: 131 | Q17: 163 | R17: 108 | S17: 175 | T17: 159 | U17: 174 | V17: 250 | W17: 199 | X17: 186 | Y17: 184 | Z17: 160
A19: ='PANEL DE CONTROL DISTRITAL'!A18 -> 4 | B19: ='PANEL DE CONTROL DISTRITAL'!B18 -> CONCILIACIÓN | C19: ='PANEL DE CONTROL DISTRITAL'!C18 -> Responsable de Módulo | D19: ='PANEL DE CONTROL DISTRITAL'!D18 -> Credenciales disponibles para entrega = | E19: ='PANEL DE CONTROL DISTRITAL'!E18 -> ((Credenciales recibidas - Credenciales inconsistentes) / Credenciales recibidas) x 100 | F19: ='PANEL DE CONTROL DISTRITAL'!F18 -> Semanal (remesa) | G19: ='PANEL DE CONTROL DISTRITAL'!G18 -> 0.9 | H19: ='PANEL DE CONTROL DISTRITAL'!H18 -> Credenciales Recibidas - Credenciales inconsistentes | I19: 170 | J19: 164 | K19: 123 | L19: 215 | M19: 197 | N19: 147 | O19: 136 | P19: 136 | Q19: 114 | R19: 68 | S19: 180 | T19: 178 | U19: 162 | V19: 207 | W19: 164 | X19: 284 | Y19: 141 | Z19: 87 | AA19: =IFERROR(SUM(I19:Z19)/SUM(I20:Z20),0) -> 1
H20: ='PANEL DE CONTROL DISTRITAL'!H19 -> Credenciales recibidas | I20: 170 | J20: 164 | K20: 123 | L20: 215 | M20: 197 | N20: 147 | O20: 136 | P20: 136 | Q20: 114 | R20: 68 | S20: 180 | T20: 178 | U20: 162 | V20: 207 | W20: 164 | X20: 284 | Y20: 141 | Z20: 87
A22: ='PANEL DE CONTROL DISTRITAL'!A21 -> 5 | B22: ='PANEL DE CONTROL DISTRITAL'!B21 -> CONCILIACIÓN | C22: ='PANEL DE CONTROL DISTRITAL'!C21 -> Responsable de Módulo | D22: ='PANEL DE CONTROL DISTRITAL'!D21 -> Credenciales disponibles para entrega = | E22: ='PANEL DE CONTROL DISTRITAL'!E21 -> (Credenciales en resguardo / Credenciales totales en SIIRFE disponibles para entrega) x 100 | F22: ='PANEL DE CONTROL DISTRITAL'!F21 -> Semanal (remesa) | G22: ='PANEL DE CONTROL DISTRITAL'!G21 -> 1 | H22: ='PANEL DE CONTROL DISTRITAL'!H21 -> Credenciales en resguardo | I22: 722 | J22: 858 | K22: 874 | L22: 939 | M22: 658 | N22: 607 | O22: 580 | P22: 587 | Q22: 583 | R22: 448 | S22: 433 | T22: 567 | U22: 569 | V22: 661 | W22: 589 | X22: 614 | Y22: 574 | Z22: 512 | AA22: =IFERROR(SUM(I22:Z22)/SUM(I23:Z23),0) -> 1
H23: ='PANEL DE CONTROL DISTRITAL'!H22 -> Credenciales totales en SIIRFE disponibles para entrega | I23: 722 | J23: 858 | K23: 874 | L23: 939 | M23: 658 | N23: 607 | O23: 580 | P23: 587 | Q23: 583 | R23: 448 | S23: 433 | T23: 567 | U23: 569 | V23: 661 | W23: 589 | X23: 614 | Y23: 574 | Z23: 512
A25: ='PANEL DE CONTROL DISTRITAL'!A24 -> 6 | B25: ='PANEL DE CONTROL DISTRITAL'!B24 -> ENTREGA | C25: ='PANEL DE CONTROL DISTRITAL'!C24 -> Operador de Equipo Tecnológico | D25: ='PANEL DE CONTROL DISTRITAL'!D24 -> Efectividad de entrega de CPV en MAC = | E25: ='PANEL DE CONTROL DISTRITAL'!E24 -> (Total de credenciales entregadas / Total de credenciales solicitadas) x 100 | F25: ='PANEL DE CONTROL DISTRITAL'!F24 -> Semanal (remesa) | G25: ='PANEL DE CONTROL DISTRITAL'!G24 -> 0.9 | H25: ='PANEL DE CONTROL DISTRITAL'!H24 -> Total de credenciales entregadas | I25: 128 | J25: 28 | K25: 102 | L25: 150 | M25: 276 | N25: 196 | O25: 163 | P25: 129 | Q25: 118 | R25: 203 | S25: 194 | T25: 44 | U25: 160 | V25: 115 | W25: 231 | X25: 259 | Y25: 181 | Z25: 149 | AA25: =IFERROR(SUM(I25:Z25)/SUM(I26:Z26),0) -> 1
H26: ='PANEL DE CONTROL DISTRITAL'!H25 -> Total de credenciales solicitadas | I26: 128 | J26: 28 | K26: 102 | L26: 150 | M26: 276 | N26: 196 | O26: 163 | P26: 129 | Q26: 118 | R26: 203 | S26: 194 | T26: 44 | U26: 160 | V26: 115 | W26: 231 | X26: 259 | Y26: 181 | Z26: 149
B27: *Registre el valor nominal solicitado en la celda, el resultado proporcional esta automatizado.
I29: Semaforización
J30: Valor que requiere atención y justificación en el apartado de observaciones
J31: Valor suficiente
J32: Valor esperado
B34: CUADRO DE OBSERVACIONES
B35: Descripción | H35: No conformidad

Sheet 160554
A1: ='PANEL DE CONTROL DISTRITAL'!A1:Q1 -> INSTITUTO NACIONAL ELECTORAL SISTEMA DE GESTIÓN DE LA CALIDAD MICHOACÁN
D2: Distrito | E2: 5 | F2: Módulo | H2: 160554 | W2: ='PANEL DE CONTROL DISTRITAL'!AC2 -> Fecha de corte 31/12/2023
A4: TABLERO DE CONTROL DISTRITAL DE PROCESOS SUSTANTIVOS DEL SISTEMA DE GESTIÓN DE LA CALIDAD 2023 -2024
A6: ='PANEL DE CONTROL DISTRITAL'!A6 -> Número | B6: ='PANEL DE CONTROL DISTRITAL'!B6 -> PROCESOS SUSTANTIVOS E INDICADORES | I6: SEMANA OPERATIVA | AA6: % AVANCE REGISTRADO
B7: ='PANEL DE CONTROL DISTRITAL'!B7 -> DESCRIPCIÓN | E7: ='PANEL DE CONTROL DISTRITAL'!E7 -> MEDICIÓN | I7: ='PANEL DE CONTROL DISTRITAL'!A5 -> CAMPAÑA ANUAL INTENSA 2023_2024
B9: ='PANEL DE CONTROL DISTRITAL'!B8 -> Proceso | C9: ='PANEL DE CONTROL DISTRITAL'!C8 -> Dueño de Proceso | D9: ='PANEL DE CONTROL DISTRITAL'!D8 -> Indicador | E9: ='PANEL DE CONTROL DISTRITAL'!E8 -> Cálculo | F9: ='PANEL DE CONTROL DISTRITAL'!F8 -> Periodo | G9: ='PANEL DE CONTROL DISTRITAL'!G8 -> Estimado | H9: ='PANEL DE CONTROL DISTRITAL'!H8 -> Nominativo | I9: ='160151'!I9 -> 2023-37 | J9: ='160151'!J9 -> 2023-38 | K9: ='160151'!K9 -> 2023-39 | L9: ='160151'!L9 -> 2023-40 | M9: ='160151'!M9 -> 2023-41 | N9: ='160151'!N9 -> 2023-42 | O9: ='160151'!O9 -> 2023-43 | P9: ='160151'!P9 -> 2023-44 | ... Z9: ='160151'!Z9 -> 2023-54
A10: ='PANEL DE CONTROL DISTRITAL'!A9 -> 1 | B10: ='PANEL DE CONTROL DISTRITAL'!B9 -> ENTREVISTA | C10: ='PANEL DE CONTROL DISTRITAL'!C9 -> Auxiliar de Atención Ciudadana | D10: ='PANEL DE CONTROL DISTRITAL'!D9 -> Efectividad de la entrevista = | E10: ='PANEL DE CONTROL DISTRITAL'!E9 -> (Número de trámites aplicados / (Número de fichas requisitadas - Notificaciones de improcedencia de trámite)) x 100 | F10: ='PANEL DE CONTROL DISTRITAL'!F9 -> Semanal (remesa) | G10: ='PANEL DE CONTROL DISTRITAL'!G9 -> 0.9 | H10: ='PANEL DE CONTROL DISTRITAL'!H9 -> Número de trámites aplicados | I10: 12 | J10: 55 | K10: 84 | L10: 150 | M10: 148 | N10: 93 | O10: 106 | P10: 137 | Q10: 168 | R10: 65 | S10: 117 | T10: 155 | U10: 142 | V10: 147 | W10: 159 | X10: 167 | Y10: 201 | Z10: 166 | AA10: =IFERROR(SUM(I10:Z10)/SUM(I11:Z11),0) -> 0.99912049
H11: ='PANEL DE CONTROL DISTRITAL'!H10 -> Número de fichas requisitadas - Notificaciones de improcedencia de trámite | I11: 12 | J11: 55 | K11: 84 | L11: 151 | M11: 149 | N11: 93 | O11: 106 | P11: 137 | Q11: 168 | R11: 65 | S11: 117 | T11: 155 | U11: 142 | V11: 147 | W11: 159 | X11: 167 | Y11: 201 | Z11: 166
A13: ='PANEL DE CONTROL DISTRITAL'!A12 -> 2 | B13: ='PANEL DE CONTROL DISTRITAL'!B12 -> TRÁMITE | C13: ='PANEL DE CONTROL DISTRITAL'!C12 -> Operador de Equipo Tecnológico | D13: ='PANEL DE CONTROL DISTRITAL'!D12 -> Trámites exitosos efectivos= | E13: ='PANEL DE CONTROL DISTRITAL'!E12 -> (Número de trámites exitosos / Número de trámites aplicados) x 100 | F13: ='PANEL DE CONTROL DISTRITAL'!F12 -> Semanal (remesa) | G13: ='PANEL DE CONTROL DISTRITAL'!G12 -> 0.9 | H13: ='PANEL DE CONTROL DISTRITAL'!H12 -> Número de trámites exitosos | I13: 12 | J13: 54 | K13: 81 | L13: 147 | M13: 146 | N13: 93 | O13: 103 | P13: 134 | Q13: 167 | R13: 64 | S13: 115 | T13: 154 | U13: 141 | V13: 143 | W13: 156 | X13: 164 | Y13: 196 | Z13: 161 | AA13: =IFERROR(SUM(I13:Z13)/SUM(I14:Z14),0) -> 0.98238661
H14: ='PANEL DE CONTROL DISTRITAL'!H13 -> Número de trámites aplicados | I14: 12 | J14: 56 | K14: 85 | L14: 150 | M14: 148 | N14: 93 | O14: 106 | P14: 134 | Q14: 168 | R14: 65 | S14: 117 | T14: 155 | U14: 142 | V14: 147 | W14: 159 | X14: 167 | Y14: 201 | Z14: 166
A16: ='PANEL DE CONTROL DISTRITAL'!A15 -> 3 | B16: ='PANEL DE CONTROL DISTRITAL'!B15 -> TRANSFERENCIA | C16: ='PANEL DE CONTROL DISTRITAL'!C15 -> Responsable de Módulo | D16: ='PANEL DE CONTROL DISTRITAL'!D15 -> Transacciones exitosas = | E16: ='PANEL DE CONTROL DISTRITAL'!E15 -> (Número de Archivos de Transacción aceptados /Total de Archivos de Transacción procesados) x100 | F16: ='PANEL DE CONTROL DISTRITAL'!F15 -> Semanal (remesa) | G16: ='PANEL DE CONTROL DISTRITAL'!G15 -> 0.9 | H16: ='PANEL DE CONTROL DISTRITAL'!H15 -> Número de Archivos de Transacción aceptados | I16: 12 | J16: 55 | K16: 84 | L16: 149 | M16: 148 | N16: 92 | O16: 106 | P16: 137 | Q16: 167 | R16: 64 | S16: 115 | T16: 154 | U16: 141 | V16: 143 | W16: 156 | X16: 164 | Y16: 196 | Z16: 161 | AA16: =IFERROR(SUM(I16:Z16)/SUM(I17:Z17),0) -> 0.98854626
H17: ='PANEL DE CONTROL DISTRITAL'!H16 -> Total de Archivos de Transacción procesados | I17: 12 | J17: 55 | K17: 84 | L17: 149 | M17: 148 | N17: 93 | O17: 106 | P17: 137 | Q17: 167 | R17: 65 | S17: 117 | T17: 155 | U17: 142 | V17: 147 | W17: 159 | X17: 167 | Y17: 201 | Z17: 166
A19: ='PANEL DE CONTROL DISTRITAL'!A18 -> 4 | B19: ='PANEL DE CONTROL DISTRITAL'!B18 -> CONCILIACIÓN | C19: ='PANEL DE CONTROL DISTRITAL'!C18 -> Responsable de Módulo | D19: ='PANEL DE CONTROL DISTRITAL'!D18 -> Credenciales disponibles para entrega = | E19: ='PANEL DE CONTROL DISTRITAL'!E18 -> ((Credenciales recibidas - Credenciales inconsistentes) / Credenciales recibidas) x 100 | F19: ='PANEL DE CONTROL DISTRITAL'!F18 -> Semanal (remesa) | G19: ='PANEL DE CONTROL DISTRITAL'!G18 -> 0.9 | H19: ='PANEL DE CONTROL DISTRITAL'!H18 -> Credenciales Recibidas - Credenciales inconsistentes | I19: 0 | J19: 166 | K19: 0 | L19: 104 | M19: 245 | N19: 66 | O19: 0 | P19: 150 | Q19: 229 | R19: 91 | S19: 129 | T19: 93 | U19: 102 | V19: 169 | W19: 180 | X19: 159 | Y19: 0 | Z19: 234 | AA19: =IFERROR(SUM(I19:Z19)/SUM(I20:Z20),0) -> 1
H20: ='PANEL DE CONTROL DISTRITAL'!H19 -> Credenciales recibidas | I20: 0 | J20: 166 | K20: 0 | L20: 104 | M20: 245 | N20: 66 | O20: 0 | P20: 150 | Q20: 229 | R20: 91 | S20: 129 | T20: 93 | U20: 102 | V20: 169 | W20: 180 | X20: 159 | Y20: 0 | Z20: 234
A22: ='PANEL DE CONTROL DISTRITAL'!A21 -> 5 | B22: ='PANEL DE CONTROL DISTRITAL'!B21 -> CONCILIACIÓN | C22: ='PANEL DE CONTROL DISTRITAL'!C21 -> Responsable de Módulo | D22: ='PANEL DE CONTROL DISTRITAL'!D21 -> Credenciales disponibles para entrega = | E22: ='PANEL DE CONTROL DISTRITAL'!E21 -> (Credenciales en resguardo / Credenciales totales en SIIRFE disponibles para entrega) x 100 | F22: ='PANEL DE CONTROL DISTRITAL'!F21 -> Semanal (remesa) | G22: ='PANEL DE CONTROL DISTRITAL'!G21 -> 1 | H22: ='PANEL DE CONTROL DISTRITAL'!H21 -> Credenciales en resguardo | I22: 225 | J22: 391 | K22: 386 | L22: 476 | M22: 1343 | N22: 930 | O22: 784 | P22: 655 | Q22: 711 | R22: 723 | S22: 707 | T22: 630 | U22: 589 | V22: 696 | W22: 735 | X22: 773 | Y22: 624 | Z22: 620 | AA22: =IFERROR(SUM(I22:Z22)/SUM(I23:Z23),0) -> 1
H23: ='PANEL DE CONTROL DISTRITAL'!H22 -> Credenciales totales en SIIRFE disponibles para entrega | I23: 225 | J23: 391 | K23: 386 | L23: 476 | M23: 1343 | N23: 930 | O23: 784 | P23: 655 | Q23: 711 | R23: 723 | S23: 707 | T23: 630 | U23: 589 | V23: 696 | W23: 735 | X23: 773 | Y23: 624 | Z23: 620
A25: ='PANEL DE CONTROL DISTRITAL'!A24 -> 6 | B25: ='PANEL DE CONTROL DISTRITAL'!B24 -> ENTREGA | C25: ='PANEL DE CONTROL DISTRITAL'!C24 -> Operador de Equipo Tecnológico | D25: ='PANEL DE CONTROL DISTRITAL'!D24 -> Efectividad de entrega de CPV en MAC = | E25: ='PANEL DE CONTROL DISTRITAL'!E24 -> (Total de credenciales entregadas / Total de credenciales solicitadas) x 100 | F25: ='PANEL DE CONTROL DISTRITAL'!F24 -> Semanal (remesa) | G25: ='PANEL DE CONTROL DISTRITAL'!G24 -> 0.9 | H25: ='PANEL DE CONTROL DISTRITAL'!H24 -> Total de credenciales entregadas | I25: 0 | J25: 0 | K25: 2 | L25: 14 | M25: 61 | N25: 118 | O25: 146 | P25: 279 | Q25: 173 | R25: 79 | S25: 145 | T25: 168 | U25: 143 | V25: 62 | W25: 139 | X25: 121 | Y25: 149 | Z25: 238 | AA25: =IFERROR(SUM(I25:Z25)/SUM(I26:Z26),0) -> 1
H26: ='PANEL DE CONTROL DISTRITAL'!H25 -> Total de credenciales solicitadas | I26: 0 | J26: 0 | K26: 2 | L26: 14 | M26: 61 | N26: 118 | O26: 146 | P26: 279 | Q26: 173 | R26: 79 | S26: 145 | T26: 168 | U26: 143 | V26: 62 | W26: 139 | X26: 121 | Y26: 149 | Z26: 238
B27: *Registre el valor nominal solicitado en la celda, el resultado proporcional esta automatizado.
I29: Semaforización
J30: Valor que requiere atención y justificación en el apartado de observaciones
J31: Valor suficiente
J32: Valor esperado
B34: CUADRO DE OBSERVACIONES
B35: Descripción | H35: No conformidad

Sheet 160651
A1: ='PANEL DE CONTROL DISTRITAL'!A1:Q1 -> INSTITUTO NACIONAL ELECTORAL SISTEMA DE GESTIÓN DE LA CALIDAD MICHOACÁN
D2: Distrito | E2: 6 | F2: Módulo | H2: 160651 | W2: ='PANEL DE CONTROL DISTRITAL'!AC2 -> Fecha de corte 31/12/2023
A4: TABLERO DE CONTROL DISTRITAL DE PROCESOS SUSTANTIVOS DEL SISTEMA DE GESTIÓN DE LA CALIDAD 2023 -2024
A6: ='PANEL DE CONTROL DISTRITAL'!A6 -> Número | B6: ='PANEL DE CONTROL DISTRITAL'!B6 -> PROCESOS SUSTANTIVOS E INDICADORES | I6: SEMANA OPERATIVA | AA6: % AVANCE REGISTRADO
B7: ='PANEL DE CONTROL DISTRITAL'!B7 -> DESCRIPCIÓN | E7: ='PANEL DE CONTROL DISTRITAL'!E7 -> MEDICIÓN | I7: ='PANEL DE CONTROL DISTRITAL'!A5 -> CAMPAÑA ANUAL INTENSA 2023_2024
B9: ='PANEL DE CONTROL DISTRITAL'!B8 -> Proceso | C9: ='PANEL DE CONTROL DISTRITAL'!C8 -> Dueño de Proceso | D9: ='PANEL DE CONTROL DISTRITAL'!D8 -> Indicador | E9: ='PANEL DE CONTROL DISTRITAL'!E8 -> Cálculo | F9: ='PANEL DE CONTROL DISTRITAL'!F8 -> Periodo | G9: ='PANEL DE CONTROL DISTRITAL'!G8 -> Estimado | H9: ='PANEL DE CONTROL DISTRITAL'!H8 -> Nominativo | I9: ='160151'!I9 -> 2023-37 | J9: ='160151'!J9 -> 2023-38 | K9: ='160151'!K9 -> 2023-39 | L9: ='160151'!L9 -> 2023-40 | M9: ='160151'!M9 -> 2023-41 | N9: ='160151'!N9 -> 2023-42 | O9: ='160151'!O9 -> 2023-43 | P9: ='160151'!P9 -> 2023-44 | ... Z9: ='160151'!Z9 -> 2023-54
A10: ='PANEL DE CONTROL DISTRITAL'!A9 -> 1 | B10: ='PANEL DE CONTROL DISTRITAL'!B9 -> ENTREVISTA | C10: ='PANEL DE CONTROL DISTRITAL'!C9 -> Auxiliar de Atención Ciudadana | D10: ='PANEL DE CONTROL DISTRITAL'!D9 -> Efectividad de la entrevista = | E10: ='PANEL DE CONTROL DISTRITAL'!E9 -> (Número de trámites aplicados / (Número de fichas requisitadas - Notificaciones de improcedencia de trámite)) x 100 | F10: ='PANEL DE CONTROL DISTRITAL'!F9 -> Semanal (remesa) | G10: ='PANEL DE CONTROL DISTRITAL'!G9 -> 0.9 | H10: ='PANEL DE CONTROL DISTRITAL'!H9 -> Número de trámites aplicados | I10: 69 | J10: 307 | K10: 306 | L10: 367 | M10: 399 | N10: 376 | O10: 330 | P10: 407 | Q10: 404 | R10: 267 | S10: 435 | T10: 497 | U10: 479 | V10: 642 | W10: 625 | X10: 636 | Y10: 646 | Z10: 523 | AA10: =IFERROR(SUM(I10:Z10)/SUM(I11:Z11),0) -> 0.99974083
H11: ='PANEL DE CONTROL DISTRITAL'!H10 -> Número de fichas requisitadas - Notificaciones de improcedencia de trámite | I11: =69-0 -> 69 | J11: =311-2 -> 309 | K11: =307-1 -> 306 | L11: =367-0 -> 367 | M11: =401-2 -> 399 | N11: =377-1 -> 376 | O11: =332-2 -> 330 | P11: =407-0 -> 407 | Q11: =404-0 -> 404 | R11: =268-1 -> 267 | S11: =440-5 -> 435 | T11: 497 | U11: 479 | V11: =644-2 -> 642 | W11: 625 | X11: 636 | Y11: =646-0 -> 646 | Z11: =523-0 -> 523
A13: ='PANEL DE CONTROL DISTRITAL'!A12 -> 2 | B13: ='PANEL DE CONTROL DISTRITAL'!B12 -> TRÁMITE | C13: ='PANEL DE CONTROL DISTRITAL'!C12 -> Operador de Equipo Tecnológico | D13: ='PANEL DE CONTROL DISTRITAL'!D12 -> Trámites exitosos efectivos= | E13: ='PANEL DE CONTROL DISTRITAL'!E12 -> (Número de trámites exitosos / Número de trámites aplicados) x 100 | F13: ='PANEL DE CONTROL DISTRITAL'!F12 -> Semanal (remesa) | G13: ='PANEL DE CONTROL DISTRITAL'!G12 -> 0.9 | H13: ='PANEL DE CONTROL DISTRITAL'!H12 -> Número de trámites exitosos | I13: 68 | J13: 307 | K13: 305 | L13: 365 | M13: 399 | N13: 375 | O13: 327 | P13: 403 | Q13: 397 | R13: 267 | S13: 433 | T13: 496 | U13: 478 | V13: 637 | W13: 625 | X13: 531 | Y13: 638 | Z13: 255 | AA13: =IFERROR(SUM(I13:Z13)/SUM(I14:Z14),0) -> 0.95942219
H14: ='PANEL DE CONTROL DISTRITAL'!H13 -> Número de trámites aplicados | I14: 69 | J14: 307 | K14: 306 | L14: 367 | M14: 399 | N14: 376 | O14: 330 | P14: 407 | Q14: 404 | R14: 267 | S14: 435 | T14: 497 | U14: 479 | V14: 642 | W14: 625 | X14: 536 | Y14: 646 | Z14: 523
A16: ='PANEL DE CONTROL DISTRITAL'!A15 -> 3 | B16: ='PANEL DE CONTROL DISTRITAL'!B15 -> TRANSFERENCIA | C16: ='PANEL DE CONTROL DISTRITAL'!C15 -> Responsable de Módulo | D16: ='PANEL DE CONTROL DISTRITAL'!D15 -> Transacciones exitosas = | E16: ='PANEL DE CONTROL DISTRITAL'!E15 -> (Número de Archivos de Transacción aceptados /Total de Archivos de Transacción procesados) x100 | F16: ='PANEL DE CONTROL DISTRITAL'!F15 -> Semanal (remesa) | G16: ='PANEL DE CONTROL DISTRITAL'!G15 -> 0.9 | H16: ='PANEL DE CONTROL DISTRITAL'!H15 -> Número de Archivos de Transacción aceptados | I16: 69 | J16: 307 | K16: 306 | L16: 367 | M16: 399 | N16: 376 | O16: 330 | P16: 407 | Q16: 404 | R16: 267 | S16: 435 | T16: 497 | U16: 479 | V16: 642 | W16: 625 | X16: 536 | Y16: 646 | Z16: 523 | AA16: =IFERROR(SUM(I16:Z16)/SUM(I17:Z17),0) -> 1
H17: ='PANEL DE CONTROL DISTRITAL'!H16 -> Total de Archivos de Transacción procesados | I17: 69 | J17: 307 | K17: 306 | L17: 367 | M17: 399 | N17: 376 | O17: 330 | P17: 407 | Q17: 404 | R17: 267 | S17: 435 | T17: 497 | U17: 479 | V17: 642 | W17: 625 | X17: 536 | Y17: 646 | Z17: 523
A19: ='PANEL DE CONTROL DISTRITAL'!A18 -> 4 | B19: ='PANEL DE CONTROL DISTRITAL'!B18 -> CONCILIACIÓN | C19: ='PANEL DE CONTROL DISTRITAL'!C18 -> Responsable de Módulo | D19: ='PANEL DE CONTROL DISTRITAL'!D18 -> Credenciales disponibles para entrega = | E19: ='PANEL DE CONTROL DISTRITAL'!E18 -> ((Credenciales recibidas - Credenciales inconsistentes) / Credenciales recibidas) x 100 | F19: ='PANEL DE CONTROL DISTRITAL'!F18 -> Semanal (remesa) | G19: ='PANEL DE CONTROL DISTRITAL'!G18 -> 0.9 | H19: ='PANEL DE CONTROL DISTRITAL'!H18 -> Credenciales Recibidas - Credenciales inconsistentes | I19: =0-0 -> 0 | J19: =463-0 -> 463 | K19: =313-0 -> 313 | L19: =414-0 -> 414 | M19: =349-0 -> 349 | N19: =467-0 -> 467 | O19: =421-0 -> 421 | P19: =297-0 -> 297 | Q19: =330-0 -> 330 | R19: 391 | S19: 373 | T19: 426 | U19: 99 | V19: 986 | W19: 218 | X19: 944 | Y19: 414 | Z19: 287 | AA19: =IFERROR(SUM(I19:Z19)/SUM(I20:Z20),0) -> 1
H20: ='PANEL DE CONTROL DISTRITAL'!H19 -> Credenciales recibidas | I20: 0 | J20: 463 | K20: 313 | L20: 414 | M20: 349 | N20: 467 | O20: 421 | P20: 297 | Q20: 330 | R20: 391 | S20: 373 | T20: 426 | U20: 99 | V20: 986 | W20: 218 | X20: 944 | Y20: 414 | Z20: 287
A22: ='PANEL DE CONTROL DISTRITAL'!A21 -> 5 | B22: ='PANEL DE CONTROL DISTRITAL'!B21 -> CONCILIACIÓN | C22: ='PANEL DE CONTROL DISTRITAL'!C21 -> Responsable de Módulo | D22: ='PANEL DE CONTROL DISTRITAL'!D21 -> Credenciales disponibles para entrega = | E22: ='PANEL DE CONTROL DISTRITAL'!E21 -> (Credenciales en resguardo / Credenciales totales en SIIRFE disponibles para entrega) x 100 | F22: ='PANEL DE CONTROL DISTRITAL'!F21 -> Semanal (remesa) | G22: ='PANEL DE CONTROL DISTRITAL'!G21 -> 1 | H22: ='PANEL DE CONTROL DISTRITAL'!H21 -> Credenciales en resguardo | I22: 490 | J22: 582 | K22: 552 | L22: 646 | M22: 667 | N22: 737 | O22: 653 | P22: 728 | Q22: 661 | R22: 732 | S22: 725 | T22: 760 | U22: 508 | V22: 1039 | W22: 657 | X22: 1010 | Y22: 838 | Z22: 665 | AA22: =IFERROR(SUM(I22:Z22)/SUM(I23:Z23),0) -> 1
H23: ='PANEL DE CONTROL DISTRITAL'!H22 -> Credenciales totales en SIIRFE disponibles para entrega | I23: 490 | J23: 582 | K23: 552 | L23: 646 | M23: 667 | N23: 737 | O23: 653 | P23: 728 | Q23: 661 | R23: 732 | S23: 725 | T23: 760 | U23: 508 | V23: 1039 | W23: 657 | X23: 1010 | Y23: 838 | Z23: 665
A25: ='PANEL DE CONTROL DISTRITAL'!A24 -> 6 | B25: ='PANEL DE CONTROL DISTRITAL'!B24 -> ENTREGA | C25: ='PANEL DE CONTROL DISTRITAL'!C24 -> Operador de Equipo Tecnológico | D25: ='PANEL DE CONTROL DISTRITAL'!D24 -> Efectividad de entrega de CPV en MAC = | E25: ='PANEL DE CONTROL DISTRITAL'!E24 -> (Total de credenciales entregadas / Total de credenciales solicitadas) x 100 | F25: ='PANEL DE CONTROL DISTRITAL'!F24 -> Semanal (remesa) | G25: ='PANEL DE CONTROL DISTRITAL'!G24 -> 0.9 | H25: ='PANEL DE CONTROL DISTRITAL'!H24 -> Total de credenciales entregadas | I25: 84 | J25: 371 | K25: 331 | L25: 320 | M25: 328 | N25: 395 | O25: 381 | P25: 346 | Q25: 397 | R25: 320 | S25: 377 | T25: 391 | U25: 351 | V25: 455 | W25: 596 | X25: 591 | Y25: 586 | Z25: 460 | AA25: =IFERROR(SUM(I25:Z25)/SUM(I26:Z26),0) -> 0.99760462
H26: ='PANEL DE CONTROL DISTRITAL'!H25 -> Total de credenciales solicitadas | I26: =79+5+0 -> 84 | J26: =338+33+11 -> 382 | K26: =305+26+0 -> 331 | L26: =291+29+0 -> 320 | M26: =299+29+0 -> 328 | N26: =365+30+0 -> 395 | O26: =381+0+4 -> 385 | P26: =320+26+2 -> 348 | Q26: =362+35+0 -> 397 | R26: =292+28+0 -> 320 | S26: =344+33+0 -> 377 | T26: =354+37+0 -> 391 | U26: =333+18+0 -> 351 | V26: =413+42+0 -> 455 | W26: =553+43+0 -> 596 | X26: =548+43+0 -> 591 | Y26: =550+36 -> 586 | Z26: =432+28 -> 460
B27: *Registre el valor nominal solicitado en la celda, el resultado proporcional esta automatizado.
I29: Semaforización
J30: Valor que requiere atención y justificación en el apartado de observaciones
J31: Valor suficiente
J32: Valor esperado
B34: CUADRO DE OBSERVACIONES
B35: Descripción | H35: No conformidad

Sheet 160654
A1: ='PANEL DE CONTROL DISTRITAL'!A1:Q1 -> INSTITUTO NACIONAL ELECTORAL SISTEMA DE GESTIÓN DE LA CALIDAD MICHOACÁN
D2: Distrito | E2: 6 | F2: Módulo | H2: 160654 | W2: ='PANEL DE CONTROL DISTRITAL'!AC2 -> Fecha de corte 31/12/2023
A4: TABLERO DE CONTROL DISTRITAL DE PROCESOS SUSTANTIVOS DEL SISTEMA DE GESTIÓN DE LA CALIDAD 2023 -2024
A6: ='PANEL DE CONTROL DISTRITAL'!A6 -> Número | B6: ='PANEL DE CONTROL DISTRITAL'!B6 -> PROCESOS SUSTANTIVOS E INDICADORES | I6: SEMANA OPERATIVA | AA6: % AVANCE REGISTRADO
B7: ='PANEL DE CONTROL DISTRITAL'!B7 -> DESCRIPCIÓN | E7: ='PANEL DE CONTROL DISTRITAL'!E7 -> MEDICIÓN | I7: ='PANEL DE CONTROL DISTRITAL'!A5 -> CAMPAÑA ANUAL INTENSA 2023_2024
B9: ='PANEL DE CONTROL DISTRITAL'!B8 -> Proceso | C9: ='PANEL DE CONTROL DISTRITAL'!C8 -> Dueño de Proceso | D9: ='PANEL DE CONTROL DISTRITAL'!D8 -> Indicador | E9: ='PANEL DE CONTROL DISTRITAL'!E8 -> Cálculo | F9: ='PANEL DE CONTROL DISTRITAL'!F8 -> Periodo | G9: ='PANEL DE CONTROL DISTRITAL'!G8 -> Estimado | H9: ='PANEL DE CONTROL DISTRITAL'!H8 -> Nominativo | I9: ='160151'!I9 -> 2023-37 | J9: ='160151'!J9 -> 2023-38 | K9: ='160151'!K9 -> 2023-39 | L9: ='160151'!L9 -> 2023-40 | M9: ='160151'!M9 -> 2023-41 | N9: ='160151'!N9 -> 2023-42 | O9: ='160151'!O9 -> 2023-43 | P9: ='160151'!P9 -> 2023-44 | ... Z9: ='160151'!Z9 -> 2023-54
A10: ='PANEL DE CONTROL DISTRITAL'!A9 -> 1 | B10: ='PANEL DE CONTROL DISTRITAL'!B9 -> ENTREVISTA | C10: ='PANEL DE CONTROL DISTRITAL'!C9 -> Auxiliar de Atención Ciudadana | D10: ='PANEL DE CONTROL DISTRITAL'!D9 -> Efectividad de la entrevista = | E10: ='PANEL DE CONTROL DISTRITAL'!E9 -> (Número de trámites aplicados / (Número de fichas requisitadas - Notificaciones de improcedencia de trámite)) x 100 | F10: ='PANEL DE CONTROL DISTRITAL'!F9 -> Semanal (remesa) | G10: ='PANEL DE CONTROL DISTRITAL'!G9 -> 0.9 | H10: ='PANEL DE CONTROL DISTRITAL'!H9 -> Número de trámites aplicados | I10: 8 | J10: 99 | K10: 137 | L10: 123 | M10: 81 | N10: 123 | O10: 112 | P10: 137 | Q10: 119 | R10: 68 | S10: 92 | T10: 136 | U10: 112 | V10: 162 | W10: 212 | X10: 198 | Y10: 187 | Z10: 126 | AA10: =IFERROR(SUM(I10:Z10)/SUM(I11:Z11),0) -> 1
H11: ='PANEL DE CONTROL DISTRITAL'!H10 -> Número de fichas requisitadas - Notificaciones de improcedencia de trámite | I11: =8-0 -> 8 | J11: =101-2 -> 99 | K11: =143-6 -> 137 | L11: =130-7 -> 123 | M11: =85-4 -> 81 | N11: =134-11 -> 123 | O11: =116-4 -> 112 | P11: =139-2 -> 137 | Q11: =120-1 -> 119 | R11: =69-1 -> 68 | S11: =95-3 -> 92 | T11: =137-1 -> 136 | U11: =114-2 -> 112 | V11: =167-5 -> 162 | W11: =215-3 -> 212 | X11: =199-1 -> 198 | Y11: =189-2 -> 187 | Z11: =127-1 -> 126
A13: ='PANEL DE CONTROL DISTRITAL'!A12 -> 2 | B13: ='PANEL DE CONTROL DISTRITAL'!B12 -> TRÁMITE | C13: ='PANEL DE CONTROL DISTRITAL'!C12 -> Operador de Equipo Tecnológico | D13: ='PANEL DE CONTROL DISTRITAL'!D12 -> Trámites exitosos efectivos= | E13: ='PANEL DE CONTROL DISTRITAL'!E12 -> (Número de trámites exitosos / Número de trámites aplicados) x 100 | F13: ='PANEL DE CONTROL DISTRITAL'!F12 -> Semanal (remesa) | G13: ='PANEL DE CONTROL DISTRITAL'!G12 -> 0.9 | H13: ='PANEL DE CONTROL DISTRITAL'!H12 -> Número de trámites exitosos | I13: 8 | J13: 98 | K13: 136 | L13: 123 | M13: 80 | N13: 123 | O13: 111 | P13: 136 | Q13: 119 | R13: 68 | S13: 88 | T13: 135 | U13: 112 | V13: 162 | W13: 211 | X13: 192 | Y13: 183 | Z13: 72 | AA13: =IFERROR(SUM(I13:Z13)/SUM(I14:Z14),0) -> 0.96683102
H14: ='PANEL DE CONTROL DISTRITAL'!H13 -> Número de trámites aplicados | I14: 8 | J14: 99 | K14: 137 | L14: 123 | M14: 81 | N14: 123 | O14: 112 | P14: 136 | Q14: 119 | R14: 68 | S14: 92 | T14: 136 | U14: 112 | V14: 162 | W14: 212 | X14: 198 | Y14: 187 | Z14: 126
A16: ='PANEL DE CONTROL DISTRITAL'!A15 -> 3 | B16: ='PANEL DE CONTROL DISTRITAL'!B15 -> TRANSFERENCIA | C16: ='PANEL DE CONTROL DISTRITAL'!C15 -> Responsable de Módulo | D16: ='PANEL DE CONTROL DISTRITAL'!D15 -> Transacciones exitosas = | E16: ='PANEL DE CONTROL DISTRITAL'!E15 -> (Número de Archivos de Transacción aceptados /Total de Archivos de Transacción procesados) x100 | F16: ='PANEL DE CONTROL DISTRITAL'!F15 -> Semanal (remesa) | G16: ='PANEL DE CONTROL DISTRITAL'!G15 -> 0.9 | H16: ='PANEL DE CONTROL DISTRITAL'!H15 -> Número de Archivos de Transacción aceptados | I16: 8 | J16: 99 | K16: 137 | L16: 123 | M16: 81 | N16: 123 | O16: 112 | P16: 137 | Q16: 119 | R16: 68 | S16: 91 | T16: 136 | U16: 112 | V16: 162 | W16: 212 | X16: 198 | Y16: 187 | Z16: 126 | AA16: =IFERROR(SUM(I16:Z16)/SUM(I17:Z17),0) -> 0.99955197
H17: ='PANEL DE CONTROL DISTRITAL'!H16 -> Total de Archivos de Transacción procesados | I17: 8 | J17: 99 | K17: 137 | L17: 123 | M17: 81 | N17: 123 | O17: 112 | P17: 137 | Q17: 119 | R17: 68 | S17: 92 | T17: 136 | U17: 112 | V17: 162 | W17: 212 | X17: 198 | Y17: 187 | Z17: 126
A19: ='PANEL DE CONTROL DISTRITAL'!A18 -> 4 | B19: ='PANEL DE CONTROL DISTRITAL'!B18 -> CONCILIACIÓN | C19: ='PANEL DE CONTROL DISTRITAL'!C18 -> Responsable de Módulo | D19: ='PANEL DE CONTROL DISTRITAL'!D18 -> Credenciales disponibles para entrega = | E19: ='PANEL DE CONTROL DISTRITAL'!E18 -> ((Credenciales recibidas - Credenciales inconsistentes) / Credenciales recibidas) x 100 | F19: ='PANEL DE CONTROL DISTRITAL'!F18 -> Semanal (remesa) | G19: ='PANEL DE CONTROL DISTRITAL'!G18 -> 0.9 | H19: ='PANEL DE CONTROL DISTRITAL'!H18 -> Credenciales Recibidas - Credenciales inconsistentes | I19: 0 | J19: =133-0 -> 133 | K19: =100-0 -> 100 | L19: =168-0 -> 168 | M19: =90-0 -> 90 | N19: =134-0 -> 134 | O19: =94-0 -> 94 | P19: =147-0 -> 147 | Q19: =116-0 -> 116 | R19: 108 | S19: 73 | T19: 114 | U19: 25 | V19: 177 | W19: 123 | X19: 323 | Y19: 116 | Z19: 109 | AA19: =IFERROR(SUM(I19:Z19)/SUM(I20:Z20),0) -> 1
H20: ='PANEL DE CONTROL DISTRITAL'!H19 -> Credenciales recibidas | I20: 0 | J20: 133 | K20: 100 | L20: 168 | M20: 90 | N20: 134 | O20: 94 | P20: 147 | Q20: 116 | R20: 108 | S20: 73 | T20: 114 | U20: 25 | V20: 177 | W20: 123 | X20: 323 | Y20: 116 | Z20: 109
A22: ='PANEL DE CONTROL DISTRITAL'!A21 -> 5 | B22: ='PANEL DE CONTROL DISTRITAL'!B21 -> CONCILIACIÓN | C22: ='PANEL DE CONTROL DISTRITAL'!C21 -> Responsable de Módulo | D22: ='PANEL DE CONTROL DISTRITAL'!D21 -> Credenciales disponibles para entrega = | E22: ='PANEL DE CONTROL DISTRITAL'!E21 -> (Credenciales en resguardo / Credenciales totales en SIIRFE disponibles para entrega) x 100 | F22: ='PANEL DE CONTROL DISTRITAL'!F21 -> Semanal (remesa) | G22: ='PANEL DE CONTROL DISTRITAL'!G21 -> 1 | H22: ='PANEL DE CONTROL DISTRITAL'!H21 -> Credenciales en resguardo | I22: 389 | J22: 469 | K22: 512 | L22: 609 | M22: 536 | N22: 519 | O22: 490 | P22: 510 | Q22: 489 | R22: 542 | S22: 484 | T22: 432 | U22: 354 | V22: 448 | W22: 493 | X22: 660 | Y22: 595 | Z22: 520 | AA22: =IFERROR(SUM(I22:Z22)/SUM(I23:Z23),0) -> 1
H23: ='PANEL DE CONTROL DISTRITAL'!H22 -> Credenciales totales en SIIRFE disponibles para entrega | I23: 389 | J23: 469 | K23: 512 | L23: 609 | M23: 536 | N23: 519 | O23: 490 | P23: 510 | Q23: 489 | R23: 542 | S23: 484 | T23: 432 | U23: 354 | V23: 448 | W23: 493 | X23: 660 | Y23: 595 | Z23: 520
A25: ='PANEL DE CONTROL DISTRITAL'!A24 -> 6 | B25: ='PANEL DE CONTROL DISTRITAL'!B24 -> ENTREGA | C25: ='PANEL DE CONTROL DISTRITAL'!C24 -> Operador de Equipo Tecnológico | D25: ='PANEL DE CONTROL DISTRITAL'!D24 -> Efectividad de entrega de CPV en MAC = | E25: ='PANEL DE CONTROL DISTRITAL'!E24 -> (Total de credenciales entregadas / Total de credenciales solicitadas) x 100 | F25: ='PANEL DE CONTROL DISTRITAL'!F24 -> Semanal (remesa) | G25: ='PANEL DE CONTROL DISTRITAL'!G24 -> 0.9 | H25: ='PANEL DE CONTROL DISTRITAL'!H24 -> Total de credenciales entregadas | I25: 32 | J25: 53 | K25: 50 | L25: 71 | M25: 124 | N25: 150 | O25: 123 | P25: 127 | Q25: 137 | R25: 55 | S25: 130 | T25: 166 | U25: 103 | V25: 83 | W25: 77 | X25: 156 | Y25: 181 | Z25: 184 | AA25: =IFERROR(SUM(I25:Z25)/SUM(I26:Z26),0) -> 1
H26: ='PANEL DE CONTROL DISTRITAL'!H25 -> Total de credenciales solicitadas | I26: =31+1+0 -> 32 | J26: =49+4+0 -> 53 | K26: =45+5+0 -> 50 | L26: =66+5+0 -> 71 | M26: =112+12+0 -> 124 | N26: =134+16+0 -> 150 | O26: =111+12+0 -> 123 | P26: =114+13+0 -> 127 | Q26: =121+16+0 -> 137 | R26: =47+8+0 -> 55 | S26: =119+11+0 -> 130 | T26: =155+11+0 -> 166 | U26: =98+5+0 -> 103 | V26: =79+4+0 -> 83 | W26: =71+6+0 -> 77 | X26: =144+12+0 -> 156 | Y26: =166+15+0 -> 181 | Z26: =166+18+0 -> 184
B27: *Registre el valor nominal solicitado en la celda, el resultado proporcional esta automatizado.
I29: Semaforización
J30: Valor que requiere atención y justificación en el apartado de observaciones
J31: Valor suficiente
J32: Valor esperado
B34: CUADRO DE OBSERVACIONES
B35: Descripción | H35: No conformidad

Sheet 160655
A1: ='PANEL DE CONTROL DISTRITAL'!A1:Q1 -> INSTITUTO NACIONAL ELECTORAL SISTEMA DE GESTIÓN DE LA CALIDAD MICHOACÁN
D2: Distrito | E2: 6 | F2: Módulo | H2: 160655 | W2: ='PANEL DE CONTROL DISTRITAL'!AC2 -> Fecha de corte 31/12/2023
A4: TABLERO DE CONTROL DISTRITAL DE PROCESOS SUSTANTIVOS DEL SISTEMA DE GESTIÓN DE LA CALIDAD 2023 -2024
A6: ='PANEL DE CONTROL DISTRITAL'!A6 -> Número | B6: ='PANEL DE CONTROL DISTRITAL'!B6 -> PROCESOS SUSTANTIVOS E INDICADORES | I6: SEMANA OPERATIVA | AA6: % AVANCE REGISTRADO
B7: ='PANEL DE CONTROL DISTRITAL'!B7 -> DESCRIPCIÓN | E7: ='PANEL DE CONTROL DISTRITAL'!E7 -> MEDICIÓN | I7: ='PANEL DE CONTROL DISTRITAL'!A5 -> CAMPAÑA ANUAL INTENSA 2023_2024
B9: ='PANEL DE CONTROL DISTRITAL'!B8 -> Proceso | C9: ='PANEL DE CONTROL DISTRITAL'!C8 -> Dueño de Proceso | D9: ='PANEL DE CONTROL DISTRITAL'!D8 -> Indicador | E9: ='PANEL DE CONTROL DISTRITAL'!E8 -> Cálculo | F9: ='PANEL DE CONTROL DISTRITAL'!F8 -> Periodo | G9: ='PANEL DE CONTROL DISTRITAL'!G8 -> Estimado | H9: ='PANEL DE CONTROL DISTRITAL'!H8 -> Nominativo | I9: ='160151'!I9 -> 2023-37 | J9: ='160151'!J9 -> 2023-38 | K9: ='160151'!K9 -> 2023-39 | L9: ='160151'!L9 -> 2023-40 | M9: ='160151'!M9 -> 2023-41 | N9: ='160151'!N9 -> 2023-42 | O9: ='160151'!O9 -> 2023-43 | P9: ='160151'!P9 -> 2023-44 | ... Z9: ='160151'!Z9 -> 2023-54
A10: ='PANEL DE CONTROL DISTRITAL'!A9 -> 1 | B10: ='PANEL DE CONTROL DISTRITAL'!B9 -> ENTREVISTA | C10: ='PANEL DE CONTROL DISTRITAL'!C9 -> Auxiliar de Atención Ciudadana | D10: ='PANEL DE CONTROL DISTRITAL'!D9 -> Efectividad de la entrevista = | E10: ='PANEL DE CONTROL DISTRITAL'!E9 -> (Número de trámites aplicados / (Número de fichas requisitadas - Notificaciones de improcedencia de trámite)) x 100 | F10: ='PANEL DE CONTROL DISTRITAL'!F9 -> Semanal (remesa) | G10: ='PANEL DE CONTROL DISTRITAL'!G9 -> 0.9 | H10: ='PANEL DE CONTROL DISTRITAL'!H9 -> Número de trámites aplicados | I10: 12 | J10: 51 | K10: 93 | L10: 114 | M10: 105 | N10: 56 | O10: 88 | P10: 112 | Q10: 107 | R10: 53 | S10: 112 | T10: 122 | U10: 103 | V10: 114 | W10: 104 | X10: 108 | Y10: 130 | Z10: 103 | AA10: =IFERROR(SUM(I10:Z10)/SUM(I11:Z11),0) -> 1
H11: ='PANEL DE CONTROL DISTRITAL'!H10 -> Número de fichas requisitadas - Notificaciones de improcedencia de trámite | I11: =12-0 -> 12 | J11: =51-0 -> 51 | K11: =93-0 -> 93 | L11: =114-0 -> 114 | M11: =105-0 -> 105 | N11: =56-0 -> 56 | O11: =88-0 -> 88 | P11: =112-0 -> 112 | Q11: =107-0 -> 107 | R11: =53-0 -> 53 | S11: =112-0 -> 112 | T11: =122-0 -> 122 | U11: =103-0 -> 103 | V11: =114-0 -> 114 | W11: =104-0 -> 104 | X11: =108-0 -> 108 | Y11: =130-0 -> 130 | Z11: =103-0 -> 103
A13: ='PANEL DE CONTROL DISTRITAL'!A12 -> 2 | B13: ='PANEL DE CONTROL DISTRITAL'!B12 -> TRÁMITE | C13: ='PANEL DE CONTROL DISTRITAL'!C12 -> Operador de Equipo Tecnológico | D13: ='PANEL DE CONTROL DISTRITAL'!D12 -> Trámites exitosos efectivos= | E13: ='PANEL DE CONTROL DISTRITAL'!E12 -> (Número de trámites exitosos / Número de trámites aplicados) x 100 | F13: ='PANEL DE CONTROL DISTRITAL'!F12 -> Semanal (remesa) | G13: ='PANEL DE CONTROL DISTRITAL'!G12 -> 0.9 | H13: ='PANEL DE CONTROL DISTRITAL'!H12 -> Número de trámites exitosos | I13: 12 | J13: 50 | K13: 93 | L13: 112 | M13: 105 | N13: 56 | O13: 88 | P13: 112 | Q13: 107 | R13: 53 | S13: 111 | T13: 122 | U13: 102 | V13: 114 | W13: 104 | X13: 108 | Y13: 128 | Z13: 63 | AA13: =IFERROR(SUM(I13:Z13)/SUM(I14:Z14),0) -> 0.97213989
H14: ='PANEL DE CONTROL DISTRITAL'!H13 -> Número de trámites aplicados | I14: 12 | J14: 51 | K14: 93 | L14: 114 | M14: 105 | N14: 56 | O14: 88 | P14: 112 | Q14: 107 | R14: 53 | S14: 112 | T14: 122 | U14: 103 | V14: 114 | W14: 104 | X14: 108 | Y14: 130 | Z14: 103
A16: ='PANEL DE CONTROL DISTRITAL'!A15 -> 3 | B16: ='PANEL DE CONTROL DISTRITAL'!B15 -> TRANSFERENCIA | C16: ='PANEL DE CONTROL DISTRITAL'!C15 -> Responsable de Módulo | D16: ='PANEL DE CONTROL DISTRITAL'!D15 -> Transacciones exitosas = | E16: ='PANEL DE CONTROL DISTRITAL'!E15 -> (Número de Archivos de Transacción aceptados /Total de Archivos de Transacción procesados) x100 | F16: ='PANEL DE CONTROL DISTRITAL'!F15 -> Semanal (remesa) | G16: ='PANEL DE CONTROL DISTRITAL'!G15 -> 0.9 | H16: ='PANEL DE CONTROL DISTRITAL'!H15 -> Número de Archivos de Transacción aceptados | I16: 12 | J16: 51 | K16: 93 | L16: 114 | M16: 105 | N16: 56 | O16: 88 | P16: 112 | Q16: 107 | R16: 53 | S16: 112 | T16: 122 | U16: 103 | V16: 114 | W16: 104 | X16: 102 | Y16: 130 | Z16: 103 | AA16: =IFERROR(SUM(I16:Z16)/SUM(I17:Z17),0) -> 0.99644339
H17: ='PANEL DE CONTROL DISTRITAL'!H16 -> Total de Archivos de Transacción procesados | I17: 12 | J17: 51 | K17: 93 | L17: 114 | M17: 105 | N17: 56 | O17: 88 | P17: 112 | Q17: 107 | R17: 53 | S17: 112 | T17: 122 | U17: 103 | V17: 114 | W17: 104 | X17: 108 | Y17: 130 | Z17: 103
A19: ='PANEL DE CONTROL DISTRITAL'!A18 -> 4 | B19: ='PANEL DE CONTROL DISTRITAL'!B18 -> CONCILIACIÓN | C19: ='PANEL DE CONTROL DISTRITAL'!C18 -> Responsable de Módulo | D19: ='PANEL DE CONTROL DISTRITAL'!D18 -> Credenciales disponibles para entrega = | E19: ='PANEL DE CONTROL DISTRITAL'!E18 -> ((Credenciales recibidas - Credenciales inconsistentes) / Credenciales recibidas) x 100 | F19: ='PANEL DE CONTROL DISTRITAL'!F18 -> Semanal (remesa) | G19: ='PANEL DE CONTROL DISTRITAL'!G18 -> 0.9 | H19: ='PANEL DE CONTROL DISTRITAL'!H18 -> Credenciales Recibidas - Credenciales inconsistentes | I19: 0 | J19: =157-0 -> 157 | K19: =42-0 -> 42 | L19: =113-0 -> 113 | M19: =68-0 -> 68 | N19: =103-0 -> 103 | O19: =64-0 -> 64 | P19: =134-0 -> 134 | Q19: =75-0 -> 75 | R19: 90 | S19: 43 | T19: 174 | U19: 25 | V19: 141 | W19: 136 | X19: 140 | Y19: 81 | Z19: 52 | AA19: =IFERROR(SUM(I19:Z19)/SUM(I20:Z20),0) -> 1
H20: ='PANEL DE CONTROL DISTRITAL'!H19 -> Credenciales recibidas | I20: 0 | J20: 157 | K20: 42 | L20: 113 | M20: 68 | N20: 103 | O20: 64 | P20: 134 | Q20: 75 | R20: 90 | S20: 43 | T20: 174 | U20: 25 | V20: 141 | W20: 136 | X20: 140 | Y20: 81 | Z20: 52
A22: ='PANEL DE CONTROL DISTRITAL'!A21 -> 5 | B22: ='PANEL DE CONTROL DISTRITAL'!B21 -> CONCILIACIÓN | C22: ='PANEL DE CONTROL DISTRITAL'!C21 -> Responsable de Módulo | D22: ='PANEL DE CONTROL DISTRITAL'!D21 -> Credenciales disponibles para entrega = | E22: ='PANEL DE CONTROL DISTRITAL'!E21 -> (Credenciales en resguardo / Credenciales totales en SIIRFE disponibles para entrega) x 100 | F22: ='PANEL DE CONTROL DISTRITAL'!F21 -> Semanal (remesa) | G22: ='PANEL DE CONTROL DISTRITAL'!G21 -> 1 | H22: ='PANEL DE CONTROL DISTRITAL'!H21 -> Credenciales en resguardo | I22: 312 | J22: 432 | K22: 328 | L22: 352 | M22: 396 | N22: 469 | O22: 413 | P22: 410 | Q22: 369 | R22: 404 | S22: 360 | T22: 409 | U22: 348 | V22: 415 | W22: 446 | X22: 506 | Y22: 458 | Z22: 406 | AA22: =IFERROR(SUM(I22:Z22)/SUM(I23:Z23),0) -> 1
H23: ='PANEL DE CONTROL DISTRITAL'!H22 -> Credenciales totales en SIIRFE disponibles para entrega | I23: 312 | J23: 432 | K23: 328 | L23: 352 | M23: 396 | N23: 469 | O23: 413 | P23: 410 | Q23: 369 | R23: 404 | S23: 360 | T23: 409 | U23: 348 | V23: 415 | W23: 446 | X23: 506 | Y23: 458 | Z23: 406
A25: ='PANEL DE CONTROL DISTRITAL'!A24 -> 6 | B25: ='PANEL DE CONTROL DISTRITAL'!B24 -> ENTREGA | C25: ='PANEL DE CONTROL DISTRITAL'!C24 -> Operador de Equipo Tecnológico | D25: ='PANEL DE CONTROL DISTRITAL'!D24 -> Efectividad de entrega de CPV en MAC = | E25: ='PANEL DE CONTROL DISTRITAL'!E24 -> (Total de credenciales entregadas / Total de credenciales solicitadas) x 100 | F25: ='PANEL DE CONTROL DISTRITAL'!F24 -> Semanal (remesa) | G25: ='PANEL DE CONTROL DISTRITAL'!G24 -> 0.9 | H25: ='PANEL DE CONTROL DISTRITAL'!H24 -> Total de credenciales entregadas | I25: 38 | J25: 37 | K25: 145 | L25: 89 | M25: 63 | N25: 30 | O25: 120 | P25: 137 | Q25: 116 | R25: 55 | S25: 83 | T25: 125 | U25: 86 | V25: 74 | W25: 103 | X25: 80 | Y25: 129 | Z25: 104 | AA25: =IFERROR(SUM(I25:Z25)/SUM(I26:Z26),0) -> 1
H26: ='PANEL DE CONTROL DISTRITAL'!H25 -> Total de credenciales solicitadas | I26: =38+0+0 -> 38 | J26: =36+1+0 -> 37 | K26: =140+5+0 -> 145 | L26: =86+3+0 -> 89 | M26: =59+4+0 -> 63 | N26: =24+6+0 -> 30 | O26: =115+5+0 -> 120 | P26: =137+0+0 -> 137 | Q26: =113+3+0 -> 116 | R26: =53+2+0 -> 55 | S26: =82+1+0 -> 83 | T26: =125+0+0 -> 125 | U26: =85+1+0 -> 86 | V26: =71+3+0 -> 74 | W26: 103 | X26: =80+0 -> 80 | Y26: =127+2+0 -> 129 | Z26: =102+2+0 -> 104
B27: *Registre el valor nominal solicitado en la celda, el resultado proporcional esta automatizado.
I29: Semaforización
J30: Valor que requiere atención y justificación en el apartado de observaciones
J31: Valor suficiente
J32: Valor esperado
B34: CUADRO DE OBSERVACIONES
B35: Descripción | H35: No conformidad

Sheet 160656
A1: ='PANEL DE CONTROL DISTRITAL'!A1:Q1 -> INSTITUTO NACIONAL ELECTORAL SISTEMA DE GESTIÓN DE LA CALIDAD MICHOACÁN
D2: Distrito | E2: 6 | F2: Módulo | H2: 160656 | W2: ='PANEL DE CONTROL DISTRITAL'!AC2 -> Fecha de corte 31/12/2023
A4: TABLERO DE CONTROL DISTRITAL DE PROCESOS SUSTANTIVOS DEL SISTEMA DE GESTIÓN DE LA CALIDAD 2023 -2024
A6: ='PANEL DE CONTROL DISTRITAL'!A6 -> Número | B6: ='PANEL DE CONTROL DISTRITAL'!B6 -> PROCESOS SUSTANTIVOS E INDICADORES | I6: SEMANA OPERATIVA | AA6: % AVANCE REGISTRADO
B7: ='PANEL DE CONTROL DISTRITAL'!B7 -> DESCRIPCIÓN | E7: ='PANEL DE CONTROL DISTRITAL'!E7 -> MEDICIÓN | I7: ='PANEL DE CONTROL DISTRITAL'!A5 -> CAMPAÑA ANUAL INTENSA 2023_2024
B9: ='PANEL DE CONTROL DISTRITAL'!B8 -> Proceso | C9: ='PANEL DE CONTROL DISTRITAL'!C8 -> Dueño de Proceso | D9: ='PANEL DE CONTROL DISTRITAL'!D8 -> Indicador | E9: ='PANEL DE CONTROL DISTRITAL'!E8 -> Cálculo | F9: ='PANEL DE CONTROL DISTRITAL'!F8 -> Periodo | G9: ='PANEL DE CONTROL DISTRITAL'!G8 -> Estimado | H9: ='PANEL DE CONTROL DISTRITAL'!H8 -> Nominativo | I9: ='160151'!I9 -> 2023-37 | J9: ='160151'!J9 -> 2023-38 | K9: ='160151'!K9 -> 2023-39 | L9: ='160151'!L9 -> 2023-40 | M9: ='160151'!M9 -> 2023-41 | N9: ='160151'!N9 -> 2023-42 | O9: ='160151'!O9 -> 2023-43 | P9: ='160151'!P9 -> 2023-44 | ... Z9: ='160151'!Z9 -> 2023-54
A10: ='PANEL DE CONTROL DISTRITAL'!A9 -> 1 | B10: ='PANEL DE CONTROL DISTRITAL'!B9 -> ENTREVISTA | C10: ='PANEL DE CONTROL DISTRITAL'!C9 -> Auxiliar de Atención Ciudadana | D10: ='PANEL DE CONTROL DISTRITAL'!D9 -> Efectividad de la entrevista = | E10: ='PANEL DE CONTROL DISTRITAL'!E9 -> (Número de trámites aplicados / (Número de fichas requisitadas - Notificaciones de improcedencia de trámite)) x 100 | F10: ='PANEL DE CONTROL DISTRITAL'!F9 -> Semanal (remesa) | G10: ='PANEL DE CONTROL DISTRITAL'!G9 -> 0.9 | H10: ='PANEL DE CONTROL DISTRITAL'!H9 -> Número de trámites aplicados | I10: 13 | J10: 148 | K10: 69 | L10: 110 | M10: 135 | N10: 146 | O10: 144 | P10: 75 | Q10: 73 | R10: 131 | S10: 156 | T10: 111 | U10: 44 | V10: 169 | W10: 235 | X10: 169 | Y10: 228 | Z10: 56 | AA10: =IFERROR(SUM(I10:Z10)/SUM(I11:Z11),0) -> 1
H11: ='PANEL DE CONTROL DISTRITAL'!H10 -> Número de fichas requisitadas - Notificaciones de improcedencia de trámite | I11: 13 | J11: 148 | K11: 69 | L11: 110 | M11: 135 | N11: 146 | O11: =148-4 -> 144 | P11: 75 | Q11: 73 | R11: =133-2 -> 131 | S11: 156 | T11: 111 | U11: 44 | V11: =171-2 -> 169 | W11: =236-1 -> 235 | X11: =169-0 -> 169 | Y11: =231-3 -> 228 | Z11: =56-0 -> 56
A13: ='PANEL DE CONTROL DISTRITAL'!A12 -> 2 | B13: ='PANEL DE CONTROL DISTRITAL'!B12 -> TRÁMITE | C13: ='PANEL DE CONTROL DISTRITAL'!C12 -> Operador de Equipo Tecnológico | D13: ='PANEL DE CONTROL DISTRITAL'!D12 -> Trámites exitosos efectivos= | E13: ='PANEL DE CONTROL DISTRITAL'!E12 -> (Número de trámites exitosos / Número de trámites aplicados) x 100 | F13: ='PANEL DE CONTROL DISTRITAL'!F12 -> Semanal (remesa) | G13: ='PANEL DE CONTROL DISTRITAL'!G12 -> 0.9 | H13: ='PANEL DE CONTROL DISTRITAL'!H12 -> Número de trámites exitosos | I13: 13 | J13: 148 | K13: 68 | L13: 109 | M13: 135 | N13: 146 | O13: 143 | P13: 75 | Q13: 73 | R13: 131 | S13: 153 | T13: 111 | U13: 44 | V13: 167 | W13: 232 | X13: 166 | Y13: 225 | Z13: 28 | AA13: =IFERROR(SUM(I13:Z13)/SUM(I14:Z14),0) -> 0.97965642
H14: ='PANEL DE CONTROL DISTRITAL'!H13 -> Número de trámites aplicados | I14: 13 | J14: 148 | K14: 69 | L14: 110 | M14: 135 | N14: 146 | O14: 144 | P14: 75 | Q14: 73 | R14: 131 | S14: 156 | T14: 111 | U14: 44 | V14: 169 | W14: 235 | X14: 169 | Y14: 228 | Z14: 56
A16: ='PANEL DE CONTROL DISTRITAL'!A15 -> 3 | B16: ='PANEL DE CONTROL DISTRITAL'!B15 -> TRANSFERENCIA | C16: ='PANEL DE CONTROL DISTRITAL'!C15 -> Responsable de Módulo | D16: ='PANEL DE CONTROL DISTRITAL'!D15 -> Transacciones exitosas = | E16: ='PANEL DE CONTROL DISTRITAL'!E15 -> (Número de Archivos de Transacción aceptados /Total de Archivos de Transacción procesados) x100 | F16: ='PANEL DE CONTROL DISTRITAL'!F15 -> Semanal (remesa) | G16: ='PANEL DE CONTROL DISTRITAL'!G15 -> 0.9 | H16: ='PANEL DE CONTROL DISTRITAL'!H15 -> Número de Archivos de Transacción aceptados | I16: 13 | J16: 148 | K16: 69 | L16: 110 | M16: 135 | N16: 146 | O16: 144 | P16: 75 | Q16: 73 | R16: 131 | S16: 156 | T16: 111 | U16: 44 | V16: 169 | W16: 235 | X16: 169 | Y16: 228 | Z16: 56 | AA16: =IFERROR(SUM(I16:Z16)/SUM(I17:Z17),0) -> 1
H17: ='PANEL DE CONTROL DISTRITAL'!H16 -> Total de Archivos de Transacción procesados | I17: 13 | J17: 148 | K17: 69 | L17: 110 | M17: 135 | N17: 146 | O17: 144 | P17: 75 | Q17: 73 | R17: 131 | S17: 156 | T17: 111 | U17: 44 | V17: 169 | W17: 235 | X17: 169 | Y17: 228 | Z17: 56
A19: ='PANEL DE CONTROL DISTRITAL'!A18 -> 4 | B19: ='PANEL DE CONTROL DISTRITAL'!B18 -> CONCILIACIÓN | C19: ='PANEL DE CONTROL DISTRITAL'!C18 -> Responsable de Módulo | D19: ='PANEL DE CONTROL DISTRITAL'!D18 -> Credenciales disponibles para entrega = | E19: ='PANEL DE CONTROL DISTRITAL'!E18 -> ((Credenciales recibidas - Credenciales inconsistentes) / Credenciales recibidas) x 100 | F19: ='PANEL DE CONTROL DISTRITAL'!F18 -> Semanal (remesa) | G19: ='PANEL DE CONTROL DISTRITAL'!G18 -> 0.9 | H19: ='PANEL DE CONTROL DISTRITAL'!H18 -> Credenciales Recibidas - Credenciales inconsistentes | I19: 0 | J19: 290 | K19: 127 | L19: 73 | M19: 136 | N19: 81 | O19: 75 | P19: 239 | Q19: 72 | R19: 56 | S19: 107 | T19: 249 | U19: 38 | V19: 46 | W19: 182 | X19: 257 | Y19: 177 | Z19: 113 | AA19: =IFERROR(SUM(I19:Z19)/SUM(I20:Z20),0) -> 1
H20: ='PANEL DE CONTROL DISTRITAL'!H19 -> Credenciales recibidas | I20: 0 | J20: 290 | K20: 127 | L20: 73 | M20: 136 | N20: 81 | O20: 75 | P20: 239 | Q20: 72 | R20: 56 | S20: 107 | T20: 249 | U20: 38 | V20: 46 | W20: 182 | X20: 257 | Y20: 177 | Z20: 113
A22: ='PANEL DE CONTROL DISTRITAL'!A21 -> 5 | B22: ='PANEL DE CONTROL DISTRITAL'!B21 -> CONCILIACIÓN | C22: ='PANEL DE CONTROL DISTRITAL'!C21 -> Responsable de Módulo | D22: ='PANEL DE CONTROL DISTRITAL'!D21 -> Credenciales disponibles para entrega = | E22: ='PANEL DE CONTROL DISTRITAL'!E21 -> (Credenciales en resguardo / Credenciales totales en SIIRFE disponibles para entrega) x 100 | F22: ='PANEL DE CONTROL DISTRITAL'!F21 -> Semanal (remesa) | G22: ='PANEL DE CONTROL DISTRITAL'!G21 -> 1 | H22: ='PANEL DE CONTROL DISTRITAL'!H21 -> Credenciales en resguardo | I22: 568 | J22: 622 | K22: 736 | L22: 690 | M22: 578 | N22: 551 | O22: 512 | P22: 638 | Q22: 600 | R22: 532 | S22: 494 | T22: 603 | U22: 583 | V22: 505 | W22: 554 | X22: 673 | Y22: 729 | Z22: 798 | AA22: =IFERROR(SUM(I22:Z22)/SUM(I23:Z23),0) -> 1
H23: ='PANEL DE CONTROL DISTRITAL'!H22 -> Credenciales totales en SIIRFE disponibles para entrega | I23: 568 | J23: 622 | K23: 736 | L23: 690 | M23: 578 | N23: 551 | O23: 512 | P23: 638 | Q23: 600 | R23: 532 | S23: 494 | T23: 603 | U23: 583 | V23: 505 | W23: 554 | X23: 673 | Y23: 729 | Z23: 798
A25: ='PANEL DE CONTROL DISTRITAL'!A24 -> 6 | B25: ='PANEL DE CONTROL DISTRITAL'!B24 -> ENTREGA | C25: ='PANEL DE CONTROL DISTRITAL'!C24 -> Operador de Equipo Tecnológico | D25: ='PANEL DE CONTROL DISTRITAL'!D24 -> Efectividad de entrega de CPV en MAC = | E25: ='PANEL DE CONTROL DISTRITAL'!E24 -> (Total de credenciales entregadas / Total de credenciales solicitadas) x 100 | F25: ='PANEL DE CONTROL DISTRITAL'!F24 -> Semanal (remesa) | G25: ='PANEL DE CONTROL DISTRITAL'!G24 -> 0.9 | H25: ='PANEL DE CONTROL DISTRITAL'!H24 -> Total de credenciales entregadas | I25: 34 | J25: 224 | K25: 8 | L25: 119 | M25: 162 | N25: 104 | O25: 114 | P25: 113 | Q25: 110 | R25: 124 | S25: 142 | T25: 140 | U25: 58 | V25: 124 | W25: 132 | X25: 138 | Y25: 121 | Z25: 44 | AA25: =IFERROR(SUM(I25:Z25)/SUM(I26:Z26),0) -> 1
