Workbook

Sheet PANEL DE CONTROL DISTRITAL
A1: INSTITUTO NACIONAL ELECTORAL SISTEMA DE GESTIÓN DE LA CALIDAD MICHOACÁN
AC2: Fecha de corte 31/12/2023 | AE2: Version 1
AE3: fecha de emisión: septiembre del 2023
A4: TABLERO DE CONTROL DISTRITAL DE PROCESOS SUSTANTIVOS DEL SISTEMA DE GESTIÓN DE LA CALIDAD 2023 -2024
A5: CAMPAÑA ANUAL INTENSA 2023_2024
A6: Número | B6: PROCESOS SUSTANTIVOS E INDICADORES | I6: % AVANCE REGISTRADO | K6: % AVANCE REGISTRADO | M6: % AVANCE REGISTRADO | O6: % AVANCE REGISTRADO | Q6: % AVANCE REGISTRADO | S6: % AVANCE REGISTRADO | U6: % AVANCE REGISTRADO | W6: % AVANCE REGISTRADO | Y6: % AVANCE REGISTRADO | AA6: % AVANCE REGISTRADO | AC6: % AVANCE REGISTRADO | AE6: % AVANCE REGISTRADO
B7: DESCRIPCIÓN | E7: MEDICIÓN
B8: Proceso | C8: Dueño de Proceso | D8: Indicador | E8: Cálculo | F8: Periodo | G8: Estimado | H8: Nominativo | I8: Distrito 01 | K8: Distrito 02 | M8: Distrito 03 | O8: Distrito 04 | Q8: Distrito 05 | S8: Distrito 06 | U8: Distrito 07 | W8: Distrito 08 | Y8: Distrito 09 | AA8: Distrito 10 | AC8: Distrito 11 | AE8: Estatal
A9: 1 | B9: ENTREVISTA | C9: Auxiliar de Atención Ciudadana | D9: Efectividad de la entrevista = | E9: (Número de trámites aplicados / (Número de fichas requisitadas - Notificaciones de improcedencia de trámite)) x 100 | F9: Semanal (remesa) | G9: 0.9 | H9: Número de trámites aplicados | I9: =AVERAGE('160151'!AA10:AA11,'160152'!AA10:AA11,'160153'!AA10:AA11) -> 0.99954581 | K9: =AVERAGE('160255'!AA10:AA11,'160256'!AA10:AA11,'160257'!AA10:AA11,'160258'!AA10:AA11) -> 1 | M9: =AVERAGE('160351'!AA10:AA11,'160352'!AA10:AA11,'160354'!AA10:AA11,'160355'!AA10:AA11) -> 1 | O9: =AVERAGE('160451'!AA10:AA11,'160455'!AA10:AA11,'160453'!AA10:AA11,'160454'!AA10:AA11) -> 1.0000356 | Q9: =AVERAGE('160551'!AA10:AA11,'160552'!AA10:AA11,'160553'!AA10:AA11,'160554'!AA10:AA11) -> 0.9988084 | S9: =AVERAGE('160651'!AA10:AA11,'160655'!AA10:AA11,'160656'!AA10:AA11,'160654'!AA10:AA11) -> 0.99993521 | U9: =AVERAGE('160751'!AA10:AA11,'160755'!AA10:AA11,'160753'!AA10:AA11,'160754'!AA10:AA11,'160756'!AA10:AA11) -> 0.99711902 | W9: =AVERAGE('160851'!AA10:AA11,'160852'!AA10:AA11) -> 0.98508725 | Y9: =AVERAGE('160951'!AA10:AA11,'160952'!AA10:AA11) -> 1 | AA9: =AVERAGE('161051'!AA10:AA11,'161052'!AA10:AA11) -> 0.9998101 | AC9: =AVERAGE('161151'!AA10:AA11,'161152'!AA10:AA11,'161153'!AA10:AA11,'161156'!AA10:AA11,'161155'!AA10:AA11) -> 1 | AE9: =AVERAGE(I9,K9,M9,O9,Q9,S9,U9,W9,Y9,AA9,AC9) -> 0.99821285
H10: Número de fichas requisitadas - Notificaciones de improcedencia de trámite
A12: 2 | B12: TRÁMITE | C12: Operador de Equipo Tecnológico | D12: Trámites exitosos efectivos= | E12: (Número de trámites exitosos / Número de trámites aplicados) x 100 | F12: Semanal (remesa) | G12: 0.9 | H12: Número de trámites exitosos | I12: =AVERAGE('160151'!AA13:AA14,'160152'!AA13:AA14,'160153'!AA13:AA14) -> 0.99244478 | K12: =AVERAGE('160255'!AA13:AA14,'160256'!AA13:AA14,'160257'!AA13:AA14,'160258'!AA13:AA14) -> 0.99255413 | M12: =AVERAGE('160351'!AA13:AA14,'160352'!AA13:AA14,'160354'!AA13:AA14,'160355'!AA13:AA14) -> 0.99045097 | O12: =AVERAGE('160451'!AA13:AA14,'160455'!AA13:AA14,'160453'!AA13:AA14,'160454'!AA13:AA14) -> 0.99322514 | Q12: =AVERAGE('160551'!AA13:AA14,'160552'!AA13:AA14,'160553'!AA13:AA14,'160554'!AA13:AA14) -> 0.98033038 | S12: =AVERAGE('160651'!AA13:AA14,'160655'!AA13:AA14,'160656'!AA13:AA14,'160654'!AA13:AA14) -> 0.96951238 | U12: =AVERAGE('160751'!AA13:AA14,'160755'!AA13:AA14,'160753'!AA13:AA14,'160754'!AA13:AA14,'160756'!AA13:AA14) -> 0.99322273 | W12: =AVERAGE('160851'!AA13:AA14,'160852'!AA13:AA14) -> 0.9919473 | Y12: =AVERAGE('160951'!AA13:AA14,'160952'!AA13:AA14) -> 0.97689097 | AA12: =AVERAGE('161051'!AA13:AA14,'161052'!AA13:AA14) -> 0.98094261 | AC12: =AVERAGE('161151'!AA13:AA14,'161152'!AA13:AA14,'161153'!AA13:AA14,'161156'!AA13:AA14,'161155'!AA13:AA14) -> 0.97423117 | AE12: =AVERAGE(I12,K12,M12,O12,Q12,S12,U12,W12,Y12,AA12,AC12) -> 0.98506841
H13: Número de trámites aplicados
A15: 3 | B15: TRANSFERENCIA | C15: Responsable de Módulo | D15: Transacciones exitosas = | E15: (Número de Archivos de Transacción aceptados /Total de Archivos de Transacción procesados) x100 | F15: Semanal (remesa) | G15: 0.9 | H15: Número de Archivos de Transacción aceptados | I15: =AVERAGE('160151'!AA16:AA17,'160152'!AA16:AA17,'160153'!AA16:AA17) -> 1 | K15: =AVERAGE('160255'!AA16:AA17,'160256'!AA16:AA17,'160257'!AA16:AA17,'160258'!AA16:AA17) -> 0.99990792 | M15: =AVERAGE('160351'!AA16:AA17,'160352'!AA16:AA17,'160354'!AA16:AA17,'160355'!AA16:AA17) -> 1 | O15: =AVERAGE('160451'!AA16:AA17,'160455'!AA16:AA17,'160453'!AA16:AA17,'160454'!AA16:AA17) -> 0.99992468 | Q15: =AVERAGE('160551'!AA16:AA17,'160552'!AA16:AA17,'160553'!AA16:AA17,'160554'!AA16:AA17) -> 0.99941389 | S15: =AVERAGE('160651'!AA16:AA17,'160655'!AA16:AA17,'160656'!AA16:AA17,'160654'!AA16:AA17) -> 0.99899884 | U15: =AVERAGE('160751'!AA16:AA17,'160755'!AA16:AA17,'160753'!AA16:AA17,'160754'!AA16:AA17,'160756'!AA16:AA17) -> 1 | W15: =AVERAGE('160851'!AA16:AA17,'160852'!AA16:AA17) -> 0.99994104 | Y15: =AVERAGE('160951'!AA16:AA17,'160952'!AA16:AA17) -> 1 | AA15: =AVERAGE('161051'!AA16:AA17,'161052'!AA16:AA17) -> 1 | AC15: =AVERAGE('161151'!AA16:AA17,'161152'!AA16:AA17,'161153'!AA16:AA17,'161156'!AA16:AA17,'161155'!AA16:AA17) -> 0.96469075 | AE15: =AVERAGE(I15,K15,M15,O15,Q15,S15,U15,W15,Y15,AA15,AC15) -> 0.99662519
H16: Total de Archivos de Transacción procesados
A18: 4 | B18: CONCILIACIÓN | C18: Responsable de Módulo | D18: Credenciales disponibles para entrega = | E18: ((Credenciales recibidas - Credenciales inconsistentes) / Credenciales recibidas) x 100 | F18: Semanal (remesa) | G18: 0.9 | H18: Credenciales Recibidas - Credenciales inconsistentes | I18: =AVERAGE('160151'!AA19:AA20,'160152'!AA19:AA20,'160153'!AA19:AA20) -> 1 | K18: =AVERAGE('160255'!AA19:AA20,'160256'!AA19:AA20,'160257'!AA19:AA20,'160258'!AA19:AA20) -> 0.9997173 | M18: =AVERAGE('160351'!AA19:AA20,'160352'!AA19:AA20,'160354'!AA19:AA20,'160355'!AA19:AA20) -> 1 | O18: =AVERAGE('160451'!AA19:AA20,'160455'!AA19:AA20,'160453'!AA19:AA20,'160454'!AA19:AA20) -> 1 | Q18: =AVERAGE('160551'!AA19:AA20,'160552'!AA19:AA20,'160553'!AA19:AA20,'160554'!AA19:AA20) -> 1 | S18: =AVERAGE('160651'!AA19:AA20,'160655'!AA19:AA20,'160656'!AA19:AA20,'160654'!AA19:AA20) -> 1 | U18: =AVERAGE('160751'!AA19:AA20,'160755'!AA19:AA20,'160753'!AA19:AA20,'160754'!AA19:AA20,'160756'!AA19:AA20) -> 1 | W18: =AVERAGE('160851'!AA19:AA20,'160852'!AA19:AA20) -> 0.99996833 | Y18: =AVERAGE('160951'!AA19:AA20,'160952'!AA19:AA20) -> 1 | AA18: =AVERAGE('161051'!AA19:AA20,'161052'!AA19:AA20) -> 1 | AC18: =AVERAGE('161151'!AA19:AA20,'161152'!AA19:AA20,'161153'!AA19:AA20,'161156'!AA19:AA20,'161155'!AA19:AA20) -> 1 | AE18: =AVERAGE(I18,K18,M18,O18,Q18,S18,U18,W18,Y18,AA18,AC18) -> 0.99997142
H19: Credenciales recibidas
A21: 5 | B21: CONCILIACIÓN | C21: Responsable de Módulo | D21: Credenciales disponibles para entrega = | E21: (Credenciales en resguardo / Credenciales totales en SIIRFE disponibles para entrega) x 100 | F21: Semanal (remesa) | G21: 1 | H21: Credenciales en resguardo | I21: =AVERAGE('160151'!AA22:AA23,'160152'!AA22:AA23,'160153'!AA22:AA23) -> 1 | K21: =AVERAGE('160255'!AA22:AA23,'160256'!AA22:AA23,'160257'!AA22:AA23,'160258'!AA22:AA23) -> 1 | M21: =AVERAGE('160351'!AA22:AA23,'160352'!AA22:AA23,'160354'!AA22:AA23,'160355'!AA22:AA23) -> 1 | O21: =AVERAGE('160451'!AA22:AA23,'160455'!AA22:AA23,'160453'!AA22:AA23,'160454'!AA22:AA23) -> 1 | Q21: =AVERAGE('160551'!AA22:AA23,'160552'!AA22:AA23,'160553'!AA22:AA23,'160554'!AA22:AA23) -> 1 | S21: =AVERAGE('160651'!AA22:AA23,'160655'!AA22:AA23,'160656'!AA22:AA23,'160654'!AA22:AA23) -> 1 | U21: =AVERAGE('160751'!AA22:AA23,'160755'!AA22:AA23,'160753'!AA22:AA23,'160754'!AA22:AA23,'160756'!AA22:AA23) -> 1 | W21: =AVERAGE('160851'!AA22:AA23,'160852'!AA22:AA23) -> 1.0000551 | Y21: =AVERAGE('160951'!AA22:AA23,'160952'!AA22:AA23) -> 1 | AA21: =AVERAGE('161051'!AA22:AA23,'161052'!AA22:AA23) -> 1 | AC21: =AVERAGE('161151'!AA22:AA23,'161152'!AA22:AA23,'161153'!AA22:AA23,'161156'!AA22:AA23,'161155'!AA22:AA23) -> 1 | AE21: =AVERAGE(I21,K21,M21,O21,Q21,S21,U21,W21,Y21,AA21,AC21) -> 1.000005
H22: Credenciales totales en SIIRFE disponibles para entrega
A24: 6 | B24: ENTREGA | C24: Operador de Equipo Tecnológico | D24: Efectividad de entrega de CPV en MAC = | E24: (Total de credenciales entregadas / Total de credenciales solicitadas) x 100 | F24: Semanal (remesa) | G24: 0.9 | H24: Total de credenciales entregadas | I24: =AVERAGE('160151'!AA25:AA26,'160152'!AA25:AA26,'160153'!AA25:AA26) -> 0.99958245 | K24: =AVERAGE('160255'!AA25:AA26,'160256'!AA25:AA26,'160257'!AA25:AA26,'160258'!AA25:AA26) -> 1 | M24: =AVERAGE('160351'!AA25:AA26,'160352'!AA25:AA26,'160354'!AA25:AA26,'160355'!AA25:AA26) -> 1 | O24: =AVERAGE('160451'!AA25:AA26,'160455'!AA25:AA26,'160453'!AA25:AA26,'160454'!AA25:AA26) -> 0.99796417 | Q24: =AVERAGE('160551'!AA25:AA26,'160552'!AA25:AA26,'160553'!AA25:AA26,'160554'!AA25:AA26) -> 1 | S24: =AVERAGE('160651'!AA25:AA26,'160655'!AA25:AA26,'160656'!AA25:AA26,'160654'!AA25:AA26) -> 0.99940116 | U24: =AVERAGE('160751'!AA25:AA26,'160755'!AA25:AA26,'160753'!AA25:AA26,'160754'!AA25:AA26,'160756'!AA25:AA26) -> 1 | W24: =AVERAGE('160851'!AA25:AA26,'160852'!AA25:AA26) -> 0.99283325 | Y24: =AVERAGE('160951'!AA25:AA26,'160952'!AA25:AA26) -> 1 | AA24: =AVERAGE('161051'!AA25:AA26,'161052'!AA25:AA26) -> 1 | AC24: =AVERAGE('161151'!AA25:AA26,'161152'!AA25:AA26,'161153'!AA25:AA26,'161156'!AA25:AA26,'161155'!AA25:AA26) -> 0.99745465 | AE24: =AVERAGE(I24,K24,M24,O24,Q24,S24,U24,W24,Y24,AA24,AC24) -> 0.99883961
H25: Total de credenciales solicitadas

Sheet 160151
A1: ='PANEL DE CONTROL DISTRITAL'!A1:Q1 -> INSTITUTO NACIONAL ELECTORAL SISTEMA DE GESTIÓN DE LA CALIDAD MICHOACÁN
D2: Distrito | E2: 1 | F2: Módulo | H2: 160151 | W2: ='PANEL DE CONTROL DISTRITAL'!AC2 -> Fecha de corte 31/12/2023
A4: TABLERO DE CONTROL DISTRITAL DE PROCESOS SUSTANTIVOS DEL SISTEMA DE GESTIÓN DE LA CALIDAD 2023 -2024
A6: ='PANEL DE CONTROL DISTRITAL'!A6 -> Número | B6: ='PANEL DE CONTROL DISTRITAL'!B6 -> PROCESOS SUSTANTIVOS E INDICADORES | I6: SEMANA OPERATIVA | AA6: % AVANCE REGISTRADO
B7: ='PANEL DE CONTROL DISTRITAL'!B7 -> DESCRIPCIÓN | E7: ='PANEL DE CONTROL DISTRITAL'!E7 -> MEDICIÓN | I7: ='PANEL DE CONTROL DISTRITAL'!A5 -> CAMPAÑA ANUAL INTENSA 2023_2024
B9: ='PANEL DE CONTROL DISTRITAL'!B8 -> Proceso | C9: ='PANEL DE CONTROL DISTRITAL'!C8 -> Dueño de Proceso | D9: ='PANEL DE CONTROL DISTRITAL'!D8 -> Indicador | E9: ='PANEL DE CONTROL DISTRITAL'!E8 -> Cálculo | F9: ='PANEL DE CONTROL DISTRITAL'!F8 -> Periodo | G9: ='PANEL DE CONTROL DISTRITAL'!G8 -> Estimado | H9: ='PANEL DE CONTROL DISTRITAL'!H8 -> Nominativo | I9: 2023-37 | J9: 2023-38 | K9: 2023-39 | L9: 2023-40 | M9: 2023-41 | N9: 2023-42 | O9: 2023-43 | P9: 2023-44 | Q9: 2023-45 | R9: 2023-46 | S9: 2023-47 | T9: 2023-48 | U9: 2023-49 | V9: 2023-50 | W9: 2023-51 | X9: 2023-52 | Y9: 2023-53 | Z9: 2023-54
A10: ='PANEL DE CONTROL DISTRITAL'!A9 -> 1 | B10: ='PANEL DE CONTROL DISTRITAL'!B9 -> ENTREVISTA | C10: ='PANEL DE CONTROL DISTRITAL'!C9 -> Auxiliar de Atención Ciudadana | D10: ='PANEL DE CONTROL DISTRITAL'!D9 -> Efectividad de la entrevista = | E10: ='PANEL DE CONTROL DISTRITAL'!E9 -> (Número de trámites aplicados / (Número de fichas requisitadas - Notificaciones de improcedencia de trámite)) x 100 | F10: ='PANEL DE CONTROL DISTRITAL'!F9 -> Semanal (remesa) | G10: ='PANEL DE CONTROL DISTRITAL'!G9 -> 0.9 | H10: ='PANEL DE CONTROL DISTRITAL'!H9 -> Número de trámites aplicados | I10: 85 | J10: 427 | K10: 421 | L10: 482 | M10: 443 | N10: 413 | O10: 361 | P10: 476 | Q10: 469 | R10: 340 | S10: 505 | T10: 503 | U10: 421 | V10: 591 | W10: 591 | X10: 544 | Y10: 568 | Z10: 422 | AA10: =IFERROR(SUM(I10:Z10)/SUM(I11:Z11),0) -> 0.99863743
H11: ='PANEL DE CONTROL DISTRITAL'!H10 -> Número de fichas requisitadas - Notificaciones de improcedencia de trámite | I11: 85 | J11: 427 | K11: 421 | L11: 482 | M11: 443 | N11: 413 | O11: 362 | P11: 476 | Q11: 470 | R11: 340 | S11: 505 | T11: 503 | U11: 421 | V11: 595 | W11: 593 | X11: 544 | Y11: 571 | Z11: 422
A13: ='PANEL DE CONTROL DISTRITAL'!A12 -> 2 | B13: ='PANEL DE CONTROL DISTRITAL'!B12 -> TRÁMITE | C13: ='PANEL DE CONTROL DISTRITAL'!C12 -> Operador de Equipo Tecnológico | D13: ='PANEL DE CONTROL DISTRITAL'!D12 -> Trámites exitosos efectivos= | E13: ='PANEL DE CONTROL DISTRITAL'!E12 -> (Número de trámites exitosos / Número de trámites aplicados) x 100 | F13: ='PANEL DE CONTROL DISTRITAL'!F12 -> Semanal (remesa) | G13: ='PANEL DE CONTROL DISTRITAL'!G12 -> 0.9 | H13: ='PANEL DE CONTROL DISTRITAL'!H12 -> Número de trámites exitosos | I13: 85 | J13: 424 | K13: 420 | L13: 480 | M13: 438 | N13: 413 | O13: 356 | P13: 474 | Q13: 467 | R13: 339 | S13: 503 | T13: 501 | U13: 416 | V13: 589 | W13: 587 | X13: 539 | Y13: 565 | Z13: 414 | AA13: =IFERROR(SUM(I13:Z13)/SUM(I14:Z14),0) -> 0.99354999
H14: ='PANEL DE CONTROL DISTRITAL'!H13 -> Número de trámites aplicados | I14: 85 | J14: 427 | K14: 421 | L14: 482 | M14: 443 | N14: 413 | O14: 361 | P14: 476 | Q14: 469 | R14: 340 | S14: 505 | T14: 503 | U14: 421 | V14: 591 | W14: 591 | X14: 544 | Y14: 568 | Z14: 422
A16: ='PANEL DE CONTROL DISTRITAL'!A15 -> 3 | B16: ='PANEL DE CONTROL DISTRITAL'!B15 -> TRANSFERENCIA | C16: ='PANEL DE CONTROL DISTRITAL'!C15 -> Responsable de Módulo | D16: ='PANEL DE CONTROL DISTRITAL'!D15 -> Transacciones exitosas = | E16: ='PANEL DE CONTROL DISTRITAL'!E15 -> (Número de Archivos de Transacción aceptados /Total de Archivos de Transacción procesados) x100 | F16: ='PANEL DE CONTROL DISTRITAL'!F15 -> Semanal (remesa) | G16: ='PANEL DE CONTROL DISTRITAL'!G15 -> 0.9 | H16: ='PANEL DE CONTROL DISTRITAL'!H15 -> Número de Archivos de Transacción aceptados | I16: 85 | J16: 427 | K16: 421 | L16: 482 | M16: 443 | N16: 413 | O16: 361 | P16: 476 | Q16: 469 | R16: 340 | S16: 505 | T16: 503 | U16: 421 | V16: 591 | W16: 591 | X16: 544 | Y16: 568 | Z16: 422 | AA16: =IFERROR(SUM(I16:Z16)/SUM(I17:Z17),0) -> 1
H17: ='PANEL DE CONTROL DISTRITAL'!H16 -> Total de Archivos de Transacción procesados | I17: 85 | J17: 427 | K17: 421 | L17: 482 | M17: 443 | N17: 413 | O17: 361 | P17: 476 | Q17: 469 | R17: 340 | S17: 505 | T17: 503 | U17: 421 | V17: 591 | W17: 591 | X17: 544 | Y17: 568 | Z17: 422
A19: ='PANEL DE CONTROL DISTRITAL'!A18 -> 4 | B19: ='PANEL DE CONTROL DISTRITAL'!B18 -> CONCILIACIÓN | C19: ='PANEL DE CONTROL DISTRITAL'!C18 -> Responsable de Módulo | D19: ='PANEL DE CONTROL DISTRITAL'!D18 -> Credenciales disponibles para entrega = | E19: ='PANEL DE CONTROL DISTRITAL'!E18 -> ((Credenciales recibidas - Credenciales inconsistentes) / Credenciales recibidas) x 100 | F19: ='PANEL DE CONTROL DISTRITAL'!F18 -> Semanal (remesa) | G19: ='PANEL DE CONTROL DISTRITAL'!G18 -> 0.9 | H19: ='PANEL DE CONTROL DISTRITAL'!H18 -> Credenciales Recibidas - Credenciales inconsistentes | I19: 94 | J19: 471 | K19: 260 | L19: 614 | M19: 454 | N19: 440 | O19: 440 | P19: 443 | Q19: 475 | R19: 370 | S19: 461 | T19: 494 | U19: 383 | V19: 471 | W19: 737 | X19: 526 | Y19: 350 | Z19: 268 | AA19: =IFERROR(SUM(I19:Z19)/SUM(I20:Z20),0) -> 1
H20: ='PANEL DE CONTROL DISTRITAL'!H19 -> Credenciales recibidas | I20: 94 | J20: 471 | K20: 260 | L20: 614 | M20: 454 | N20: 440 | O20: 440 | P20: 443 | Q20: 475 | R20: 370 | S20: 461 | T20: 494 | U20: 383 | V20: 471 | W20: 737 | X20: 526 | Y20: 350 | Z20: 268
A22: ='PANEL DE CONTROL DISTRITAL'!A21 -> 5 | B22: ='PANEL DE CONTROL DISTRITAL'!B21 -> CONCILIACIÓN | C22: ='PANEL DE CONTROL DISTRITAL'!C21 -> Responsable de Módulo | D22: ='PANEL DE CONTROL DISTRITAL'!D21 -> Credenciales disponibles para entrega = | E22: ='PANEL DE CONTROL DISTRITAL'!E21 -> (Credenciales en resguardo / Credenciales totales en SIIRFE disponibles para entrega) x 100 | F22: ='PANEL DE CONTROL DISTRITAL'!F21 -> Semanal (remesa) | G22: ='PANEL DE CONTROL DISTRITAL'!G21 -> 1 | H22: ='PANEL DE CONTROL DISTRITAL'!H21 -> Credenciales en resguardo | I22: 818 | J22: 721 | K22: 560 | L22: 730 | M22: 729 | N22: 623 | O22: 685 | P22: 763 | Q22: 814 | R22: 838 | S22: 788 | T22: 843 | U22: 780 | V22: 833 | W22: 976 | X22: 904 | Y22: 700 | Z22: 466 | AA22: =IFERROR(SUM(I22:Z22)/SUM(I23:Z23),0) -> 1
H23: ='PANEL DE CONTROL DISTRITAL'!H22 -> Credenciales totales en SIIRFE disponibles para entrega | I23: 818 | J23: 721 | K23: 560 | L23: 730 | M23: 729 | N23: 623 | O23: 685 | P23: 763 | Q23: 814 | R23: 838 | S23: 788 | T23: 843 | U23: 780 | V23: 833 | W23: 976 | X23: 904 | Y23: 700 | Z23: 466
A25: ='PANEL DE CONTROL DISTRITAL'!A24 -> 6 | B25: ='PANEL DE CONTROL DISTRITAL'!B24 -> ENTREGA | C25: ='PANEL DE CONTROL DISTRITAL'!C24 -> Operador de Equipo Tecnológico | D25: ='PANEL DE CONTROL DISTRITAL'!D24 -> Efectividad de entrega de CPV en MAC = | E25: ='PANEL DE CONTROL DISTRITAL'!E24 -> (Total de credenciales entregadas / Total de credenciales solicitadas) x 100 | F25: ='PANEL DE CONTROL DISTRITAL'!F24 -> Semanal (remesa) | G25: ='PANEL DE CONTROL DISTRITAL'!G24 -> 0.9 | H25: ='PANEL DE CONTROL DISTRITAL'!H24 -> Total de credenciales entregadas | I25: 90 | J25: 468 | K25: 408 | L25: 444 | M25: 455 | N25: 540 | O25: 378 | P25: 365 | Q25: 424 | R25: 346 | S25: 507 | T25: 439 | U25: 446 | V25: 418 | W25: 591 | X25: 598 | Y25: 554 | Z25: 502 | AA25: =IFERROR(SUM(I25:Z25)/SUM(I26:Z26),0) -> 0.99874734
H26: ='PANEL DE CONTROL DISTRITAL'!H25 -> Total de credenciales solicitadas | I26: 90 | J26: 469 | K26: 408 | L26: 446 | M26: 455 | N26: 541 | O26: 379 | P26: 366 | Q26: 427 | R26: 346 | S26: 507 | T26: 439 | U26: 446 | V26: 419 | W26: 591 | X26: 598 | Y26: 554 | Z26: 502
B27: *Registre el valor nominal solicitado en la celda, el resultado proporcional esta automatizado.
I29: Semaforización
J30: Valor que requiere atención y justificación en el apartado de observaciones
J31: Valor suficiente
J32: Valor esperado
B34: CUADRO DE OBSERVACIONES
B35: Descripción | H35: No conformidad

Sheet 160152
A1: ='PANEL DE CONTROL DISTRITAL'!A1:Q1 -> INSTITUTO NACIONAL ELECTORAL SISTEMA DE GESTIÓN DE LA CALIDAD MICHOACÁN
D2: Distrito | E2: 1 | F2: Módulo | H2: 160152 | W2: ='PANEL DE CONTROL DISTRITAL'!AC2 -> Fecha de corte 31/12/2023
A4: TABLERO DE CONTROL DISTRITAL DE PROCESOS SUSTANTIVOS DEL SISTEMA DE GESTIÓN DE LA CALIDAD 2023 -2024
A6: ='PANEL DE CONTROL DISTRITAL'!A6 -> Número | B6: ='PANEL DE CONTROL DISTRITAL'!B6 -> PROCESOS SUSTANTIVOS E INDICADORES | I6: SEMANA OPERATIVA | AA6: % AVANCE REGISTRADO
B7: ='PANEL DE CONTROL DISTRITAL'!B7 -> DESCRIPCIÓN | E7: ='PANEL DE CONTROL DISTRITAL'!E7 -> MEDICIÓN | I7: ='PANEL DE CONTROL DISTRITAL'!A5 -> CAMPAÑA ANUAL INTENSA 2023_2024
B9: ='PANEL DE CONTROL DISTRITAL'!B8 -> Proceso | C9: ='PANEL DE CONTROL DISTRITAL'!C8 -> Dueño de Proceso | D9: ='PANEL DE CONTROL DISTRITAL'!D8 -> Indicador | E9: ='PANEL DE CONTROL DISTRITAL'!E8 -> Cálculo | F9: ='PANEL DE CONTROL DISTRITAL'!F8 -> Periodo | G9: ='PANEL DE CONTROL DISTRITAL'!G8 -> Estimado | H9: ='PANEL DE CONTROL DISTRITAL'!H8 -> Nominativo | I9: ='160151'!I9 -> 2023-37 | J9: ='160151'!J9 -> 2023-38 | K9: ='160151'!K9 -> 2023-39 | L9: ='160151'!L9 -> 2023-40 | M9: ='160151'!M9 -> 2023-41 | N9: ='160151'!N9 -> 2023-42 | O9: ='160151'!O9 -> 2023-43 | P9: ='160151'!P9 -> 2023-44 | ... Z9: ='160151'!Z9 -> 2023-54
A10: ='PANEL DE CONTROL DISTRITAL'!A9 -> 1 | B10: ='PANEL DE CONTROL DISTRITAL'!B9 -> ENTREVISTA | C10: ='PANEL DE CONTROL DISTRITAL'!C9 -> Auxiliar de Atención Ciudadana | D10: ='PANEL DE CONTROL DISTRITAL'!D9 -> Efectividad de la entrevista = | E10: ='PANEL DE CONTROL DISTRITAL'!E9 -> (Número de trámites aplicados / (Número de fichas requisitadas - Notificaciones de improcedencia de trámite)) x 100 | F10: ='PANEL DE CONTROL DISTRITAL'!F9 -> Semanal (remesa) | G10: ='PANEL DE CONTROL DISTRITAL'!G9 -> 0.9 | H10: ='PANEL DE CONTROL DISTRITAL'!H9 -> Número de trámites aplicados | I10: 30 | J10: 76 | K10: 66 | L10: 265 | M10: 307 | N10: 132 | O10: 108 | P10: 162 | Q10: 177 | R10: 66 | S10: 117 | T10: 260 | U10: 104 | V10: 154 | W10: 223 | X10: 166 | Y10: 148 | Z10: 102 | AA10: =IFERROR(SUM(I10:Z10)/SUM(I11:Z11),0) -> 1
H11: ='PANEL DE CONTROL DISTRITAL'!H10 -> Número de fichas requisitadas - Notificaciones de improcedencia de trámite | I11: 30 | J11: 76 | K11: 66 | L11: 265 | M11: 307 | N11: 132 | O11: 108 | P11: 162 | Q11: 177 | R11: 66 | S11: 117 | T11: 260 | U11: 104 | V11: 154 | W11: 223 | X11: 166 | Y11: 148 | Z11: 102
A13: ='PANEL DE CONTROL DISTRITAL'!A12 -> 2 | B13: ='PANEL DE CONTROL DISTRITAL'!B12 -> TRÁMITE | C13: ='PANEL DE CONTROL DISTRITAL'!C12 -> Operador de Equipo Tecnológico | D13: ='PANEL DE CONTROL DISTRITAL'!D12 -> Trámites exitosos efectivos= | E13: ='PANEL DE CONTROL DISTRITAL'!E12 -> (Número de trámites exitosos / Número de trámites aplicados) x 100 | F13: ='PANEL DE CONTROL DISTRITAL'!F12 -> Semanal (remesa) | G13: ='PANEL DE CONTROL DISTRITAL'!G12 -> 0.9 | H13: ='PANEL DE CONTROL DISTRITAL'!H12 -> Número de trámites exitosos | I13: 30 | J13: 75 | K13: 64 | L13: 264 | M13: 306 | N13: 130 | O13: 107 | P13: 161 | Q13: 173 | R13: 66 | S13: 115 | T13: 258 | U13: 104 | V13: 152 | W13: 223 | X13: 166 | Y13: 145 | Z13: 100 | AA13: =IFERROR(SUM(I13:Z13)/SUM(I14:Z14),0) -> 0.99098761
H14: ='PANEL DE CONTROL DISTRITAL'!H13 -> Número de trámites aplicados | I14: 30 | J14: 76 | K14: 66 | L14: 265 | M14: 307 | N14: 132 | O14: 108 | P14: 162 | Q14: 177 | R14: 66 | S14: 117 | T14: 260 | U14: 104 | V14: 154 | W14: 223 | X14: 166 | Y14: 148 | Z14: 102
A16: ='PANEL DE CONTROL DISTRITAL'!A15 -> 3 | B16: ='PANEL DE CONTROL DISTRITAL'!B15 -> TRANSFERENCIA | C16: ='PANEL DE CONTROL DISTRITAL'!C15 -> Responsable de Módulo | D16: ='PANEL DE CONTROL DISTRITAL'!D15 -> Transacciones exitosas = | E16: ='PANEL DE CONTROL DISTRITAL'!E15 -> (Número de Archivos de Transacción aceptados /Total de Archivos de Transacción procesados) x100 | F16: ='PANEL DE CONTROL DISTRITAL'!F15 -> Semanal (remesa) | G16: ='PANEL DE CONTROL DISTRITAL'!G15 -> 0.9 | H16: ='PANEL DE CONTROL DISTRITAL'!H15 -> Número de Archivos de Transacción aceptados | I16: 30 | J16: 76 | K16: 66 | L16: 265 | M16: 307 | N16: 132 | O16: 108 | P16: 162 | Q16: 177 | R16: 66 | S16: 117 | T16: 260 | U16: 104 | V16: 154 | W16: 223 | X16: 166 | Y16: 148 | Z16: 102 | AA16: =IFERROR(SUM(I16:Z16)/SUM(I17:Z17),0) -> 1
H17: ='PANEL DE CONTROL DISTRITAL'!H16 -> Total de Archivos de Transacción procesados | I17: 30 | J17: 76 | K17: 66 | L17: 265 | M17: 307 | N17: 132 | O17: 108 | P17: 162 | Q17: 177 | R17: 66 | S17: 117 | T17: 260 | U17: 104 | V17: 154 | W17: 223 | X17: 166 | Y17: 148 | Z17: 102
A19: ='PANEL DE CONTROL DISTRITAL'!A18 -> 4 | B19: ='PANEL DE CONTROL DISTRITAL'!B18 -> CONCILIACIÓN | C19: ='PANEL DE CONTROL DISTRITAL'!C18 -> Responsable de Módulo | D19: ='PANEL DE CONTROL DISTRITAL'!D18 -> Credenciales disponibles para entrega = | E19: ='PANEL DE CONTROL DISTRITAL'!E18 -> ((Credenciales recibidas - Credenciales inconsistentes) / Credenciales recibidas) x 100 | F19: ='PANEL DE CONTROL DISTRITAL'!F18 -> Semanal (remesa) | G19: ='PANEL DE CONTROL DISTRITAL'!G18 -> 0.9 | H19: ='PANEL DE CONTROL DISTRITAL'!H18 -> Credenciales Recibidas - Credenciales inconsistentes | I19: 174 | J19: 72 | K19: 103 | L19: 148 | M19: 277 | N19: 220 | O19: 149 | P19: 150 | Q19: 157 | R19: 107 | S19: 84 | T19: 219 | U19: 162 | V19: 114 | W19: 250 | X19: 143 | Y19: 101 | Z19: 72 | AA19: =IFERROR(SUM(I19:Z19)/SUM(I20:Z20),0) -> 1
H20: ='PANEL DE CONTROL DISTRITAL'!H19 -> Credenciales recibidas | I20: 174 | J20: 72 | K20: 103 | L20: 148 | M20: 277 | N20: 220 | O20: 149 | P20: 150 | Q20: 157 | R20: 107 | S20: 84 | T20: 219 | U20: 162 | V20: 114 | W20: 250 | X20: 143 | Y20: 101 | Z20: 72
A22: ='PANEL DE CONTROL DISTRITAL'!A21 -> 5 | B22: ='PANEL DE CONTROL DISTRITAL'!B21 -> CONCILIACIÓN | C22: ='PANEL DE CONTROL DISTRITAL'!C21 -> Responsable de Módulo | D22: ='PANEL DE CONTROL DISTRITAL'!D21 -> Credenciales disponibles para entrega = | E22: ='PANEL DE CONTROL DISTRITAL'!E21 -> (Credenciales en resguardo / Credenciales totales en SIIRFE disponibles para entrega) x 100 | F22: ='PANEL DE CONTROL DISTRITAL'!F21 -> Semanal (remesa) | G22: ='PANEL DE CONTROL DISTRITAL'!G21 -> 1 | H22: ='PANEL DE CONTROL DISTRITAL'!H21 -> Credenciales en resguardo | I22: 595 | J22: 643 | K22: 604 | L22: 655 | M22: 783 | N22: 817 | O22: 893 | P22: 737 | Q22: 554 | R22: 548 | S22: 450 | T22: 468 | U22: 550 | V22: 551 | W22: 578 | X22: 534 | Y22: 396 | Z22: 259 | AA22: =IFERROR(SUM(I22:Z22)/SUM(I23:Z23),0) -> 1
H23: ='PANEL DE CONTROL DISTRITAL'!H22 -> Credenciales totales en SIIRFE disponibles para entrega | I23: 595 | J23: 643 | K23: 604 | L23: 655 | M23: 783 | N23: 817 | O23: 893 | P23: 737 | Q23: 554 | R23: 548 | S23: 450 | T23: 468 | U23: 550 | V23: 551 | W23: 578 | X23: 534 | Y23: 396 | Z23: 259
A25: ='PANEL DE CONTROL DISTRITAL'!A24 -> 6 | B25: ='PANEL DE CONTROL DISTRITAL'!B24 -> ENTREGA | C25: ='PANEL DE CONTROL DISTRITAL'!C24 -> Operador de Equipo Tecnológico | D25: ='PANEL DE CONTROL DISTRITAL'!D24 -> Efectividad de entrega de CPV en MAC = | E25: ='PANEL DE CONTROL DISTRITAL'!E24 -> (Total de credenciales entregadas / Total de credenciales solicitadas) x 100 | F25: ='PANEL DE CONTROL DISTRITAL'!F24 -> Semanal (remesa) | G25: ='PANEL DE CONTROL DISTRITAL'!G24 -> 0.9 | H25: ='PANEL DE CONTROL DISTRITAL'!H24 -> Total de credenciales entregadas | I25: 0 | J25: 23 | K25: 133 | L25: 97 | M25: 149 | N25: 186 | O25: 73 | P25: 306 | Q25: 340 | R25: 113 | S25: 180 | T25: 201 | U25: 80 | V25: 113 | W25: 222 | X25: 187 | Y25: 239 | Z25: 209 | AA25: =IFERROR(SUM(I25:Z25)/SUM(I26:Z26),0) -> 1
H26: ='PANEL DE CONTROL DISTRITAL'!H25 -> Total de credenciales solicitadas | I26: 0 | J26: 23 | K26: 133 | L26: 97 | M26: 149 | N26: 186 | O26: 73 | P26: 306 | Q26: 340 | R26: 113 | S26: 180 | T26: 201 | U26: 80 | V26: 113 | W26: 222 | X26: 187 | Y26: 239 | Z26: 209
B27: *Registre el valor nominal solicitado en la celda, el resultado proporcional esta automatizado.
I29: Semaforización
J30: Valor que requiere atención y justificación en el apartado de observaciones
J31: Valor suficiente
J32: Valor esperado
B34: CUADRO DE OBSERVACIONES
B35: Descripción | H35: No conformidad

Sheet 160153
A1: ='PANEL DE CONTROL DISTRITAL'!A1:Q1 -> INSTITUTO NACIONAL ELECTORAL SISTEMA DE GESTIÓN DE LA CALIDAD MICHOACÁN
D2: Distrito | E2: 1 | F2: Módulo | H2: 160153 | W2: ='PANEL DE CONTROL DISTRITAL'!AC2 -> Fecha de corte 31/12/2023
A4: TABLERO DE CONTROL DISTRITAL DE PROCESOS SUSTANTIVOS DEL SISTEMA DE GESTIÓN DE LA CALIDAD 2023 -2024
A6: ='PANEL DE CONTROL DISTRITAL'!A6 -> Número | B6: ='PANEL DE CONTROL DISTRITAL'!B6 -> PROCESOS SUSTANTIVOS E INDICADORES | I6: SEMANA OPERATIVA | AA6: % AVANCE REGISTRADO
B7: ='PANEL DE CONTROL DISTRITAL'!B7 -> DESCRIPCIÓN | E7: ='PANEL DE CONTROL DISTRITAL'!E7 -> MEDICIÓN | I7: ='PANEL DE CONTROL DISTRITAL'!A5 -> CAMPAÑA ANUAL INTENSA 2023_2024
B9: ='PANEL DE CONTROL DISTRITAL'!B8 -> Proceso | C9: ='PANEL DE CONTROL DISTRITAL'!C8 -> Dueño de Proceso | D9: ='PANEL DE CONTROL DISTRITAL'!D8 -> Indicador | E9: ='PANEL DE CONTROL DISTRITAL'!E8 -> Cálculo | F9: ='PANEL DE CONTROL DISTRITAL'!F8 -> Periodo | G9: ='PANEL DE CONTROL DISTRITAL'!G8 -> Estimado | H9: ='PANEL DE CONTROL DISTRITAL'!H8 -> Nominativo | I9: ='160151'!I9 -> 2023-37 | J9: ='160151'!J9 -> 2023-38 | K9: ='160151'!K9 -> 2023-39 | L9: ='160151'!L9 -> 2023-40 | M9: ='160151'!M9 -> 2023-41 | N9: ='160151'!N9 -> 2023-42 | O9: ='160151'!O9 -> 2023-43 | P9: ='160151'!P9 -> 2023-44 | ... Z9: ='160151'!Z9 -> 2023-54
A10: ='PANEL DE CONTROL DISTRITAL'!A9 -> 1 | B10: ='PANEL DE CONTROL DISTRITAL'!B9 -> ENTREVISTA | C10: ='PANEL DE CONTROL DISTRITAL'!C9 -> Auxiliar de Atención Ciudadana | D10: ='PANEL DE CONTROL DISTRITAL'!D9 -> Efectividad de la entrevista = | E10: ='PANEL DE CONTROL DISTRITAL'!E9 -> (Número de trámites aplicados / (Número de fichas requisitadas - Notificaciones de improcedencia de trámite)) x 100 | F10: ='PANEL DE CONTROL DISTRITAL'!F9 -> Semanal (remesa) | G10: ='PANEL DE CONTROL DISTRITAL'!G9 -> 0.9 | H10: ='PANEL DE CONTROL DISTRITAL'!H9 -> Número de trámites aplicados | I10: 3 | J10: 153 | K10: 123 | L10: 139 | M10: 202 | N10: 226 | O10: 134 | P10: 252 | Q10: 147 | R10: 144 | S10: 199 | T10: 292 | U10: 217 | V10: 185 | W10: 267 | X10: 279 | Y10: 145 | Z10: 86 | AA10: =IFERROR(SUM(I10:Z10)/SUM(I11:Z11),0) -> 1
H11: ='PANEL DE CONTROL DISTRITAL'!H10 -> Número de fichas requisitadas - Notificaciones de improcedencia de trámite | I11: 3 | J11: 153 | K11: 123 | L11: 139 | M11: 202 | N11: 226 | O11: 134 | P11: 252 | Q11: 147 | R11: 144 | S11: 199 | T11: 292 | U11: 217 | V11: 185 | W11: 267 | X11: 279 | Y11: 145 | Z11: 86
A13: ='PANEL DE CONTROL DISTRITAL'!A12 -> 2 | B13: ='PANEL DE CONTROL DISTRITAL'!B12 -> TRÁMITE | C13: ='PANEL DE CONTROL DISTRITAL'!C12 -> Operador de Equipo Tecnológico | D13: ='PANEL DE CONTROL DISTRITAL'!D12 -> Trámites exitosos efectivos= | E13: ='PANEL DE CONTROL DISTRITAL'!E12 -> (Número de trámites exitosos / Número de trámites aplicados) x 100 | F13: ='PANEL DE CONTROL DISTRITAL'!F12 -> Semanal (remesa) | G13: ='PANEL DE CONTROL DISTRITAL'!G12 -> 0.9 | H13: ='PANEL DE CONTROL DISTRITAL'!H12 -> Número de trámites exitosos | I13: 3 | J13: 153 | K13: 123 | L13: 139 | M13: 199 | N13: 226 | O13: 133 | P13: 248 | Q13: 147 | R13: 143 | S13: 195 | T13: 288 | U13: 216 | V13: 181 | W13: 267 | X13: 279 | Y13: 144 | Z13: 86 | AA13: =IFERROR(SUM(I13:Z13)/SUM(I14:Z14),0) -> 0.99279674
H14: ='PANEL DE CONTROL DISTRITAL'!H13 -> Número de trámites aplicados | I14: 3 | J14: 153 | K14: 123 | L14: 139 | M14: 202 | N14: 226 | O14: 134 | P14: 252 | Q14: 147 | R14: 144 | S14: 199 | T14: 292 | U14: 217 | V14: 185 | W14: 267 | X14: 279 | Y14: 145 | Z14: 86
A16: ='PANEL DE CONTROL DISTRITAL'!A15 -> 3 | B16: ='PANEL DE CONTROL DISTRITAL'!B15 -> TRANSFERENCIA | C16: ='PANEL DE CONTROL DISTRITAL'!C15 -> Responsable de Módulo | D16: ='PANEL DE CONTROL DISTRITAL'!D15 -> Transacciones exitosas = | E16: ='PANEL DE CONTROL DISTRITAL'!E15 -> (Número de Archivos de Transacción aceptados /Total de Archivos de Transacción procesados) x100 | F16: ='PANEL DE CONTROL DISTRITAL'!F15 -> Semanal (remesa) | G16: ='PANEL DE CONTROL DISTRITAL'!G15 -> 0.9 | H16: ='PANEL DE CONTROL DISTRITAL'!H15 -> Número de Archivos de Transacción aceptados | I16: 3 | J16: 153 | K16: 123 | L16: 139 | M16: 202 | N16: 226 | O16: 134 | P16: 252 | Q16: 147 | R16: 144 | S16: 199 | T16: 292 | U16: 217 | V16: 185 | W16: 267 | X16: 279 | Y16: 145 | Z16: 86 | AA16: =IFERROR(SUM(I16:Z16)/SUM(I17:Z17),0) -> 1
H17: ='PANEL DE CONTROL DISTRITAL'!H16 -> Total de Archivos de Transacción procesados | I17: 3 | J17: 153 | K17: 123 | L17: 139 | M17: 202 | N17: 226 | O17: 134 | P17: 252 | Q17: 147 | R17: 144 | S17: 199 | T17: 292 | U17: 217 | V17: 185 | W17: 267 | X17: 279 | Y17: 145 | Z17: 86
A19: ='PANEL DE CONTROL DISTRITAL'!A18 -> 4 | B19: ='PANEL DE CONTROL DISTRITAL'!B18 -> CONCILIACIÓN | C19: ='PANEL DE CONTROL DISTRITAL'!C18 -> Responsable de Módulo | D19: ='PANEL DE CONTROL DISTRITAL'!D18 -> Credenciales disponibles para entrega = | E19: ='PANEL DE CONTROL DISTRITAL'!E18 -> ((Credenciales recibidas - Credenciales inconsistentes) / Credenciales recibidas) x 100 | F19: ='PANEL DE CONTROL DISTRITAL'!F18 -> Semanal (remesa) | G19: ='PANEL DE CONTROL DISTRITAL'!G18 -> 0.9 | H19: ='PANEL DE CONTROL DISTRITAL'!H18 -> Credenciales Recibidas - Credenciales inconsistentes | I19: 134 | J19: 50 | K19: 118 | L19: 153 | M19: 181 | N19: 220 | O19: 318 | P19: 194 | Q19: 211 | R19: 96 | S19: 53 | T19: 0 | U19: 465 | V19: 172 | W19: 253 | X19: 132 | Y19: 294 | Z19: 79 | AA19: =IFERROR(SUM(I19:Z19)/SUM(I20:Z20),0) -> 1
H20: ='PANEL DE CONTROL DISTRITAL'!H19 -> Credenciales recibidas | I20: 134 | J20: 50 | K20: 118 | L20: 153 | M20: 181 | N20: 220 | O20: 318 | P20: 194 | Q20: 211 | R20: 96 | S20: 53 | T20: 0 | U20: 465 | V20: 172 | W20: 253 | X20: 132 | Y20: 294 | Z20: 79
A22: ='PANEL DE CONTROL DISTRITAL'!A21 -> 5 | B22: ='PANEL DE CONTROL DISTRITAL'!B21 -> CONCILIACIÓN | C22: ='PANEL DE CONTROL DISTRITAL'!C21 -> Responsable de Módulo | D22: ='PANEL DE CONTROL DISTRITAL'!D21 -> Credenciales disponibles para entrega = | E22: ='PANEL DE CONTROL DISTRITAL'!E21 -> (Credenciales en resguardo / Credenciales totales en SIIRFE disponibles para entrega) x 100 | F22: ='PANEL DE CONTROL DISTRITAL'!F21 -> Semanal (remesa) | G22: ='PANEL DE CONTROL DISTRITAL'!G21 -> 1 | H22: ='PANEL DE CONTROL DISTRITAL'!H21 -> Credenciales en resguardo | I22: 583 | J22: 430 | K22: 542 | L22: 526 | M22: 543 | N22: 817 | O22: 756 | P22: 862 | Q22: 913 | R22: 817 | S22: 909 | T22: 684 | U22: 1002 | V22: 1027 | W22: 1020 | X22: 572 | Y22: 823 | Z22: 871 | AA22: =IFERROR(SUM(I22:Z22)/SUM(I23:Z23),0) -> 1
H23: ='PANEL DE CONTROL DISTRITAL'!H22 -> Credenciales totales en SIIRFE disponibles para entrega | I23: 583 | J23: 430 | K23: 542 | L23: 526 | M23: 543 | N23: 817 | O23: 756 | P23: 862 | Q23: 913 | R23: 817 | S23: 909 | T23: 684 | U23: 1002 | V23: 1027 | W23: 1020 | X23: 572 | Y23: 823 | Z23: 871
A25: ='PANEL DE CONTROL DISTRITAL'!A24 -> 6 | B25: ='PANEL DE CONTROL DISTRITAL'!B24 -> ENTREGA | C25: ='PANEL DE CONTROL DISTRITAL'!C24 -> Operador de Equipo Tecnológico | D25: ='PANEL DE CONTROL DISTRITAL'!D24 -> Efectividad de entrega de CPV en MAC = | E25: ='PANEL DE CONTROL DISTRITAL'!E24 -> (Total de credenciales entregadas / Total de credenciales solicitadas) x 100 | F25: ='PANEL DE CONTROL DISTRITAL'!F24 -> Semanal (remesa) | G25: ='PANEL DE CONTROL DISTRITAL'!G24 -> 0.9 | H25: ='PANEL DE CONTROL DISTRITAL'!H24 -> Total de credenciales entregadas | I25: 0 | J25: 203 | K25: 0 | L25: 169 | M25: 164 | N25: 226 | O25: 143 | P25: 88 | Q25: 160 | R25: 192 | S25: 110 | T25: 225 | U25: 147 | V25: 147 | W25: 259 | X25: 580 | Y25: 43 | Z25: 31 | AA25: =IFERROR(SUM(I25:Z25)/SUM(I26:Z26),0) -> 1
H26: ='PANEL DE CONTROL DISTRITAL'!H25 -> Total de credenciales solicitadas | I26: 0 | J26: 203 | K26: 0 | L26: 169 | M26: 164 | N26: 226 | O26: 143 | P26: 88 | Q26: 160 | R26: 192 | S26: 110 | T26: 225 | U26: 147 | V26: 147 | W26: 259 | X26: 580 | Y26: 43 | Z26: 31
B27: *Registre el valor nominal solicitado en la celda, el resultado proporcional esta automatizado.
I29: Semaforización
J30: Valor que requiere atención y justificación en el apartado de observaciones
J31: Valor suficiente
J32: Valor esperado
B34: CUADRO DE OBSERVACIONES
B35: Descripción | H35: No conformidad

Sheet 160255
A1: ='PANEL DE CONTROL DISTRITAL'!A1:Q1 -> INSTITUTO NACIONAL ELECTORAL SISTEMA DE GESTIÓN DE LA CALIDAD MICHOACÁN
D2: Distrito | E2: 2 | F2: Módulo | H2: 160255 | W2: ='PANEL DE CONTROL DISTRITAL'!AC2 -> Fecha de corte 31/12/2023
A4: TABLERO DE CONTROL DISTRITAL DE PROCESOS SUSTANTIVOS DEL SISTEMA DE GESTIÓN DE LA CALIDAD 2023 -2024
A6: ='PANEL DE CONTROL DISTRITAL'!A6 -> Número | B6: ='PANEL DE CONTROL DISTRITAL'!B6 -> PROCESOS SUSTANTIVOS E INDICADORES | I6: SEMANA OPERATIVA | AA6: % AVANCE REGISTRADO
B7: ='PANEL DE CONTROL DISTRITAL'!B7 -> DESCRIPCIÓN | E7: ='PANEL DE CONTROL DISTRITAL'!E7 -> MEDICIÓN | I7: ='PANEL DE CONTROL DISTRITAL'!A5 -> CAMPAÑA ANUAL INTENSA 2023_2024
B9: ='PANEL DE CONTROL DISTRITAL'!B8 -> Proceso | C9: ='PANEL DE CONTROL DISTRITAL'!C8 -> Dueño de Proceso | D9: ='PANEL DE CONTROL DISTRITAL'!D8 -> Indicador | E9: ='PANEL DE CONTROL DISTRITAL'!E8 -> Cálculo | F9: ='PANEL DE CONTROL DISTRITAL'!F8 -> Periodo | G9: ='PANEL DE CONTROL DISTRITAL'!G8 -> Estimado | H9: ='PANEL DE CONTROL DISTRITAL'!H8 -> Nominativo | I9: ='160151'!I9 -> 2023-37 | J9: ='160151'!J9 -> 2023-38 | K9: ='160151'!K9 -> 2023-39 | L9: ='160151'!L9 -> 2023-40 | M9: ='160151'!M9 -> 2023-41 | N9: ='160151'!N9 -> 2023-42 | O9: ='160151'!O9 -> 2023-43 | P9: ='160151'!P9 -> 2023-44 | ... Z9: ='160151'!Z9 -> 2023-54
A10: ='PANEL DE CONTROL DISTRITAL'!A9 -> 1 | B10: ='PANEL DE CONTROL DISTRITAL'!B9 -> ENTREVISTA | C10: ='PANEL DE CONTROL DISTRITAL'!C9 -> Auxiliar de Atención Ciudadana | D10: ='PANEL DE CONTROL DISTRITAL'!D9 -> Efectividad de la entrevista = | E10: ='PANEL DE CONTROL DISTRITAL'!E9 -> (Número de trámites aplicados / (Número de fichas requisitadas - Notificaciones de improcedencia de trámite)) x 100 | F10: ='PANEL DE CONTROL DISTRITAL'!F9 -> Semanal (remesa) | G10: ='PANEL DE CONTROL DISTRITAL'!G9 -> 0.9 | H10: ='PANEL DE CONTROL DISTRITAL'!H9 -> Número de trámites aplicados | I10: 46 | J10: 283 | K10: 272 | L10: 275 | M10: 308 | N10: 344 | O10: 298 | P10: 300 | Q10: 278 | R10: 229 | S10: 382 | T10: 388 | U10: 302 | V10: 382 | W10: 396 | X10: 418 | Y10: 471 | Z10: 359 | AA10: =IFERROR(SUM(I10:Z10)/SUM(I11:Z11),0) -> 1
H11: ='PANEL DE CONTROL DISTRITAL'!H10 -> Número de fichas requisitadas - Notificaciones de improcedencia de trámite | I11: 46 | J11: 283 | K11: 272 | L11: 275 | M11: 308 | N11: 344 | O11: 298 | P11: 300 | Q11: 278 | R11: 229 | S11: 382 | T11: 388 | U11: 302 | V11: 382 | W11: 396 | X11: 418 | Y11: 471 | Z11: 359
A13: ='PANEL DE CONTROL DISTRITAL'!A12 -> 2 | B13: ='PANEL DE CONTROL DISTRITAL'!B12 -> TRÁMITE | C13: ='PANEL DE CONTROL DISTRITAL'!C12 -> Operador de Equipo Tecnológico | D13: ='PANEL DE CONTROL DISTRITAL'!D12 -> Trámites exitosos efectivos= | E13: ='PANEL DE CONTROL DISTRITAL'!E12 -> (Número de trámites exitosos / Número de trámites aplicados) x 100 | F13: ='PANEL DE CONTROL DISTRITAL'!F12 -> Semanal (remesa) | G13: ='PANEL DE CONTROL DISTRITAL'!G12 -> 0.9 | H13: ='PANEL DE CONTROL DISTRITAL'!H12 -> Número de trámites exitosos | I13: 46 | J13: 282 | K13: 270 | L13: 275 | M13: 306 | N13: 344 | O13: 296 | P13: 299 | Q13: 277 | R13: 228 | S13: 381 | T13: 387 | U13: 302 | V13: 381 | W13: 395 | X13: 412 | Y13: 468 | Z13: 356 | AA13: =IFERROR(SUM(I13:Z13)/SUM(I14:Z14),0) -> 0.99546327
H14: ='PANEL DE CONTROL DISTRITAL'!H13 -> Número de trámites aplicados | I14: 46 | J14: 283 | K14: 272 | L14: 275 | M14: 308 | N14: 344 | O14: 298 | P14: 300 | Q14: 278 | R14: 229 | S14: 382 | T14: 388 | U14: 302 | V14: 382 | W14: 396 | X14: 418 | Y14: 471 | Z14: 359
A16: ='PANEL DE CONTROL DISTRITAL'!A15 -> 3 | B16: ='PANEL DE CONTROL DISTRITAL'!B15 -> TRANSFERENCIA | C16: ='PANEL DE CONTROL DISTRITAL'!C15 -> Responsable de Módulo | D16: ='PANEL DE CONTROL DISTRITAL'!D15 -> Transacciones exitosas = | E16: ='PANEL DE CONTROL DISTRITAL'!E15 -> (Número de Archivos de Transacción aceptados /Total de Archivos de Transacción procesados) x100 | F16: ='PANEL DE CONTROL DISTRITAL'!F15 -> Semanal (remesa) | G16: ='PANEL DE CONTROL DISTRITAL'!G15 -> 0.9 | H16: ='PANEL DE CONTROL DISTRITAL'!H15 -> Número de Archivos de Transacción aceptados | I16: 46 | J16: 283 | K16: 272 | L16: 275 | M16: 339 | N16: 344 | O16: 298 | P16: 300 | Q16: 278 | R16: 229 | S16: 382 | T16: 388 | U16: 302 | V16: 382 | W16: 396 | X16: 418 | Y16: 471 | Z16: 359 | AA16: =IFERROR(SUM(I16:Z16)/SUM(I17:Z17),0) -> 1
H17: ='PANEL DE CONTROL DISTRITAL'!H16 -> Total de Archivos de Transacción procesados | I17: 46 | J17: 283 | K17: 272 | L17: 275 | M17: 339 | N17: 344 | O17: 298 | P17: 300 | Q17: 278 | R17: 229 | S17: 382 | T17: 388 | U17: 302 | V17: 382 | W17: 396 | X17: 418 | Y17: 471 | Z17: 359
A19: ='PANEL DE CONTROL DISTRITAL'!A18 -> 4 | B19: ='PANEL DE CONTROL DISTRITAL'!B18 -> CONCILIACIÓN | C19: ='PANEL DE CONTROL DISTRITAL'!C18 -> Responsable de Módulo | D19: ='PANEL DE CONTROL DISTRITAL'!D18 -> Credenciales disponibles para entrega = | E19: ='PANEL DE CONTROL DISTRITAL'!E18 -> ((Credenciales recibidas - Credenciales inconsistentes) / Credenciales recibidas) x 100 | F19: ='PANEL DE CONTROL DISTRITAL'!F18 -> Semanal (remesa) | G19: ='PANEL DE CONTROL DISTRITAL'!G18 -> 0.9 | H19: ='PANEL DE CONTROL DISTRITAL'!H18 -> Credenciales Recibidas - Credenciales inconsistentes | I19: 53 | J19: 236 | K19: 271 | L19: 286 | M19: 339 | N19: 255 | O19: 394 | P19: 240 | Q19: 294 | R19: 284 | S19: 247 | T19: 372 | U19: 237 | V19: 459 | W19: 373 | X19: 478 | Y19: 248 | Z19: 327 | AA19: =IFERROR(SUM(I19:Z19)/SUM(I20:Z20),0) -> 1
H20: ='PANEL DE CONTROL DISTRITAL'!H19 -> Credenciales recibidas | I20: 53 | J20: 236 | K20: 271 | L20: 286 | M20: 339 | N20: 255 | O20: 394 | P20: 240 | Q20: 294 | R20: 284 | S20: 247 | T20: 372 | U20: 237 | V20: 459 | W20: 373 | X20: 478 | Y20: 248 | Z20: 327
A22: ='PANEL DE CONTROL DISTRITAL'!A21 -> 5 | B22: ='PANEL DE CONTROL DISTRITAL'!B21 -> CONCILIACIÓN | C22: ='PANEL DE CONTROL DISTRITAL'!C21 -> Responsable de Módulo | D22: ='PANEL DE CONTROL DISTRITAL'!D21 -> Credenciales disponibles para entrega = | E22: ='PANEL DE CONTROL DISTRITAL'!E21 -> (Credenciales en resguardo / Credenciales totales en SIIRFE disponibles para entrega) x 100 | F22: ='PANEL DE CONTROL DISTRITAL'!F21 -> Semanal (remesa) | G22: ='PANEL DE CONTROL DISTRITAL'!G21 -> 1 | H22: ='PANEL DE CONTROL DISTRITAL'!H21 -> Credenciales en resguardo | I22: 527 | J22: 504 | K22: 495 | L22: 514 | M22: 542 | N22: 520 | O22: 602 | P22: 532 | Q22: 526 | R22: 571 | S22: 497 | T22: 579 | U22: 508 | V22: 605 | W22: 595 | X22: 736 | Y22: 554 | Z22: 502 | AA22: =IFERROR(SUM(I22:Z22)/SUM(I23:Z23),0) -> 1
H23: ='PANEL DE CONTROL DISTRITAL'!H22 -> Credenciales totales en SIIRFE disponibles para entrega | I23: 527 | J23: 504 | K23: 495 | L23: 514 | M23: 542 | N23: 520 | O23: 602 | P23: 532 | Q23: 526 | R23: 571 | S23: 497 | T23: 579 | U23: 508 | V23: 605 | W23: 595 | X23: 736 | Y23: 554 | Z23: 502
A25: ='PANEL DE CONTROL DISTRITAL'!A24 -> 6 | B25: ='PANEL DE CONTROL DISTRITAL'!B24 -> ENTREGA | C25: ='PANEL DE CONTROL DISTRITAL'!C24 -> Operador de Equipo Tecnológico | D25: ='PANEL DE CONTROL DISTRITAL'!D24 -> Efectividad de entrega de CPV en MAC = | E25: ='PANEL DE CONTROL DISTRITAL'!E24 -> (Total de credenciales entregadas / Total de credenciales solicitadas) x 100 | F25: ='PANEL DE CONTROL DISTRITAL'!F24 -> Semanal (remesa) | G25: ='PANEL DE CONTROL DISTRITAL'!G24 -> 0.9 | H25: ='PANEL DE CONTROL DISTRITAL'!H24 -> Total de credenciales entregadas | I25: 63 | J25: 259 | K25: 272 | L25: 267 | M25: 311 | N25: 277 | O25: 312 | P25: 310 | Q25: 299 | R25: 239 | S25: 319 | T25: 290 | U25: 308 | V25: 362 | W25: 381 | X25: 337 | Y25: 430 | Z25: 379 | AA25: =IFERROR(SUM(I25:Z25)/SUM(I26:Z26),0) -> 1
H26: ='PANEL DE CONTROL DISTRITAL'!H25 -> Total de credenciales solicitadas | I26: 63 | J26: 259 | K26: 272 | L26: 267 | M26: 311 | N26: 277 | O26: 312 | P26: 310 | Q26: 299 | R26: 239 | S26: 319 | T26: 290 | U26: 308 | V26: 362 | W26: 381 | X26: 337 | Y26: 430 | Z26: 379
B27: *Registre el valor nominal solicitado en la celda, el resultado proporcional esta automatizado.
I29: Semaforización
J30: Valor que requiere atención y justificación en el apartado de observaciones
J31: Valor suficiente
J32: Valor esperado
B34: CUADRO DE OBSERVACIONES
B35: Descripción | H35: No conformidad

Sheet 160256
A1: ='PANEL DE CONTROL DISTRITAL'!A1:Q1 -> INSTITUTO NACIONAL ELECTORAL SISTEMA DE GESTIÓN DE LA CALIDAD MICHOACÁN
D2: Distrito | E2: 2 | F2: Módulo | H2: 160256 | W2: ='PANEL DE CONTROL DISTRITAL'!AC2 -> Fecha de corte 31/12/2023
A4: TABLERO DE CONTROL DISTRITAL DE PROCESOS SUSTANTIVOS DEL SISTEMA DE GESTIÓN DE LA CALIDAD 2023 -2024
A6: ='PANEL DE CONTROL DISTRITAL'!A6 -> Número | B6: ='PANEL DE CONTROL DISTRITAL'!B6 -> PROCESOS SUSTANTIVOS E INDICADORES | I6: SEMANA OPERATIVA | AA6: % AVANCE REGISTRADO
B7: ='PANEL DE CONTROL DISTRITAL'!B7 -> DESCRIPCIÓN | E7: ='PANEL DE CONTROL DISTRITAL'!E7 -> MEDICIÓN | I7: ='PANEL DE CONTROL DISTRITAL'!A5 -> CAMPAÑA ANUAL INTENSA 2023_2024
B9: ='PANEL DE CONTROL DISTRITAL'!B8 -> Proceso | C9: ='PANEL DE CONTROL DISTRITAL'!C8 -> Dueño de Proceso | D9: ='PANEL DE CONTROL DISTRITAL'!D8 -> Indicador | E9: ='PANEL DE CONTROL DISTRITAL'!E8 -> Cálculo | F9: ='PANEL DE CONTROL DISTRITAL'!F8 -> Periodo | G9: ='PANEL DE CONTROL DISTRITAL'!G8 -> Estimado | H9: ='PANEL DE CONTROL DISTRITAL'!H8 -> Nominativo | I9: ='160151'!I9 -> 2023-37 | J9: ='160151'!J9 -> 2023-38 | K9: ='160151'!K9 -> 2023-39 | L9: ='160151'!L9 -> 2023-40 | M9: ='160151'!M9 -> 2023-41 | N9: ='160151'!N9 -> 2023-42 | O9: ='160151'!O9 -> 2023-43 | P9: ='160151'!P9 -> 2023-44 | ... Z9: ='160151'!Z9 -> 2023-54
A10: ='PANEL DE CONTROL DISTRITAL'!A9 -> 1 | B10: ='PANEL DE CONTROL DISTRITAL'!B9 -> ENTREVISTA | C10: ='PANEL DE CONTROL DISTRITAL'!C9 -> Auxiliar de Atención Ciudadana | D10: ='PANEL DE CONTROL DISTRITAL'!D9 -> Efectividad de la entrevista = | E10: ='PANEL DE CONTROL DISTRITAL'!E9 -> (Número de trámites aplicados / (Número de fichas requisitadas - Notificaciones de improcedencia de trámite)) x 100 | F10: ='PANEL DE CONTROL DISTRITAL'!F9 -> Semanal (remesa) | G10: ='PANEL DE CONTROL DISTRITAL'!G9 -> 0.9 | H10: ='PANEL DE CONTROL DISTRITAL'!H9 -> Número de trámites aplicados | I10: 52 | J10: 352 | K10: 397 | L10: 404 | M10: 409 | N10: 434 | O10: 470 | P10: 431 | Q10: 396 | R10: 316 | S10: 536 | T10: 543 | U10: 453 | V10: 636 | W10: 583 | X10: 552 | Y10: 624 | Z10: 492 | AA10: =IFERROR(SUM(I10:Z10)/SUM(I11:Z11),0) -> 1
H11: ='PANEL DE CONTROL DISTRITAL'!H10 -> Número de fichas requisitadas - Notificaciones de improcedencia de trámite | I11: 52 | J11: 352 | K11: 397 | L11: 404 | M11: 409 | N11: 434 | O11: 470 | P11: 431 | Q11: 396 | R11: 316 | S11: 536 | T11: 543 | U11: 453 | V11: 636 | W11: 583 | X11: 552 | Y11: 624 | Z11: 492
A13: ='PANEL DE CONTROL DISTRITAL'!A12 -> 2 | B13: ='PANEL DE CONTROL DISTRITAL'!B12 -> TRÁMITE | C13: ='PANEL DE CONTROL DISTRITAL'!C12 -> Operador de Equipo Tecnológico | D13: ='PANEL DE CONTROL DISTRITAL'!D12 -> Trámites exitosos efectivos= | E13: ='PANEL DE CONTROL DISTRITAL'!E12 -> (Número de trámites exitosos / Número de trámites aplicados) x 100 | F13: ='PANEL DE CONTROL DISTRITAL'!F12 -> Semanal (remesa) | G13: ='PANEL DE CONTROL DISTRITAL'!G12 -> 0.9 | H13: ='PANEL DE CONTROL DISTRITAL'!H12 -> Número de trámites exitosos | I13: 51 | J13: 351 | K13: 395 | L13: 403 | M13: 407 | N13: 432 | O13: 470 | P13: 430 | Q13: 396 | R13: 315 | S13: 532 | T13: 540 | U13: 451 | V13: 634 | W13: 583 | X13: 550 | Y13: 614 | Z13: 481 | AA13: =IFERROR(SUM(I13:Z13)/SUM(I14:Z14),0) -> 0.99443069
H14: ='PANEL DE CONTROL DISTRITAL'!H13 -> Número de trámites aplicados | I14: 52 | J14: 352 | K14: 397 | L14: 404 | M14: 409 | N14: 434 | O14: 470 | P14: 431 | Q14: 396 | R14: 316 | S14: 536 | T14: 543 | U14: 453 | V14: 636 | W14: 583 | X14: 552 | Y14: 624 | Z14: 492
A16: ='PANEL DE CONTROL DISTRITAL'!A15 -> 3 | B16: ='PANEL DE CONTROL DISTRITAL'!B15 -> TRANSFERENCIA | C16: ='PANEL DE CONTROL DISTRITAL'!C15 -> Responsable de Módulo | D16: ='PANEL DE CONTROL DISTRITAL'!D15 -> Transacciones exitosas = | E16: ='PANEL DE CONTROL DISTRITAL'!E15 -> (Número de Archivos de Transacción aceptados /Total de Archivos de Transacción procesados) x100 | F16: ='PANEL DE CONTROL DISTRITAL'!F15 -> Semanal (remesa) | G16: ='PANEL DE CONTROL DISTRITAL'!G15 -> 0.9 | H16: ='PANEL DE CONTROL DISTRITAL'!H15 -> Número de Archivos de Transacción aceptados | I16: 52 | J16: 352 | K16: 397 | L16: 404 | M16: 409 | N16: 434 | O16: 470 | P16: 431 | Q16: 396 | R16: 316 | S16: 536 | T16: 543 | U16: 453 | V16: 636 | W16: 583 | X16: 552 | Y16: 624 | Z16: 492 | AA16: =IFERROR(SUM(I16:Z16)/SUM(I17:Z17),0) -> 1
H17: ='PANEL DE CONTROL DISTRITAL'!H16 -> Total de Archivos de Transacción procesados | I17: 52 | J17: 352 | K17: 397 | L17: 404 | M17: 409 | N17: 434 | O17: 470 | P17: 431 | Q17: 396 | R17: 316 | S17: 536 | T17: 543 | U17: 453 | V17: 636 | W17: 583 | X17: 552 | Y17: 624 | Z17: 492
A19: ='PANEL DE CONTROL DISTRITAL'!A18 -> 4 | B19: ='PANEL DE CONTROL DISTRITAL'!B18 -> CONCILIACIÓN | C19: ='PANEL DE CONTROL DISTRITAL'!C18 -> Responsable de Módulo | D19: ='PANEL DE CONTROL DISTRITAL'!D18 -> Credenciales disponibles para entrega = | E19: ='PANEL DE CONTROL DISTRITAL'!E18 -> ((Credenciales recibidas - Credenciales inconsistentes) / Credenciales recibidas) x 100 | F19: ='PANEL DE CONTROL DISTRITAL'!F18 -> Semanal (remesa) | G19: ='PANEL DE CONTROL DISTRITAL'!G18 -> 0.9 | H19: ='PANEL DE CONTROL DISTRITAL'!H18 -> Credenciales Recibidas - Credenciales inconsistentes | I19: 0 | J19: 489 | K19: 271 | L19: 493 | M19: 400 | N19: 436 | O19: 479 | P19: 430 | Q19: 389 | R19: 242 | S19: 535 | T19: 433 | U19: 330 | V19: 689 | W19: 620 | X19: 449 | Y19: 560 | Z19: 388 | AA19: =IFERROR(SUM(I19:Z19)/SUM(I20:Z20),0) -> 1
H20: ='PANEL DE CONTROL DISTRITAL'!H19 -> Credenciales recibidas | I20: 0 | J20: 489 | K20: 271 | L20: 493 | M20: 400 | N20: 436 | O20: 479 | P20: 430 | Q20: 389 | R20: 242 | S20: 535 | T20: 433 | U20: 330 | V20: 689 | W20: 620 | X20: 449 | Y20: 560 | Z20: 388
A22: ='PANEL DE CONTROL DISTRITAL'!A21 -> 5 | B22: ='PANEL DE CONTROL DISTRITAL'!B21 -> CONCILIACIÓN | C22: ='PANEL DE CONTROL DISTRITAL'!C21 -> Responsable de Módulo | D22: ='PANEL DE CONTROL DISTRITAL'!D21 -> Credenciales disponibles para entrega = | E22: ='PANEL DE CONTROL DISTRITAL'!E21 -> (Credenciales en resguardo / Credenciales totales en SIIRFE disponibles para entrega) x 100 | F22: ='PANEL DE CONTROL DISTRITAL'!F21 -> Semanal (remesa) | G22: ='PANEL DE CONTROL DISTRITAL'!G21 -> 1 | H22: ='PANEL DE CONTROL DISTRITAL'!H21 -> Credenciales en resguardo | I22: 813 | J22: 878 | K22: 792 | L22: 853 | M22: 840 | N22: 879 | O22: 935 | P22: 884 | Q22: 812 | R22: 798 | S22: 855 | T22: 881 | U22: 696 | V22: 923 | W22: 964 | X22: 806 | Y22: 835 | Z22: 658 | AA22: =IFERROR(SUM(I22:Z22)/SUM(I23:Z23),0) -> 1
H23: ='PANEL DE CONTROL DISTRITAL'!H22 -> Credenciales totales en SIIRFE disponibles para entrega | I23: 813 | J23: 878 | K23: 792 | L23: 853 | M23: 840 | N23: 879 | O23: 935 | P23: 884 | Q23: 812 | R23: 798 | S23: 855 | T23: 881 | U23: 696 | V23: 923 | W23: 964 | X23: 806 | Y23: 835 | Z23: 658
A25: ='PANEL DE CONTROL DISTRITAL'!A24 -> 6 | B25: ='PANEL DE CONTROL DISTRITAL'!B24 -> ENTREGA | C25: ='PANEL DE CONTROL DISTRITAL'!C24 -> Operador de Equipo Tecnológico | D25: ='PANEL DE CONTROL DISTRITAL'!D24 -> Efectividad de entrega de CPV en MAC = | E25: ='PANEL DE CONTROL DISTRITAL'!E24 -> (Total de credenciales entregadas / Total de credenciales solicitadas) x 100 | F25: ='PANEL DE CONTROL DISTRITAL'!F24 -> Semanal (remesa) | G25: ='PANEL DE CONTROL DISTRITAL'!G24 -> 0.9 | H25: ='PANEL DE CONTROL DISTRITAL'!H24 -> Total de credenciales entregadas | I25: 111 | J25: 424 | K25: 340 | L25: 432 | M25: 397 | N25: 387 | O25: 422 | P25: 481 | Q25: 461 | R25: 256 | S25: 471 | T25: 407 | U25: 515 | V25: 461 | W25: 575 | X25: 607 | Y25: 531 | Z25: 565 | AA25: =IFERROR(SUM(I25:Z25)/SUM(I26:Z26),0) -> 1
H26: ='PANEL DE CONTROL DISTRITAL'!H25 -> Total de credenciales solicitadas | I26: 111 | J26: 424 | K26: 340 | L26: 432 | M26: 397 | N26: 387 | O26: 422 | P26: 481 | Q26: 461 | R26: 256 | S26: 471 | T26: 407 | U26: 515 | V26: 461 | W26: 575 | X26: 607 | Y26: 531 | Z26: 565
B27: *Registre el valor nominal solicitado en la celda, el resultado proporcional esta automatizado.
I29: Semaforización
J30: Valor que requiere atención y justificación en el apartado de observaciones
J31: Valor suficiente
J32: Valor esperado
B34: CUADRO DE OBSERVACIONES
B35: Descripción | H35: No conformidad

Sheet 160257
A1: ='PANEL DE CONTROL DISTRITAL'!A1:Q1 -> INSTITUTO NACIONAL ELECTORAL SISTEMA DE GESTIÓN DE LA CALIDAD MICHOACÁN
D2: Distrito | E2: 2 | F2: Módulo | H2: 160257 | W2: ='PANEL DE CONTROL DISTRITAL'!AC2 -> Fecha de corte 31/12/2023
A4: TABLERO DE CONTROL DISTRITAL DE PROCESOS SUSTANTIVOS DEL SISTEMA DE GESTIÓN DE LA CALIDAD 2023 -2024
A6: ='PANEL DE CONTROL DISTRITAL'!A6 -> Número | B6: ='PANEL DE CONTROL DISTRITAL'!B6 -> PROCESOS SUSTANTIVOS E INDICADORES | I6: SEMANA OPERATIVA | AA6: % AVANCE REGISTRADO
B7: ='PANEL DE CONTROL DISTRITAL'!B7 -> DESCRIPCIÓN | E7: ='PANEL DE CONTROL DISTRITAL'!E7 -> MEDICIÓN | I7: ='PANEL DE CONTROL DISTRITAL'!A5 -> CAMPAÑA ANUAL INTENSA 2023_2024
B9: ='PANEL DE CONTROL DISTRITAL'!B8 -> Proceso | C9: ='PANEL DE CONTROL DISTRITAL'!C8 -> Dueño de Proceso | D9: ='PANEL DE CONTROL DISTRITAL'!D8 -> Indicador | E9: ='PANEL DE CONTROL DISTRITAL'!E8 -> Cálculo | F9: ='PANEL DE CONTROL DISTRITAL'!F8 -> Periodo | G9: ='PANEL DE CONTROL DISTRITAL'!G8 -> Estimado | H9: ='PANEL DE CONTROL DISTRITAL'!H8 -> Nominativo | I9: ='160151'!I9 -> 2023-37 | J9: ='160151'!J9 -> 2023-38 | K9: ='160151'!K9 -> 2023-39 | L9: ='160151'!L9 -> 2023-40 | M9: ='160151'!M9 -> 2023-41 | N9: ='160151'!N9 -> 2023-42 | O9: ='160151'!O9 -> 2023-43 | P9: ='160151'!P9 -> 2023-44 | ... Z9: ='160151'!Z9 -> 2023-54
A10: ='PANEL DE CONTROL DISTRITAL'!A9 -> 1 | B10: ='PANEL DE CONTROL DISTRITAL'!B9 -> ENTREVISTA | C10: ='PANEL DE CONTROL DISTRITAL'!C9 -> Auxiliar de Atención Ciudadana | D10: ='PANEL DE CONTROL DISTRITAL'!D9 -> Efectividad de la entrevista = | E10: ='PANEL DE CONTROL DISTRITAL'!E9 -> (Número de trámites aplicados / (Número de fichas requisitadas - Notificaciones de improcedencia de trámite)) x 100 | F10: ='PANEL DE CONTROL DISTRITAL'!F9 -> Semanal (remesa) | G10: ='PANEL DE CONTROL DISTRITAL'!G9 -> 0.9 | H10: ='PANEL DE CONTROL DISTRITAL'!H9 -> Número de trámites aplicados | I10: 12 | J10: 144 | K10: 96 | L10: 105 | M10: 164 | N10: 141 | O10: 58 | P10: 129 | Q10: 181 | R10: 118 | S10: 126 | T10: 176 | U10: 144 | V10: 137 | W10: 222 | X10: 165 | Y10: 118 | Z10: 140 | AA10: =IFERROR(SUM(I10:Z10)/SUM(I11:Z11),0) -> 1
H11: ='PANEL DE CONTROL DISTRITAL'!H10 -> Número de fichas requisitadas - Notificaciones de improcedencia de trámite | I11: 12 | J11: 144 | K11: 96 | L11: 105 | M11: 164 | N11: 141 | O11: 58 | P11: 129 | Q11: 181 | R11: 118 | S11: 126 | T11: 176 | U11: 144 | V11: 137 | W11: 222 | X11: 165 | Y11: 118 | Z11: 140
A13: ='PANEL DE CONTROL DISTRITAL'!A12 -> 2 | B13: ='PANEL DE CONTROL DISTRITAL'!B12 -> TRÁMITE | C13: ='PANEL DE CONTROL DISTRITAL'!C12 -> Operador de Equipo Tecnológico | D13: ='PANEL DE CONTROL DISTRITAL'!D12 -> Trámites exitosos efectivos= | E13: ='PANEL DE CONTROL DISTRITAL'!E12 -> (Número de trámites exitosos / Número de trámites aplicados) x 100 | F13: ='PANEL DE CONTROL DISTRITAL'!F12 -> Semanal (remesa) | G13: ='PANEL DE CONTROL DISTRITAL'!G12 -> 0.9 | H13: ='PANEL DE CONTROL DISTRITAL'!H12 -> Número de trámites exitosos | I13: 12 | J13: 144 | K13: 96 | L13: 104 | M13: 164 | N13: 141 | O13: 57 | P13: 128 | Q13: 178 | R13: 118 | S13: 126 | T13: 173 | U13: 143 | V13: 135 | W13: 220 | X13: 164 | Y13: 117 | Z13: 132 | AA13: =IFERROR(SUM(I13:Z13)/SUM(I14:Z14),0) -> 0.98989899
H14: ='PANEL DE CONTROL DISTRITAL'!H13 -> Número de trámites aplicados | I14: 12 | J14: 144 | K14: 96 | L14: 105 | M14: 164 | N14: 141 | O14: 58 | P14: 129 | Q14: 181 | R14: 118 | S14: 126 | T14: 176 | U14: 144 | V14: 137 | W14: 222 | X14: 165 | Y14: 118 | Z14: 140
A16: ='PANEL DE CONTROL DISTRITAL'!A15 -> 3 | B16: ='PANEL DE CONTROL DISTRITAL'!B15 -> TRANSFERENCIA | C16: ='PANEL DE CONTROL DISTRITAL'!C15 -> Responsable de Módulo | D16: ='PANEL DE CONTROL DISTRITAL'!D15 -> Transacciones exitosas = | E16: ='PANEL DE CONTROL DISTRITAL'!E15 -> (Número de Archivos de Transacción aceptados /Total de Archivos de Transacción procesados) x100 | F16: ='PANEL DE CONTROL DISTRITAL'!F15 -> Semanal (remesa) | G16: ='PANEL DE CONTROL DISTRITAL'!G15 -> 0.9 | H16: ='PANEL DE CONTROL DISTRITAL'!H15 -> Número de Archivos de Transacción aceptados | I16: 12 | J16: 144 | K16: 96 | L16: 105 | M16: 164 | N16: 141 | O16: 58 | P16: 129 | Q16: 181 | R16: 118 | S16: 126 | T16: 176 | U16: 144 | V16: 137 | W16: 222 | X16: 165 | Y16: 118 | Z16: 140 | AA16: =IFERROR(SUM(I16:Z16)/SUM(I17:Z17),0) -> 1
H17: ='PANEL DE CONTROL DISTRITAL'!H16 -> Total de Archivos de Transacción procesados | I17: 12 | J17: 144 | K17: 96 | L17: 105 | M17: 164 | N17: 141 | O17: 58 | P17: 129 | Q17: 181 | R17: 118 | S17: 126 | T17: 176 | U17: 144 | V17: 137 | W17: 222 | X17: 165 | Y17: 118 | Z17: 140
A19: ='PANEL DE CONTROL DISTRITAL'!A18 -> 4 | B19: ='PANEL DE CONTROL DISTRITAL'!B18 -> CONCILIACIÓN | C19: ='PANEL DE CONTROL DISTRITAL'!C18 -> Responsable de Módulo | D19: ='PANEL DE CONTROL DISTRITAL'!D18 -> Credenciales disponibles para entrega = | E19: ='PANEL DE CONTROL DISTRITAL'!E18 -> ((Credenciales recibidas - Credenciales inconsistentes) / Credenciales recibidas) x 100 | F19: ='PANEL DE CONTROL DISTRITAL'!F18 -> Semanal (remesa) | G19: ='PANEL DE CONTROL DISTRITAL'!G18 -> 0.9 | H19: ='PANEL DE CONTROL DISTRITAL'!H18 -> Credenciales Recibidas - Credenciales inconsistentes | I19: 11 | J19: 132 | K19: 104 | L19: 94 | M19: 105 | N19: 209 | O19: 95 | P19: 61 | Q19: 175 | R19: 84 | S19: 159 | T19: 149 | U19: 61 | V19: 236 | W19: 133 | X19: 164 | Y19: 218 | Z19: 83 | AA19: =IFERROR(SUM(I19:Z19)/SUM(I20:Z20),0) -> 1
H20: ='PANEL DE CONTROL DISTRITAL'!H19 -> Credenciales recibidas | I20: 11 | J20: 132 | K20: 104 | L20: 94 | M20: 105 | N20: 209 | O20: 95 | P20: 61 | Q20: 175 | R20: 84 | S20: 159 | T20: 149 | U20: 61 | V20: 236 | W20: 133 | X20: 164 | Y20: 218 | Z20: 83
A22: ='PANEL DE CONTROL DISTRITAL'!A21 -> 5 | B22: ='PANEL DE CONTROL DISTRITAL'!B21 -> CONCILIACIÓN | C22: ='PANEL DE CONTROL DISTRITAL'!C21 -> Responsable de Módulo | D22: ='PANEL DE CONTROL DISTRITAL'!D21 -> Credenciales disponibles para entrega = | E22: ='PANEL DE CONTROL DISTRITAL'!E21 -> (Credenciales en resguardo / Credenciales totales en SIIRFE disponibles para entrega) x 100 | F22: ='PANEL DE CONTROL DISTRITAL'!F21 -> Semanal (remesa) | G22: ='PANEL DE CONTROL DISTRITAL'!G21 -> 1 | H22: ='PANEL DE CONTROL DISTRITAL'!H21 -> Credenciales en resguardo | I22: 427 | J22: 398 | K22: 417 | L22: 435 | M22: 424 | N22: 488 | O22: 544 | P22: 466 | Q22: 451 | R22: 456 | S22: 457 | T22: 484 | U22: 382 | V22: 564 | W22: 543 | X22: 420 | Y22: 522 | Z22: 386 | AA22: =IFERROR(SUM(I22:Z22)/SUM(I23:Z23),0) -> 1
H23: ='PANEL DE CONTROL DISTRITAL'!H22 -> Credenciales totales en SIIRFE disponibles para entrega | I23: 427 | J23: 398 | K23: 417 | L23: 435 | M23: 424 | N23: 488 | O23: 544 | P23: 466 | Q23: 451 | R23: 456 | S23: 457 | T23: 484 | U23: 382 | V23: 564 | W23: 543 | X23: 420 | Y23: 522 | Z23: 386
A25: ='PANEL DE CONTROL DISTRITAL'!A24 -> 6 | B25: ='PANEL DE CONTROL DISTRITAL'!B24 -> ENTREGA | C25: ='PANEL DE CONTROL DISTRITAL'!C24 -> Operador de Equipo Tecnológico | D25: ='PANEL DE CONTROL DISTRITAL'!D24 -> Efectividad de entrega de CPV en MAC = | E25: ='PANEL DE CONTROL DISTRITAL'!E24 -> (Total de credenciales entregadas / Total de credenciales solicitadas) x 100 | F25: ='PANEL DE CONTROL DISTRITAL'!F24 -> Semanal (remesa) | G25: ='PANEL DE CONTROL DISTRITAL'!G24 -> 0.9 | H25: ='PANEL DE CONTROL DISTRITAL'!H24 -> Total de credenciales entregadas | I25: 1 | J25: 161 | K25: 82 | L25: 76 | M25: 116 | N25: 144 | O25: 39 | P25: 139 | Q25: 190 | R25: 79 | S25: 158 | T25: 122 | U25: 163 | V25: 54 | W25: 154 | X25: 136 | Y25: 116 | Z25: 219 | AA25: =IFERROR(SUM(I25:Z25)/SUM(I26:Z26),0) -> 1
H26: ='PANEL DE CONTROL DISTRITAL'!H25 -> Total de credenciales solicitadas | I26: 1 | J26: 161 | K26: 82 | L26: 76 | M26: 116 | N26: 144 | O26: 39 | P26: 139 | Q26: 190 | R26: 79 | S26: 158 | T26: 122 | U26: 163 | V26: 54 | W26: 154 | X26: 136 | Y26: 116 | Z26: 219
B27: *Registre el valor nominal solicitado en la celda, el resultado proporcional esta automatizado.
I29: Semaforización
J30: Valor que requiere atención y justificación en el apartado de observaciones
J31: Valor suficiente
J32: Valor esperado
B34: CUADRO DE OBSERVACIONES
B35: Descripción | H35: No conformidad

Sheet 160258
A1: ='PANEL DE CONTROL DISTRITAL'!A1:Q1 -> INSTITUTO NACIONAL ELECTORAL SISTEMA DE GESTIÓN DE LA CALIDAD MICHOACÁN
D2: Distrito | E2: 2 | F2: Módulo | H2: 160258 | W2: ='PANEL DE CONTROL DISTRITAL'!AC2 -> Fecha de corte 31/12/2023
A4: TABLERO DE CONTROL DISTRITAL DE PROCESOS SUSTANTIVOS DEL SISTEMA DE GESTIÓN DE LA CALIDAD 2023 -2024
A6: ='PANEL DE CONTROL DISTRITAL'!A6 -> Número | B6: ='PANEL DE CONTROL DISTRITAL'!B6 -> PROCESOS SUSTANTIVOS E INDICADORES | I6: SEMANA OPERATIVA | AA6: % AVANCE REGISTRADO
B7: ='PANEL DE CONTROL DISTRITAL'!B7 -> DESCRIPCIÓN | E7: ='PANEL DE CONTROL DISTRITAL'!E7 -> MEDICIÓN | I7: ='PANEL DE CONTROL DISTRITAL'!A5 -> CAMPAÑA ANUAL INTENSA 2023_2024
